BEGIN:VCALENDAR
VERSION:2.0
PRODID:-//achurchnearyou.com//eventfeed//EN
CALSCALE:GREGORIAN
METHOD:PUBLISH
X-WR-TIMEZONE:UTC
BEGIN:VEVENT
SUMMARY:Christingle Service on Christmas Eve at 5pm in church
DTSTART:20251224T170000Z
DTEND:20251224T180000Z
DTSTAMP:20260424T120355Z
UID:12531142025-12-24 17:00:00+00:00achurchnearyou
CATEGORIES:
DESCRIPTION:Come along with your family to our Christingle service
GEO:-2.352056;53.4025
LOCATION:St Albans Broadheath
URL:https://www.achurchnearyou.com/church/12737/service-and-events/events/
 1253114/
END:VEVENT
END:VCALENDAR
