BEGIN:VCALENDAR
VERSION:2.0
PRODID:-//achurchnearyou.com//eventfeed//EN
CALSCALE:GREGORIAN
METHOD:PUBLISH
X-WR-TIMEZONE:UTC
BEGIN:VEVENT
SUMMARY:Sunday Worship
DTSTART;TZID=Europe/London:20260405T103000
DTEND;TZID=Europe/London:20260405T114500
DTSTAMP:20260423T223458Z
UID:9178241775381400.0achurchnearyou
CATEGORIES:
DESCRIPTION:First Sunday: \nAll Age Worship (Family Service)\n\nSecond\, t
 hird and Fourth Sunday: \n Holy Communion\n\nFifth Sundays - something a b
 it different
GEO:-2.352056;53.4025
LOCATION:St Albans Broadheath
URL:https://www.achurchnearyou.com/church/12737/service-and-events/events/
 917824/
END:VEVENT
BEGIN:VEVENT
SUMMARY:Sunday Worship
DTSTART;TZID=Europe/London:20260412T103000
DTEND;TZID=Europe/London:20260412T114500
DTSTAMP:20260423T223458Z
UID:9178241775986200.0achurchnearyou
CATEGORIES:
DESCRIPTION:First Sunday: \nAll Age Worship (Family Service)\n\nSecond\, t
 hird and Fourth Sunday: \n Holy Communion\n\nFifth Sundays - something a b
 it different
GEO:-2.352056;53.4025
LOCATION:St Albans Broadheath
URL:https://www.achurchnearyou.com/church/12737/service-and-events/events/
 917824/
END:VEVENT
BEGIN:VEVENT
SUMMARY:Sunday Worship
DTSTART;TZID=Europe/London:20260419T103000
DTEND;TZID=Europe/London:20260419T114500
DTSTAMP:20260423T223458Z
UID:9178241776591000.0achurchnearyou
CATEGORIES:
DESCRIPTION:First Sunday: \nAll Age Worship (Family Service)\n\nSecond\, t
 hird and Fourth Sunday: \n Holy Communion\n\nFifth Sundays - something a b
 it different
GEO:-2.352056;53.4025
LOCATION:St Albans Broadheath
URL:https://www.achurchnearyou.com/church/12737/service-and-events/events/
 917824/
END:VEVENT
BEGIN:VEVENT
SUMMARY:Sunday Worship
DTSTART;TZID=Europe/London:20260426T103000
DTEND;TZID=Europe/London:20260426T114500
DTSTAMP:20260423T223458Z
UID:9178241777195800.0achurchnearyou
CATEGORIES:
DESCRIPTION:First Sunday: \nAll Age Worship (Family Service)\n\nSecond\, t
 hird and Fourth Sunday: \n Holy Communion\n\nFifth Sundays - something a b
 it different
GEO:-2.352056;53.4025
LOCATION:St Albans Broadheath
URL:https://www.achurchnearyou.com/church/12737/service-and-events/events/
 917824/
END:VEVENT
BEGIN:VEVENT
SUMMARY:Sunday Worship
DTSTART;TZID=Europe/London:20260503T103000
DTEND;TZID=Europe/London:20260503T114500
DTSTAMP:20260423T223458Z
UID:9178241777800600.0achurchnearyou
CATEGORIES:
DESCRIPTION:First Sunday: \nAll Age Worship (Family Service)\n\nSecond\, t
 hird and Fourth Sunday: \n Holy Communion\n\nFifth Sundays - something a b
 it different
GEO:-2.352056;53.4025
LOCATION:St Albans Broadheath
URL:https://www.achurchnearyou.com/church/12737/service-and-events/events/
 917824/
END:VEVENT
BEGIN:VEVENT
SUMMARY:Sunday Worship
DTSTART;TZID=Europe/London:20260510T103000
DTEND;TZID=Europe/London:20260510T114500
DTSTAMP:20260423T223458Z
UID:9178241778405400.0achurchnearyou
CATEGORIES:
DESCRIPTION:First Sunday: \nAll Age Worship (Family Service)\n\nSecond\, t
 hird and Fourth Sunday: \n Holy Communion\n\nFifth Sundays - something a b
 it different
GEO:-2.352056;53.4025
LOCATION:St Albans Broadheath
URL:https://www.achurchnearyou.com/church/12737/service-and-events/events/
 917824/
END:VEVENT
BEGIN:VEVENT
SUMMARY:Sunday Worship
DTSTART;TZID=Europe/London:20260517T103000
DTEND;TZID=Europe/London:20260517T114500
DTSTAMP:20260423T223458Z
UID:9178241779010200.0achurchnearyou
CATEGORIES:
DESCRIPTION:First Sunday: \nAll Age Worship (Family Service)\n\nSecond\, t
 hird and Fourth Sunday: \n Holy Communion\n\nFifth Sundays - something a b
 it different
GEO:-2.352056;53.4025
LOCATION:St Albans Broadheath
URL:https://www.achurchnearyou.com/church/12737/service-and-events/events/
 917824/
END:VEVENT
BEGIN:VEVENT
SUMMARY:Sunday Worship
DTSTART;TZID=Europe/London:20260524T103000
DTEND;TZID=Europe/London:20260524T114500
DTSTAMP:20260423T223458Z
UID:9178241779615000.0achurchnearyou
CATEGORIES:
DESCRIPTION:First Sunday: \nAll Age Worship (Family Service)\n\nSecond\, t
 hird and Fourth Sunday: \n Holy Communion\n\nFifth Sundays - something a b
 it different
GEO:-2.352056;53.4025
LOCATION:St Albans Broadheath
URL:https://www.achurchnearyou.com/church/12737/service-and-events/events/
 917824/
END:VEVENT
BEGIN:VEVENT
SUMMARY:Sunday Worship
DTSTART;TZID=Europe/London:20260531T103000
DTEND;TZID=Europe/London:20260531T114500
DTSTAMP:20260423T223458Z
UID:9178241780219800.0achurchnearyou
CATEGORIES:
DESCRIPTION:First Sunday: \nAll Age Worship (Family Service)\n\nSecond\, t
 hird and Fourth Sunday: \n Holy Communion\n\nFifth Sundays - something a b
 it different
GEO:-2.352056;53.4025
LOCATION:St Albans Broadheath
URL:https://www.achurchnearyou.com/church/12737/service-and-events/events/
 917824/
END:VEVENT
BEGIN:VEVENT
SUMMARY:Sunday Worship
DTSTART;TZID=Europe/London:20260607T103000
DTEND;TZID=Europe/London:20260607T114500
DTSTAMP:20260423T223458Z
UID:9178241780824600.0achurchnearyou
CATEGORIES:
DESCRIPTION:First Sunday: \nAll Age Worship (Family Service)\n\nSecond\, t
 hird and Fourth Sunday: \n Holy Communion\n\nFifth Sundays - something a b
 it different
GEO:-2.352056;53.4025
LOCATION:St Albans Broadheath
URL:https://www.achurchnearyou.com/church/12737/service-and-events/events/
 917824/
END:VEVENT
BEGIN:VEVENT
SUMMARY:Sunday Worship
DTSTART;TZID=Europe/London:20260614T103000
DTEND;TZID=Europe/London:20260614T114500
DTSTAMP:20260423T223458Z
UID:9178241781429400.0achurchnearyou
CATEGORIES:
DESCRIPTION:First Sunday: \nAll Age Worship (Family Service)\n\nSecond\, t
 hird and Fourth Sunday: \n Holy Communion\n\nFifth Sundays - something a b
 it different
GEO:-2.352056;53.4025
LOCATION:St Albans Broadheath
URL:https://www.achurchnearyou.com/church/12737/service-and-events/events/
 917824/
END:VEVENT
BEGIN:VEVENT
SUMMARY:Sunday Worship
DTSTART;TZID=Europe/London:20260621T103000
DTEND;TZID=Europe/London:20260621T114500
DTSTAMP:20260423T223458Z
UID:9178241782034200.0achurchnearyou
CATEGORIES:
DESCRIPTION:First Sunday: \nAll Age Worship (Family Service)\n\nSecond\, t
 hird and Fourth Sunday: \n Holy Communion\n\nFifth Sundays - something a b
 it different
GEO:-2.352056;53.4025
LOCATION:St Albans Broadheath
URL:https://www.achurchnearyou.com/church/12737/service-and-events/events/
 917824/
END:VEVENT
BEGIN:VEVENT
SUMMARY:Sunday Worship
DTSTART;TZID=Europe/London:20260628T103000
DTEND;TZID=Europe/London:20260628T114500
DTSTAMP:20260423T223458Z
UID:9178241782639000.0achurchnearyou
CATEGORIES:
DESCRIPTION:First Sunday: \nAll Age Worship (Family Service)\n\nSecond\, t
 hird and Fourth Sunday: \n Holy Communion\n\nFifth Sundays - something a b
 it different
GEO:-2.352056;53.4025
LOCATION:St Albans Broadheath
URL:https://www.achurchnearyou.com/church/12737/service-and-events/events/
 917824/
END:VEVENT
BEGIN:VEVENT
SUMMARY:Sunday Worship
DTSTART;TZID=Europe/London:20260705T103000
DTEND;TZID=Europe/London:20260705T114500
DTSTAMP:20260423T223458Z
UID:9178241783243800.0achurchnearyou
CATEGORIES:
DESCRIPTION:First Sunday: \nAll Age Worship (Family Service)\n\nSecond\, t
 hird and Fourth Sunday: \n Holy Communion\n\nFifth Sundays - something a b
 it different
GEO:-2.352056;53.4025
LOCATION:St Albans Broadheath
URL:https://www.achurchnearyou.com/church/12737/service-and-events/events/
 917824/
END:VEVENT
BEGIN:VEVENT
SUMMARY:Sunday Worship
DTSTART;TZID=Europe/London:20260712T103000
DTEND;TZID=Europe/London:20260712T114500
DTSTAMP:20260423T223458Z
UID:9178241783848600.0achurchnearyou
CATEGORIES:
DESCRIPTION:First Sunday: \nAll Age Worship (Family Service)\n\nSecond\, t
 hird and Fourth Sunday: \n Holy Communion\n\nFifth Sundays - something a b
 it different
GEO:-2.352056;53.4025
LOCATION:St Albans Broadheath
URL:https://www.achurchnearyou.com/church/12737/service-and-events/events/
 917824/
END:VEVENT
BEGIN:VEVENT
SUMMARY:Sunday Worship
DTSTART;TZID=Europe/London:20260719T103000
DTEND;TZID=Europe/London:20260719T114500
DTSTAMP:20260423T223458Z
UID:9178241784453400.0achurchnearyou
CATEGORIES:
DESCRIPTION:First Sunday: \nAll Age Worship (Family Service)\n\nSecond\, t
 hird and Fourth Sunday: \n Holy Communion\n\nFifth Sundays - something a b
 it different
GEO:-2.352056;53.4025
LOCATION:St Albans Broadheath
URL:https://www.achurchnearyou.com/church/12737/service-and-events/events/
 917824/
END:VEVENT
BEGIN:VEVENT
SUMMARY:Sunday Worship
DTSTART;TZID=Europe/London:20260726T103000
DTEND;TZID=Europe/London:20260726T114500
DTSTAMP:20260423T223458Z
UID:9178241785058200.0achurchnearyou
CATEGORIES:
DESCRIPTION:First Sunday: \nAll Age Worship (Family Service)\n\nSecond\, t
 hird and Fourth Sunday: \n Holy Communion\n\nFifth Sundays - something a b
 it different
GEO:-2.352056;53.4025
LOCATION:St Albans Broadheath
URL:https://www.achurchnearyou.com/church/12737/service-and-events/events/
 917824/
END:VEVENT
BEGIN:VEVENT
SUMMARY:Sunday Worship
DTSTART;TZID=Europe/London:20260802T103000
DTEND;TZID=Europe/London:20260802T114500
DTSTAMP:20260423T223458Z
UID:9178241785663000.0achurchnearyou
CATEGORIES:
DESCRIPTION:First Sunday: \nAll Age Worship (Family Service)\n\nSecond\, t
 hird and Fourth Sunday: \n Holy Communion\n\nFifth Sundays - something a b
 it different
GEO:-2.352056;53.4025
LOCATION:St Albans Broadheath
URL:https://www.achurchnearyou.com/church/12737/service-and-events/events/
 917824/
END:VEVENT
BEGIN:VEVENT
SUMMARY:Sunday Worship
DTSTART;TZID=Europe/London:20260809T103000
DTEND;TZID=Europe/London:20260809T114500
DTSTAMP:20260423T223458Z
UID:9178241786267800.0achurchnearyou
CATEGORIES:
DESCRIPTION:First Sunday: \nAll Age Worship (Family Service)\n\nSecond\, t
 hird and Fourth Sunday: \n Holy Communion\n\nFifth Sundays - something a b
 it different
GEO:-2.352056;53.4025
LOCATION:St Albans Broadheath
URL:https://www.achurchnearyou.com/church/12737/service-and-events/events/
 917824/
END:VEVENT
BEGIN:VEVENT
SUMMARY:Sunday Worship
DTSTART;TZID=Europe/London:20260816T103000
DTEND;TZID=Europe/London:20260816T114500
DTSTAMP:20260423T223458Z
UID:9178241786872600.0achurchnearyou
CATEGORIES:
DESCRIPTION:First Sunday: \nAll Age Worship (Family Service)\n\nSecond\, t
 hird and Fourth Sunday: \n Holy Communion\n\nFifth Sundays - something a b
 it different
GEO:-2.352056;53.4025
LOCATION:St Albans Broadheath
URL:https://www.achurchnearyou.com/church/12737/service-and-events/events/
 917824/
END:VEVENT
BEGIN:VEVENT
SUMMARY:Sunday Worship
DTSTART;TZID=Europe/London:20260823T103000
DTEND;TZID=Europe/London:20260823T114500
DTSTAMP:20260423T223458Z
UID:9178241787477400.0achurchnearyou
CATEGORIES:
DESCRIPTION:First Sunday: \nAll Age Worship (Family Service)\n\nSecond\, t
 hird and Fourth Sunday: \n Holy Communion\n\nFifth Sundays - something a b
 it different
GEO:-2.352056;53.4025
LOCATION:St Albans Broadheath
URL:https://www.achurchnearyou.com/church/12737/service-and-events/events/
 917824/
END:VEVENT
BEGIN:VEVENT
SUMMARY:Sunday Worship
DTSTART;TZID=Europe/London:20260830T103000
DTEND;TZID=Europe/London:20260830T114500
DTSTAMP:20260423T223458Z
UID:9178241788082200.0achurchnearyou
CATEGORIES:
DESCRIPTION:First Sunday: \nAll Age Worship (Family Service)\n\nSecond\, t
 hird and Fourth Sunday: \n Holy Communion\n\nFifth Sundays - something a b
 it different
GEO:-2.352056;53.4025
LOCATION:St Albans Broadheath
URL:https://www.achurchnearyou.com/church/12737/service-and-events/events/
 917824/
END:VEVENT
BEGIN:VEVENT
SUMMARY:Sunday Worship
DTSTART;TZID=Europe/London:20260906T103000
DTEND;TZID=Europe/London:20260906T114500
DTSTAMP:20260423T223458Z
UID:9178241788687000.0achurchnearyou
CATEGORIES:
DESCRIPTION:First Sunday: \nAll Age Worship (Family Service)\n\nSecond\, t
 hird and Fourth Sunday: \n Holy Communion\n\nFifth Sundays - something a b
 it different
GEO:-2.352056;53.4025
LOCATION:St Albans Broadheath
URL:https://www.achurchnearyou.com/church/12737/service-and-events/events/
 917824/
END:VEVENT
BEGIN:VEVENT
SUMMARY:Sunday Worship
DTSTART;TZID=Europe/London:20260913T103000
DTEND;TZID=Europe/London:20260913T114500
DTSTAMP:20260423T223458Z
UID:9178241789291800.0achurchnearyou
CATEGORIES:
DESCRIPTION:First Sunday: \nAll Age Worship (Family Service)\n\nSecond\, t
 hird and Fourth Sunday: \n Holy Communion\n\nFifth Sundays - something a b
 it different
GEO:-2.352056;53.4025
LOCATION:St Albans Broadheath
URL:https://www.achurchnearyou.com/church/12737/service-and-events/events/
 917824/
END:VEVENT
BEGIN:VEVENT
SUMMARY:Sunday Worship
DTSTART;TZID=Europe/London:20260920T103000
DTEND;TZID=Europe/London:20260920T114500
DTSTAMP:20260423T223458Z
UID:9178241789896600.0achurchnearyou
CATEGORIES:
DESCRIPTION:First Sunday: \nAll Age Worship (Family Service)\n\nSecond\, t
 hird and Fourth Sunday: \n Holy Communion\n\nFifth Sundays - something a b
 it different
GEO:-2.352056;53.4025
LOCATION:St Albans Broadheath
URL:https://www.achurchnearyou.com/church/12737/service-and-events/events/
 917824/
END:VEVENT
BEGIN:VEVENT
SUMMARY:Sunday Worship
DTSTART;TZID=Europe/London:20260927T103000
DTEND;TZID=Europe/London:20260927T114500
DTSTAMP:20260423T223458Z
UID:9178241790501400.0achurchnearyou
CATEGORIES:
DESCRIPTION:First Sunday: \nAll Age Worship (Family Service)\n\nSecond\, t
 hird and Fourth Sunday: \n Holy Communion\n\nFifth Sundays - something a b
 it different
GEO:-2.352056;53.4025
LOCATION:St Albans Broadheath
URL:https://www.achurchnearyou.com/church/12737/service-and-events/events/
 917824/
END:VEVENT
END:VCALENDAR
