BEGIN:VCALENDAR
VERSION:2.0
PRODID:-//achurchnearyou.com//eventfeed//EN
CALSCALE:GREGORIAN
METHOD:PUBLISH
X-WR-TIMEZONE:UTC
BEGIN:VEVENT
SUMMARY:Maundy Thursday Eucharist
DTSTART:20260402T173000Z
DTEND:20260402T183000Z
DTSTAMP:20260422T051116Z
UID:12952142026-04-02 17:30:00+00:00achurchnearyou
CATEGORIES:
DESCRIPTION:Stripping of the Altar.
GEO:-2.362082;53.387017
LOCATION:St Margarets
URL:https://www.achurchnearyou.com/church/12738/service-and-events/events/
 1295214/
END:VEVENT
END:VCALENDAR
