BEGIN:VCALENDAR
VERSION:2.0
PRODID:-//achurchnearyou.com//eventfeed//EN
CALSCALE:GREGORIAN
METHOD:PUBLISH
X-WR-TIMEZONE:UTC
BEGIN:VEVENT
SUMMARY:Grave Talk
DTSTART:20250119T140000Z
DTEND:20250119T160000Z
DTSTAMP:20260420T112627Z
UID:11487382025-01-19 14:00:00+00:00achurchnearyou
CATEGORIES:
DESCRIPTION:A café space for those with big questions about death\, dying
  and funerals. Refreshment's provided\, a donation towards cost is welcome
 .\nWhat is it?\nIt’s not easy to think about your own funeral. Talking a
 bout death\, dying and funerals raises big questions that we need to face 
 at some point\, but it’s hard to talk to family and friends.\nThe Church
  of England has been helping people think about these questions for centur
 ies. GraveTalk is a café space\, where people can talk about these big qu
 estions. The conversation is helped along by GraveTalk conversation cards 
 – 52 questions covering five key areas. Life\, Death\, Society\, Funeral
 s and Grief. They vary from “What is your greatest achievement?” to 
 “What does it mean to have a ‘good death’?”\nWhat happens?\nPeople
  arriving will be welcomed by the person running the event and then invite
 d to sit at tables with three or four others. The GraveTalk cards will be 
 on the tables\, and each group picks a question and uses it to start a con
 versation. It doesn’t matter if you only use one question\, or work thro
 ugh all of them! The purpose is to talk and listen.\nLight refreshments ar
 e offered throughout the event\, which lasts about an hour\, or longer if 
 needed.\nHow do I find out more?\nYou can visit the GraveTalk website
LOCATION:Higher Ground Café Bar
URL:https://www.achurchnearyou.com/church/12762/service-and-events/events/
 1148738/
END:VEVENT
END:VCALENDAR
