BEGIN:VCALENDAR
VERSION:2.0
PRODID:-//achurchnearyou.com//eventfeed//EN
CALSCALE:GREGORIAN
METHOD:PUBLISH
X-WR-TIMEZONE:UTC
BEGIN:VEVENT
SUMMARY:Messy Church for Easter
DTSTART:20250419T091500Z
DTEND:20250419T111500Z
DTSTAMP:20260420T040514Z
UID:11827002025-04-19 09:15:00+00:00achurchnearyou
CATEGORIES:
DESCRIPTION:In conjunction with the Easter Egg hunt in the park\, there wi
 ll be a messy church event in St. Stephen's church with crafts and refresh
 ments. If you could let us know you are coming so we get the right amount 
 of sandwiches that would be great!
LOCATION:St Stephens
URL:https://www.achurchnearyou.com/church/12762/service-and-events/events/
 1182700/
END:VEVENT
END:VCALENDAR
