BEGIN:VCALENDAR
VERSION:2.0
PRODID:-//achurchnearyou.com//eventfeed//EN
CALSCALE:GREGORIAN
METHOD:PUBLISH
X-WR-TIMEZONE:UTC
BEGIN:VEVENT
SUMMARY:Swettenham Parish Council Social Evening
DTSTART:20251031T183000Z
DTEND:20251031T233000Z
DTSTAMP:20260424T020301Z
UID:12181692025-10-31 18:30:00+00:00achurchnearyou
CATEGORIES:
DESCRIPTION:Swettenham Parish Council are arranging a village social eveni
 ng with priority given to residents of Swettenham and Kermincham.\n\nThe e
 vening will include a freshly-prepared hot supper\, with drinks to purchas
 e from the bar. \nRaffle\nTickets £25 per person. \n\nIf you wish to atte
 nd this event\, please contact Tricia Sturrock\, Parish Clerk clerk@swette
 nhamparishcouncil.org.uk  07798 751689.
LOCATION:Swettenham Arms
URL:https://www.achurchnearyou.com/church/12775/service-and-events/events/
 1218169/
END:VEVENT
END:VCALENDAR
