BEGIN:VCALENDAR
VERSION:2.0
PRODID:-//achurchnearyou.com//eventfeed//EN
CALSCALE:GREGORIAN
METHOD:PUBLISH
X-WR-TIMEZONE:UTC
BEGIN:VEVENT
SUMMARY:Clonter Fair and Car Boot Sale
DTSTART:20250907T090000Z
DTEND:20250907T150000Z
DTSTAMP:20260424T090748Z
UID:12181792025-09-07 09:00:00+00:00achurchnearyou
CATEGORIES:
DESCRIPTION:In collaboration with Congleton Beartown Classic Car Club.\nRe
 freshments will be served to support church funds. \nThe event is in aid o
 f Visyon and the Clonter Farm Music Trust.
LOCATION:Clonter Opera Theatre
URL:https://clonter.org/event/clonter-fair/
END:VEVENT
END:VCALENDAR
