BEGIN:VCALENDAR
VERSION:2.0
PRODID:-//achurchnearyou.com//eventfeed//EN
CALSCALE:GREGORIAN
METHOD:PUBLISH
X-WR-TIMEZONE:UTC
BEGIN:VEVENT
SUMMARY:Candlelit Carols with Crib
DTSTART;TZID=Europe/London:20251224T180000
DTEND;TZID=Europe/London:20251224T190000
DTSTAMP:20260424T003319Z
UID:9302262025-12-24 18:00:00+00:00achurchnearyou
CATEGORIES:
DESCRIPTION:Our much-loved building of the crib by candlelight\, as Christ
 mas night begins to fall. An opportunity for any children to help tell the
  Christmas story. \nAll are welcome.
GEO:-2.299618;53.201277
LOCATION:St Peter's Church\, Swettenham
URL:https://www.achurchnearyou.com/church/12775/service-and-events/events/
 930226/
END:VEVENT
END:VCALENDAR
