BEGIN:VCALENDAR
VERSION:2.0
PRODID:-//achurchnearyou.com//eventfeed//EN
CALSCALE:GREGORIAN
METHOD:PUBLISH
X-WR-TIMEZONE:UTC
BEGIN:VEVENT
SUMMARY:Family Nativity
DTSTART:20251224T163000Z
DTEND:20251224T173000Z
DTSTAMP:20260424T111726Z
UID:12371212025-12-24 16:30:00+00:00achurchnearyou
CATEGORIES:
DESCRIPTION:A family friendly telling of the Christmas story\, with our su
 per puppets and The Grumpy Owl. We hope to see you.
GEO:-2.376885;53.124766
LOCATION:Christ Church Wheelock
URL:https://www.achurchnearyou.com/church/12777/service-and-events/events/
 1237121/
END:VEVENT
END:VCALENDAR
