BEGIN:VCALENDAR
VERSION:2.0
PRODID:-//achurchnearyou.com//eventfeed//EN
CALSCALE:GREGORIAN
METHOD:PUBLISH
X-WR-TIMEZONE:UTC
BEGIN:VEVENT
SUMMARY:Christmas Day Sung Eucharist
DTSTART:20251225T100000Z
DTEND:20251225T110000Z
DTSTAMP:20260423T162559Z
UID:12704992025-12-25 10:00:00+00:00achurchnearyou
CATEGORIES:
DESCRIPTION:A service of Holy Communion with carols to celebrate our Savio
 ur's birth
GEO:-2.366878;53.303355
LOCATION:St Cross
URL:https://www.achurchnearyou.com/church/12783/service-and-events/events/
 1270499/
END:VEVENT
END:VCALENDAR
