BEGIN:VCALENDAR
VERSION:2.0
PRODID:-//achurchnearyou.com//eventfeed//EN
CALSCALE:GREGORIAN
METHOD:PUBLISH
X-WR-TIMEZONE:UTC
BEGIN:VEVENT
SUMMARY:Story Time Service
DTSTART:20260403T074500Z
DTEND:20260403T083000Z
DTSTAMP:20260423T095403Z
UID:13143382026-04-03 07:45:00+00:00achurchnearyou
CATEGORIES:
DESCRIPTION:a short time of teaching and worship aimed at young children a
 nd their parents / carers.  All are welcome.
GEO:-2.366878;53.303355
LOCATION:St Cross
URL:https://www.achurchnearyou.com/church/12783/service-and-events/events/
 1314338/
END:VEVENT
END:VCALENDAR
