BEGIN:VCALENDAR
VERSION:2.0
PRODID:-//achurchnearyou.com//eventfeed//EN
CALSCALE:GREGORIAN
METHOD:PUBLISH
X-WR-TIMEZONE:UTC
BEGIN:VEVENT
SUMMARY:World Day of Prayer
DTSTART:20260306T180000Z
DTEND:20260306T190000Z
DTSTAMP:20260425T161558Z
UID:12844262026-03-06 18:00:00+00:00achurchnearyou
CATEGORIES:
DESCRIPTION:This annual ecumenical service brings together the four church
 es of Churches Together in Alderley.\nThe 2026 service has been prepared b
 y the women of Nigeria\, with the theme: “I will give you rest\, come.
 ”\nFollowing the service\, refreshments with a Nigerian theme will be se
 rved. Everyone is most welcome to join us for this special evening of pray
 er and fellowship.
GEO:-2.207433;53.269954
LOCATION:St Catherine
URL:https://www.achurchnearyou.com/church/12794/service-and-events/events/
 1284426/
END:VEVENT
END:VCALENDAR
