BEGIN:VCALENDAR
VERSION:2.0
PRODID:-//achurchnearyou.com//eventfeed//EN
CALSCALE:GREGORIAN
METHOD:PUBLISH
X-WR-TIMEZONE:UTC
BEGIN:VEVENT
SUMMARY:The Great Vigil of Easter
DTSTART:20260404T180000Z
DTEND:20260404T183000Z
DTSTAMP:20260422T144833Z
UID:12871372026-04-04 18:00:00+00:00achurchnearyou
CATEGORIES:
DESCRIPTION:On Easter Eve\, we gather in a darkened church to hear passage
 s from the Bible reminding us of God's wonderful plan for the salvation of
  the world.Then we go out into the churchyard as the sun sets\, and light 
 the Paschal Candle from a fire-pit. Coming back into the church we light o
 ur own candles from the Paschal Candle as the Exultet is sung. Do join us 
 for this beautiful\, solemn yet joyful celebration of the first light of t
 he Resurrection.
GEO:-1.068927;51.710252
LOCATION:St Peter’s Great Haseley
URL:https://www.achurchnearyou.com/church/128/service-and-events/events/12
 87137/
END:VEVENT
END:VCALENDAR
