BEGIN:VCALENDAR
VERSION:2.0
PRODID:-//achurchnearyou.com//eventfeed//EN
CALSCALE:GREGORIAN
METHOD:PUBLISH
X-WR-TIMEZONE:UTC
BEGIN:VEVENT
SUMMARY:Service of Healing & Wholess
DTSTART:20251128T110000Z
DTEND:20251128T113000Z
DTSTAMP:20260420T150726Z
UID:12499632025-11-28 11:00:00+00:00achurchnearyou
CATEGORIES:
DESCRIPTION:Join us for this special service of Healing & Wholeness on the
  side chapel of St Mikes\, Macclesfield at 11am on Friday 28th November. A
 ll are welcome.
GEO:-2.124564;53.260251
LOCATION:St Michael & All Angels
URL:https://www.achurchnearyou.com/church/12802/service-and-events/events/
 1249963/
END:VEVENT
END:VCALENDAR
