BEGIN:VCALENDAR
VERSION:2.0
PRODID:-//achurchnearyou.com//eventfeed//EN
CALSCALE:GREGORIAN
METHOD:PUBLISH
X-WR-TIMEZONE:UTC
BEGIN:VEVENT
SUMMARY:Lessons and Carols
DTSTART:20251224T150000Z
DTEND:20251224T160000Z
DTSTAMP:20260421T203745Z
UID:12633732025-12-24 15:00:00+00:00achurchnearyou
CATEGORIES:
DESCRIPTION:A charming service with traditional carols and readings tellin
 g the good news of Jesus' birth.
LOCATION:Forest Chapel
URL:https://www.achurchnearyou.com/church/12810/service-and-events/events/
 1263373/
END:VEVENT
END:VCALENDAR
