BEGIN:VCALENDAR
VERSION:2.0
PRODID:-//achurchnearyou.com//eventfeed//EN
CALSCALE:GREGORIAN
METHOD:PUBLISH
X-WR-TIMEZONE:UTC
BEGIN:VEVENT
SUMMARY:Family Service
DTSTART;TZID=Europe/London:20260517T103000
DTEND;TZID=Europe/London:20260517T111500
DTSTAMP:20260421T152239Z
UID:7813042026-05-17 10:30:00+01:00achurchnearyou
CATEGORIES:
DESCRIPTION:Our family service is held on the third Sunday every month - o
 ur family and children friendly service. Join us for this fun service\, st
 ory themed sermon aimed at our younger members! (often featuring our frien
 d 'Scrap'!) and singing familiar songs and hymns\nAlthough there are no lo
 nger restrictions relating to social distancing etc. during the service we
  provide 'safe areas' where people can maintain social distancing and wear
  face masks if they choose to do so. Every effort is taken to ensure our b
 uilding is kept as safe as possible - including regular 'anti-viral' treat
 ment of the premises.
GEO:-2.09547;53.48018
LOCATION:St Mark's Dukinfield
URL:https://www.achurchnearyou.com/church/12824/service-and-events/events/
 781304/
END:VEVENT
BEGIN:VEVENT
SUMMARY:Family Service
DTSTART;TZID=Europe/London:20260621T103000
DTEND;TZID=Europe/London:20260621T111500
DTSTAMP:20260421T152239Z
UID:7813042026-06-21 10:30:00+01:00achurchnearyou
CATEGORIES:
DESCRIPTION:Our family service is held on the third Sunday every month - o
 ur family and children friendly service. Join us for this fun service\, st
 ory themed sermon aimed at our younger members! (often featuring our frien
 d 'Scrap'!) and singing familiar songs and hymns\nAlthough there are no lo
 nger restrictions relating to social distancing etc. during the service we
  provide 'safe areas' where people can maintain social distancing and wear
  face masks if they choose to do so. Every effort is taken to ensure our b
 uilding is kept as safe as possible - including regular 'anti-viral' treat
 ment of the premises.
GEO:-2.09547;53.48018
LOCATION:St Mark's Dukinfield
URL:https://www.achurchnearyou.com/church/12824/service-and-events/events/
 781304/
END:VEVENT
BEGIN:VEVENT
SUMMARY:Family Service
DTSTART;TZID=Europe/London:20260719T103000
DTEND;TZID=Europe/London:20260719T111500
DTSTAMP:20260421T152239Z
UID:7813042026-07-19 10:30:00+01:00achurchnearyou
CATEGORIES:
DESCRIPTION:Our family service is held on the third Sunday every month - o
 ur family and children friendly service. Join us for this fun service\, st
 ory themed sermon aimed at our younger members! (often featuring our frien
 d 'Scrap'!) and singing familiar songs and hymns\nAlthough there are no lo
 nger restrictions relating to social distancing etc. during the service we
  provide 'safe areas' where people can maintain social distancing and wear
  face masks if they choose to do so. Every effort is taken to ensure our b
 uilding is kept as safe as possible - including regular 'anti-viral' treat
 ment of the premises.
GEO:-2.09547;53.48018
LOCATION:St Mark's Dukinfield
URL:https://www.achurchnearyou.com/church/12824/service-and-events/events/
 781304/
END:VEVENT
BEGIN:VEVENT
SUMMARY:Family Service
DTSTART;TZID=Europe/London:20260816T103000
DTEND;TZID=Europe/London:20260816T111500
DTSTAMP:20260421T152239Z
UID:7813042026-08-16 10:30:00+01:00achurchnearyou
CATEGORIES:
DESCRIPTION:Our family service is held on the third Sunday every month - o
 ur family and children friendly service. Join us for this fun service\, st
 ory themed sermon aimed at our younger members! (often featuring our frien
 d 'Scrap'!) and singing familiar songs and hymns\nAlthough there are no lo
 nger restrictions relating to social distancing etc. during the service we
  provide 'safe areas' where people can maintain social distancing and wear
  face masks if they choose to do so. Every effort is taken to ensure our b
 uilding is kept as safe as possible - including regular 'anti-viral' treat
 ment of the premises.
GEO:-2.09547;53.48018
LOCATION:St Mark's Dukinfield
URL:https://www.achurchnearyou.com/church/12824/service-and-events/events/
 781304/
END:VEVENT
BEGIN:VEVENT
SUMMARY:Family Service
DTSTART;TZID=Europe/London:20260920T103000
DTEND;TZID=Europe/London:20260920T111500
DTSTAMP:20260421T152239Z
UID:7813042026-09-20 10:30:00+01:00achurchnearyou
CATEGORIES:
DESCRIPTION:Our family service is held on the third Sunday every month - o
 ur family and children friendly service. Join us for this fun service\, st
 ory themed sermon aimed at our younger members! (often featuring our frien
 d 'Scrap'!) and singing familiar songs and hymns\nAlthough there are no lo
 nger restrictions relating to social distancing etc. during the service we
  provide 'safe areas' where people can maintain social distancing and wear
  face masks if they choose to do so. Every effort is taken to ensure our b
 uilding is kept as safe as possible - including regular 'anti-viral' treat
 ment of the premises.
GEO:-2.09547;53.48018
LOCATION:St Mark's Dukinfield
URL:https://www.achurchnearyou.com/church/12824/service-and-events/events/
 781304/
END:VEVENT
BEGIN:VEVENT
SUMMARY:Family Service
DTSTART;TZID=Europe/London:20261018T103000
DTEND;TZID=Europe/London:20261018T111500
DTSTAMP:20260421T152239Z
UID:7813042026-10-18 10:30:00+01:00achurchnearyou
CATEGORIES:
DESCRIPTION:Our family service is held on the third Sunday every month - o
 ur family and children friendly service. Join us for this fun service\, st
 ory themed sermon aimed at our younger members! (often featuring our frien
 d 'Scrap'!) and singing familiar songs and hymns\nAlthough there are no lo
 nger restrictions relating to social distancing etc. during the service we
  provide 'safe areas' where people can maintain social distancing and wear
  face masks if they choose to do so. Every effort is taken to ensure our b
 uilding is kept as safe as possible - including regular 'anti-viral' treat
 ment of the premises.
GEO:-2.09547;53.48018
LOCATION:St Mark's Dukinfield
URL:https://www.achurchnearyou.com/church/12824/service-and-events/events/
 781304/
END:VEVENT
BEGIN:VEVENT
SUMMARY:Family Service
DTSTART;TZID=Europe/London:20261115T103000
DTEND;TZID=Europe/London:20261115T111500
DTSTAMP:20260421T152239Z
UID:7813042026-11-15 10:30:00+00:00achurchnearyou
CATEGORIES:
DESCRIPTION:Our family service is held on the third Sunday every month - o
 ur family and children friendly service. Join us for this fun service\, st
 ory themed sermon aimed at our younger members! (often featuring our frien
 d 'Scrap'!) and singing familiar songs and hymns\nAlthough there are no lo
 nger restrictions relating to social distancing etc. during the service we
  provide 'safe areas' where people can maintain social distancing and wear
  face masks if they choose to do so. Every effort is taken to ensure our b
 uilding is kept as safe as possible - including regular 'anti-viral' treat
 ment of the premises.
GEO:-2.09547;53.48018
LOCATION:St Mark's Dukinfield
URL:https://www.achurchnearyou.com/church/12824/service-and-events/events/
 781304/
END:VEVENT
BEGIN:VEVENT
SUMMARY:Family Service
DTSTART;TZID=Europe/London:20261220T103000
DTEND;TZID=Europe/London:20261220T111500
DTSTAMP:20260421T152239Z
UID:7813042026-12-20 10:30:00+00:00achurchnearyou
CATEGORIES:
DESCRIPTION:Our family service is held on the third Sunday every month - o
 ur family and children friendly service. Join us for this fun service\, st
 ory themed sermon aimed at our younger members! (often featuring our frien
 d 'Scrap'!) and singing familiar songs and hymns\nAlthough there are no lo
 nger restrictions relating to social distancing etc. during the service we
  provide 'safe areas' where people can maintain social distancing and wear
  face masks if they choose to do so. Every effort is taken to ensure our b
 uilding is kept as safe as possible - including regular 'anti-viral' treat
 ment of the premises.
GEO:-2.09547;53.48018
LOCATION:St Mark's Dukinfield
URL:https://www.achurchnearyou.com/church/12824/service-and-events/events/
 781304/
END:VEVENT
BEGIN:VEVENT
SUMMARY:Family Service
DTSTART;TZID=Europe/London:20270117T103000
DTEND;TZID=Europe/London:20270117T111500
DTSTAMP:20260421T152239Z
UID:7813042027-01-17 10:30:00+00:00achurchnearyou
CATEGORIES:
DESCRIPTION:Our family service is held on the third Sunday every month - o
 ur family and children friendly service. Join us for this fun service\, st
 ory themed sermon aimed at our younger members! (often featuring our frien
 d 'Scrap'!) and singing familiar songs and hymns\nAlthough there are no lo
 nger restrictions relating to social distancing etc. during the service we
  provide 'safe areas' where people can maintain social distancing and wear
  face masks if they choose to do so. Every effort is taken to ensure our b
 uilding is kept as safe as possible - including regular 'anti-viral' treat
 ment of the premises.
GEO:-2.09547;53.48018
LOCATION:St Mark's Dukinfield
URL:https://www.achurchnearyou.com/church/12824/service-and-events/events/
 781304/
END:VEVENT
BEGIN:VEVENT
SUMMARY:Family Service
DTSTART;TZID=Europe/London:20270221T103000
DTEND;TZID=Europe/London:20270221T111500
DTSTAMP:20260421T152239Z
UID:7813042027-02-21 10:30:00+00:00achurchnearyou
CATEGORIES:
DESCRIPTION:Our family service is held on the third Sunday every month - o
 ur family and children friendly service. Join us for this fun service\, st
 ory themed sermon aimed at our younger members! (often featuring our frien
 d 'Scrap'!) and singing familiar songs and hymns\nAlthough there are no lo
 nger restrictions relating to social distancing etc. during the service we
  provide 'safe areas' where people can maintain social distancing and wear
  face masks if they choose to do so. Every effort is taken to ensure our b
 uilding is kept as safe as possible - including regular 'anti-viral' treat
 ment of the premises.
GEO:-2.09547;53.48018
LOCATION:St Mark's Dukinfield
URL:https://www.achurchnearyou.com/church/12824/service-and-events/events/
 781304/
END:VEVENT
BEGIN:VEVENT
SUMMARY:Family Service
DTSTART;TZID=Europe/London:20270321T103000
DTEND;TZID=Europe/London:20270321T111500
DTSTAMP:20260421T152239Z
UID:7813042027-03-21 10:30:00+00:00achurchnearyou
CATEGORIES:
DESCRIPTION:Our family service is held on the third Sunday every month - o
 ur family and children friendly service. Join us for this fun service\, st
 ory themed sermon aimed at our younger members! (often featuring our frien
 d 'Scrap'!) and singing familiar songs and hymns\nAlthough there are no lo
 nger restrictions relating to social distancing etc. during the service we
  provide 'safe areas' where people can maintain social distancing and wear
  face masks if they choose to do so. Every effort is taken to ensure our b
 uilding is kept as safe as possible - including regular 'anti-viral' treat
 ment of the premises.
GEO:-2.09547;53.48018
LOCATION:St Mark's Dukinfield
URL:https://www.achurchnearyou.com/church/12824/service-and-events/events/
 781304/
END:VEVENT
BEGIN:VEVENT
SUMMARY:Family Service
DTSTART;TZID=Europe/London:20270418T103000
DTEND;TZID=Europe/London:20270418T111500
DTSTAMP:20260421T152239Z
UID:7813042027-04-18 10:30:00+01:00achurchnearyou
CATEGORIES:
DESCRIPTION:Our family service is held on the third Sunday every month - o
 ur family and children friendly service. Join us for this fun service\, st
 ory themed sermon aimed at our younger members! (often featuring our frien
 d 'Scrap'!) and singing familiar songs and hymns\nAlthough there are no lo
 nger restrictions relating to social distancing etc. during the service we
  provide 'safe areas' where people can maintain social distancing and wear
  face masks if they choose to do so. Every effort is taken to ensure our b
 uilding is kept as safe as possible - including regular 'anti-viral' treat
 ment of the premises.
GEO:-2.09547;53.48018
LOCATION:St Mark's Dukinfield
URL:https://www.achurchnearyou.com/church/12824/service-and-events/events/
 781304/
END:VEVENT
END:VCALENDAR
