BEGIN:VCALENDAR
VERSION:2.0
PRODID:-//achurchnearyou.com//eventfeed//EN
CALSCALE:GREGORIAN
METHOD:PUBLISH
X-WR-TIMEZONE:UTC
BEGIN:VEVENT
SUMMARY:Good Friday reflection.
DTSTART;TZID=Europe/London:20260403T110000
DTEND;TZID=Europe/London:20260403T120000
DTSTAMP:20260422T102520Z
UID:13186441775210400.0achurchnearyou
CATEGORIES:
DESCRIPTION:Everyone welcome\,all faiths or none.
LOCATION:St Mochael’s
URL:https://www.achurchnearyou.com/church/12843/service-and-events/events/
 1318644/
END:VEVENT
BEGIN:VEVENT
SUMMARY:Benefice service of holy Communion
DTSTART;TZID=Europe/London:20260412T110000
DTEND;TZID=Europe/London:20260412T120000
DTSTAMP:20260422T102520Z
UID:13231421775988000.0achurchnearyou
CATEGORIES:
DESCRIPTION:Everyone welcome\,all faiths or none.
LOCATION:St Mochael’s
URL:https://www.achurchnearyou.com/church/12843/service-and-events/events/
 1323142/
END:VEVENT
BEGIN:VEVENT
SUMMARY:BCP Morning Prayer
DTSTART;TZID=Europe/London:20260419T110000
DTEND;TZID=Europe/London:20260419T120000
DTSTAMP:20260422T102520Z
UID:13231631776592800.0achurchnearyou
CATEGORIES:
DESCRIPTION:Everyone welcome\,all faiths or none.
LOCATION:St Michael’s
URL:https://www.achurchnearyou.com/church/12843/service-and-events/events/
 1323163/
END:VEVENT
END:VCALENDAR
