BEGIN:VCALENDAR
VERSION:2.0
PRODID:-//achurchnearyou.com//eventfeed//EN
CALSCALE:GREGORIAN
METHOD:PUBLISH
X-WR-TIMEZONE:UTC
BEGIN:VEVENT
SUMMARY:Evening Prayer\, (Prayer Book)\, at Christ Church\, Wheelock
DTSTART;TZID=Europe/London:20220424T163000
DTEND;TZID=Europe/London:20220424T171500
DTSTAMP:20260424T004500Z
UID:8253532022-04-24 16:30:00+01:00achurchnearyou
CATEGORIES:
DESCRIPTION:A traditional Book of Common Prayer service\, with sermon and 
 prayers. Hymns singing to digital music downloaded from Church Near You.
LOCATION:Christ Church Wheelock
URL:https://www.hcanglican.org
END:VEVENT
BEGIN:VEVENT
SUMMARY:Evening Prayer\, (Prayer Book)\, at Christ Church\, Wheelock
DTSTART;TZID=Europe/London:20220522T163000
DTEND;TZID=Europe/London:20220522T171500
DTSTAMP:20260424T004500Z
UID:8253532022-05-22 16:30:00+01:00achurchnearyou
CATEGORIES:
DESCRIPTION:A traditional Book of Common Prayer service\, with sermon and 
 prayers. Hymns singing to digital music downloaded from Church Near You.
LOCATION:Christ Church Wheelock
URL:https://www.hcanglican.org
END:VEVENT
BEGIN:VEVENT
SUMMARY:Evening Prayer\, (Prayer Book)\, at Christ Church\, Wheelock
DTSTART;TZID=Europe/London:20220626T163000
DTEND;TZID=Europe/London:20220626T171500
DTSTAMP:20260424T004500Z
UID:8253532022-06-26 16:30:00+01:00achurchnearyou
CATEGORIES:
DESCRIPTION:A traditional Book of Common Prayer service\, with sermon and 
 prayers. Hymns singing to digital music downloaded from Church Near You.
LOCATION:Christ Church Wheelock
URL:https://www.hcanglican.org
END:VEVENT
BEGIN:VEVENT
SUMMARY:Evening Prayer\, (Prayer Book)\, at Christ Church\, Wheelock
DTSTART;TZID=Europe/London:20220724T163000
DTEND;TZID=Europe/London:20220724T171500
DTSTAMP:20260424T004500Z
UID:8253532022-07-24 16:30:00+01:00achurchnearyou
CATEGORIES:
DESCRIPTION:A traditional Book of Common Prayer service\, with sermon and 
 prayers. Hymns singing to digital music downloaded from Church Near You.
LOCATION:Christ Church Wheelock
URL:https://www.hcanglican.org
END:VEVENT
BEGIN:VEVENT
SUMMARY:Evening Prayer\, (Prayer Book)\, at Christ Church\, Wheelock
DTSTART;TZID=Europe/London:20220828T163000
DTEND;TZID=Europe/London:20220828T171500
DTSTAMP:20260424T004500Z
UID:8253532022-08-28 16:30:00+01:00achurchnearyou
CATEGORIES:
DESCRIPTION:A traditional Book of Common Prayer service\, with sermon and 
 prayers. Hymns singing to digital music downloaded from Church Near You.
LOCATION:Christ Church Wheelock
URL:https://www.hcanglican.org
END:VEVENT
BEGIN:VEVENT
SUMMARY:Evening Prayer\, (Prayer Book)\, at Christ Church\, Wheelock
DTSTART;TZID=Europe/London:20220925T163000
DTEND;TZID=Europe/London:20220925T171500
DTSTAMP:20260424T004500Z
UID:8253532022-09-25 16:30:00+01:00achurchnearyou
CATEGORIES:
DESCRIPTION:A traditional Book of Common Prayer service\, with sermon and 
 prayers. Hymns singing to digital music downloaded from Church Near You.
LOCATION:Christ Church Wheelock
URL:https://www.hcanglican.org
END:VEVENT
BEGIN:VEVENT
SUMMARY:Evening Prayer\, (Prayer Book)\, at Christ Church\, Wheelock
DTSTART;TZID=Europe/London:20221023T163000
DTEND;TZID=Europe/London:20221023T171500
DTSTAMP:20260424T004500Z
UID:8253532022-10-23 16:30:00+01:00achurchnearyou
CATEGORIES:
DESCRIPTION:A traditional Book of Common Prayer service\, with sermon and 
 prayers. Hymns singing to digital music downloaded from Church Near You.
LOCATION:Christ Church Wheelock
URL:https://www.hcanglican.org
END:VEVENT
BEGIN:VEVENT
SUMMARY:Evening Prayer\, (Prayer Book)\, at Christ Church\, Wheelock
DTSTART;TZID=Europe/London:20221127T163000
DTEND;TZID=Europe/London:20221127T171500
DTSTAMP:20260424T004500Z
UID:8253532022-11-27 16:30:00+00:00achurchnearyou
CATEGORIES:
DESCRIPTION:A traditional Book of Common Prayer service\, with sermon and 
 prayers. Hymns singing to digital music downloaded from Church Near You.
LOCATION:Christ Church Wheelock
URL:https://www.hcanglican.org
END:VEVENT
BEGIN:VEVENT
SUMMARY:Evening Prayer\, (Prayer Book)\, at Christ Church\, Wheelock
DTSTART;TZID=Europe/London:20221225T163000
DTEND;TZID=Europe/London:20221225T171500
DTSTAMP:20260424T004500Z
UID:8253532022-12-25 16:30:00+00:00achurchnearyou
CATEGORIES:
DESCRIPTION:A traditional Book of Common Prayer service\, with sermon and 
 prayers. Hymns singing to digital music downloaded from Church Near You.
LOCATION:Christ Church Wheelock
URL:https://www.hcanglican.org
END:VEVENT
BEGIN:VEVENT
SUMMARY:Evening Prayer\, (Prayer Book)\, at Christ Church\, Wheelock
DTSTART;TZID=Europe/London:20230122T163000
DTEND;TZID=Europe/London:20230122T171500
DTSTAMP:20260424T004500Z
UID:8253532023-01-22 16:30:00+00:00achurchnearyou
CATEGORIES:
DESCRIPTION:A traditional Book of Common Prayer service\, with sermon and 
 prayers. Hymns singing to digital music downloaded from Church Near You.
LOCATION:Christ Church Wheelock
URL:https://www.hcanglican.org
END:VEVENT
BEGIN:VEVENT
SUMMARY:Evening Prayer\, (Prayer Book)\, at Christ Church\, Wheelock
DTSTART;TZID=Europe/London:20230226T163000
DTEND;TZID=Europe/London:20230226T171500
DTSTAMP:20260424T004500Z
UID:8253532023-02-26 16:30:00+00:00achurchnearyou
CATEGORIES:
DESCRIPTION:A traditional Book of Common Prayer service\, with sermon and 
 prayers. Hymns singing to digital music downloaded from Church Near You.
LOCATION:Christ Church Wheelock
URL:https://www.hcanglican.org
END:VEVENT
BEGIN:VEVENT
SUMMARY:Evening Prayer\, (Prayer Book)\, at Christ Church\, Wheelock
DTSTART;TZID=Europe/London:20230326T163000
DTEND;TZID=Europe/London:20230326T171500
DTSTAMP:20260424T004500Z
UID:8253532023-03-26 16:30:00+01:00achurchnearyou
CATEGORIES:
DESCRIPTION:A traditional Book of Common Prayer service\, with sermon and 
 prayers. Hymns singing to digital music downloaded from Church Near You.
LOCATION:Christ Church Wheelock
URL:https://www.hcanglican.org
END:VEVENT
BEGIN:VEVENT
SUMMARY:Evening Prayer\, (Prayer Book)\, at Christ Church\, Wheelock
DTSTART;TZID=Europe/London:20230423T163000
DTEND;TZID=Europe/London:20230423T171500
DTSTAMP:20260424T004500Z
UID:8253532023-04-23 16:30:00+01:00achurchnearyou
CATEGORIES:
DESCRIPTION:A traditional Book of Common Prayer service\, with sermon and 
 prayers. Hymns singing to digital music downloaded from Church Near You.
LOCATION:Christ Church Wheelock
URL:https://www.hcanglican.org
END:VEVENT
BEGIN:VEVENT
SUMMARY:Evening Prayer\, (Prayer Book)\, at Christ Church\, Wheelock
DTSTART;TZID=Europe/London:20230528T163000
DTEND;TZID=Europe/London:20230528T171500
DTSTAMP:20260424T004500Z
UID:8253532023-05-28 16:30:00+01:00achurchnearyou
CATEGORIES:
DESCRIPTION:A traditional Book of Common Prayer service\, with sermon and 
 prayers. Hymns singing to digital music downloaded from Church Near You.
LOCATION:Christ Church Wheelock
URL:https://www.hcanglican.org
END:VEVENT
BEGIN:VEVENT
SUMMARY:Evening Prayer\, (Prayer Book)\, at Christ Church\, Wheelock
DTSTART;TZID=Europe/London:20230625T163000
DTEND;TZID=Europe/London:20230625T171500
DTSTAMP:20260424T004500Z
UID:8253532023-06-25 16:30:00+01:00achurchnearyou
CATEGORIES:
DESCRIPTION:A traditional Book of Common Prayer service\, with sermon and 
 prayers. Hymns singing to digital music downloaded from Church Near You.
LOCATION:Christ Church Wheelock
URL:https://www.hcanglican.org
END:VEVENT
BEGIN:VEVENT
SUMMARY:Evening Prayer\, (Prayer Book)\, at Christ Church\, Wheelock
DTSTART;TZID=Europe/London:20230723T163000
DTEND;TZID=Europe/London:20230723T171500
DTSTAMP:20260424T004500Z
UID:8253532023-07-23 16:30:00+01:00achurchnearyou
CATEGORIES:
DESCRIPTION:A traditional Book of Common Prayer service\, with sermon and 
 prayers. Hymns singing to digital music downloaded from Church Near You.
LOCATION:Christ Church Wheelock
URL:https://www.hcanglican.org
END:VEVENT
BEGIN:VEVENT
SUMMARY:Evening Prayer\, (Prayer Book)\, at Christ Church\, Wheelock
DTSTART;TZID=Europe/London:20230827T163000
DTEND;TZID=Europe/London:20230827T171500
DTSTAMP:20260424T004500Z
UID:8253532023-08-27 16:30:00+01:00achurchnearyou
CATEGORIES:
DESCRIPTION:A traditional Book of Common Prayer service\, with sermon and 
 prayers. Hymns singing to digital music downloaded from Church Near You.
LOCATION:Christ Church Wheelock
URL:https://www.hcanglican.org
END:VEVENT
BEGIN:VEVENT
SUMMARY:Evening Prayer\, (Prayer Book)\, at Christ Church\, Wheelock
DTSTART;TZID=Europe/London:20230924T163000
DTEND;TZID=Europe/London:20230924T171500
DTSTAMP:20260424T004500Z
UID:8253532023-09-24 16:30:00+01:00achurchnearyou
CATEGORIES:
DESCRIPTION:A traditional Book of Common Prayer service\, with sermon and 
 prayers. Hymns singing to digital music downloaded from Church Near You.
LOCATION:Christ Church Wheelock
URL:https://www.hcanglican.org
END:VEVENT
BEGIN:VEVENT
SUMMARY:Evening Prayer\, (Prayer Book)\, at Christ Church\, Wheelock
DTSTART;TZID=Europe/London:20231022T163000
DTEND;TZID=Europe/London:20231022T171500
DTSTAMP:20260424T004500Z
UID:8253532023-10-22 16:30:00+01:00achurchnearyou
CATEGORIES:
DESCRIPTION:A traditional Book of Common Prayer service\, with sermon and 
 prayers. Hymns singing to digital music downloaded from Church Near You.
LOCATION:Christ Church Wheelock
URL:https://www.hcanglican.org
END:VEVENT
BEGIN:VEVENT
SUMMARY:Evening Prayer\, (Prayer Book)\, at Christ Church\, Wheelock
DTSTART;TZID=Europe/London:20231126T163000
DTEND;TZID=Europe/London:20231126T171500
DTSTAMP:20260424T004500Z
UID:8253532023-11-26 16:30:00+00:00achurchnearyou
CATEGORIES:
DESCRIPTION:A traditional Book of Common Prayer service\, with sermon and 
 prayers. Hymns singing to digital music downloaded from Church Near You.
LOCATION:Christ Church Wheelock
URL:https://www.hcanglican.org
END:VEVENT
BEGIN:VEVENT
SUMMARY:Evening Prayer\, (Prayer Book)\, at Christ Church\, Wheelock
DTSTART;TZID=Europe/London:20231224T163000
DTEND;TZID=Europe/London:20231224T171500
DTSTAMP:20260424T004500Z
UID:8253532023-12-24 16:30:00+00:00achurchnearyou
CATEGORIES:
DESCRIPTION:A traditional Book of Common Prayer service\, with sermon and 
 prayers. Hymns singing to digital music downloaded from Church Near You.
LOCATION:Christ Church Wheelock
URL:https://www.hcanglican.org
END:VEVENT
BEGIN:VEVENT
SUMMARY:Evening Prayer\, (Prayer Book)\, at Christ Church\, Wheelock
DTSTART;TZID=Europe/London:20240128T163000
DTEND;TZID=Europe/London:20240128T171500
DTSTAMP:20260424T004500Z
UID:8253532024-01-28 16:30:00+00:00achurchnearyou
CATEGORIES:
DESCRIPTION:A traditional Book of Common Prayer service\, with sermon and 
 prayers. Hymns singing to digital music downloaded from Church Near You.
LOCATION:Christ Church Wheelock
URL:https://www.hcanglican.org
END:VEVENT
BEGIN:VEVENT
SUMMARY:Evening Prayer\, (Prayer Book)\, at Christ Church\, Wheelock
DTSTART;TZID=Europe/London:20240225T163000
DTEND;TZID=Europe/London:20240225T171500
DTSTAMP:20260424T004500Z
UID:8253532024-02-25 16:30:00+00:00achurchnearyou
CATEGORIES:
DESCRIPTION:A traditional Book of Common Prayer service\, with sermon and 
 prayers. Hymns singing to digital music downloaded from Church Near You.
LOCATION:Christ Church Wheelock
URL:https://www.hcanglican.org
END:VEVENT
BEGIN:VEVENT
SUMMARY:Evening Prayer\, (Prayer Book)\, at Christ Church\, Wheelock
DTSTART;TZID=Europe/London:20240324T163000
DTEND;TZID=Europe/London:20240324T171500
DTSTAMP:20260424T004500Z
UID:8253532024-03-24 16:30:00+00:00achurchnearyou
CATEGORIES:
DESCRIPTION:A traditional Book of Common Prayer service\, with sermon and 
 prayers. Hymns singing to digital music downloaded from Church Near You.
LOCATION:Christ Church Wheelock
URL:https://www.hcanglican.org
END:VEVENT
BEGIN:VEVENT
SUMMARY:Evening Prayer\, (Prayer Book)\, at Christ Church\, Wheelock
DTSTART;TZID=Europe/London:20240428T163000
DTEND;TZID=Europe/London:20240428T171500
DTSTAMP:20260424T004500Z
UID:8253532024-04-28 16:30:00+01:00achurchnearyou
CATEGORIES:
DESCRIPTION:A traditional Book of Common Prayer service\, with sermon and 
 prayers. Hymns singing to digital music downloaded from Church Near You.
LOCATION:Christ Church Wheelock
URL:https://www.hcanglican.org
END:VEVENT
BEGIN:VEVENT
SUMMARY:Evening Prayer\, (Prayer Book)\, at Christ Church\, Wheelock
DTSTART;TZID=Europe/London:20240526T163000
DTEND;TZID=Europe/London:20240526T171500
DTSTAMP:20260424T004500Z
UID:8253532024-05-26 16:30:00+01:00achurchnearyou
CATEGORIES:
DESCRIPTION:A traditional Book of Common Prayer service\, with sermon and 
 prayers. Hymns singing to digital music downloaded from Church Near You.
LOCATION:Christ Church Wheelock
URL:https://www.hcanglican.org
END:VEVENT
BEGIN:VEVENT
SUMMARY:Evening Prayer\, (Prayer Book)\, at Christ Church\, Wheelock
DTSTART;TZID=Europe/London:20240623T163000
DTEND;TZID=Europe/London:20240623T171500
DTSTAMP:20260424T004500Z
UID:8253532024-06-23 16:30:00+01:00achurchnearyou
CATEGORIES:
DESCRIPTION:A traditional Book of Common Prayer service\, with sermon and 
 prayers. Hymns singing to digital music downloaded from Church Near You.
LOCATION:Christ Church Wheelock
URL:https://www.hcanglican.org
END:VEVENT
BEGIN:VEVENT
SUMMARY:Evening Prayer\, (Prayer Book)\, at Christ Church\, Wheelock
DTSTART;TZID=Europe/London:20240728T163000
DTEND;TZID=Europe/London:20240728T171500
DTSTAMP:20260424T004500Z
UID:8253532024-07-28 16:30:00+01:00achurchnearyou
CATEGORIES:
DESCRIPTION:A traditional Book of Common Prayer service\, with sermon and 
 prayers. Hymns singing to digital music downloaded from Church Near You.
LOCATION:Christ Church Wheelock
URL:https://www.hcanglican.org
END:VEVENT
BEGIN:VEVENT
SUMMARY:Evening Prayer\, (Prayer Book)\, at Christ Church\, Wheelock
DTSTART;TZID=Europe/London:20240825T163000
DTEND;TZID=Europe/London:20240825T171500
DTSTAMP:20260424T004500Z
UID:8253532024-08-25 16:30:00+01:00achurchnearyou
CATEGORIES:
DESCRIPTION:A traditional Book of Common Prayer service\, with sermon and 
 prayers. Hymns singing to digital music downloaded from Church Near You.
LOCATION:Christ Church Wheelock
URL:https://www.hcanglican.org
END:VEVENT
BEGIN:VEVENT
SUMMARY:Evening Prayer\, (Prayer Book)\, at Christ Church\, Wheelock
DTSTART;TZID=Europe/London:20240922T163000
DTEND;TZID=Europe/London:20240922T171500
DTSTAMP:20260424T004500Z
UID:8253532024-09-22 16:30:00+01:00achurchnearyou
CATEGORIES:
DESCRIPTION:A traditional Book of Common Prayer service\, with sermon and 
 prayers. Hymns singing to digital music downloaded from Church Near You.
LOCATION:Christ Church Wheelock
URL:https://www.hcanglican.org
END:VEVENT
BEGIN:VEVENT
SUMMARY:Evening Prayer\, (Prayer Book)\, at Christ Church\, Wheelock
DTSTART;TZID=Europe/London:20241027T163000
DTEND;TZID=Europe/London:20241027T171500
DTSTAMP:20260424T004500Z
UID:8253532024-10-27 16:30:00+00:00achurchnearyou
CATEGORIES:
DESCRIPTION:A traditional Book of Common Prayer service\, with sermon and 
 prayers. Hymns singing to digital music downloaded from Church Near You.
LOCATION:Christ Church Wheelock
URL:https://www.hcanglican.org
END:VEVENT
BEGIN:VEVENT
SUMMARY:Evening Prayer\, (Prayer Book)\, at Christ Church\, Wheelock
DTSTART;TZID=Europe/London:20241124T163000
DTEND;TZID=Europe/London:20241124T171500
DTSTAMP:20260424T004500Z
UID:8253532024-11-24 16:30:00+00:00achurchnearyou
CATEGORIES:
DESCRIPTION:A traditional Book of Common Prayer service\, with sermon and 
 prayers. Hymns singing to digital music downloaded from Church Near You.
LOCATION:Christ Church Wheelock
URL:https://www.hcanglican.org
END:VEVENT
BEGIN:VEVENT
SUMMARY:Evening Prayer\, (Prayer Book)\, at Christ Church\, Wheelock
DTSTART;TZID=Europe/London:20241222T163000
DTEND;TZID=Europe/London:20241222T171500
DTSTAMP:20260424T004500Z
UID:8253532024-12-22 16:30:00+00:00achurchnearyou
CATEGORIES:
DESCRIPTION:A traditional Book of Common Prayer service\, with sermon and 
 prayers. Hymns singing to digital music downloaded from Church Near You.
LOCATION:Christ Church Wheelock
URL:https://www.hcanglican.org
END:VEVENT
BEGIN:VEVENT
SUMMARY:Evening Prayer\, (Prayer Book)\, at Christ Church\, Wheelock
DTSTART;TZID=Europe/London:20250126T163000
DTEND;TZID=Europe/London:20250126T171500
DTSTAMP:20260424T004500Z
UID:8253532025-01-26 16:30:00+00:00achurchnearyou
CATEGORIES:
DESCRIPTION:A traditional Book of Common Prayer service\, with sermon and 
 prayers. Hymns singing to digital music downloaded from Church Near You.
LOCATION:Christ Church Wheelock
URL:https://www.hcanglican.org
END:VEVENT
BEGIN:VEVENT
SUMMARY:Evening Prayer\, (Prayer Book)\, at Christ Church\, Wheelock
DTSTART;TZID=Europe/London:20250223T163000
DTEND;TZID=Europe/London:20250223T171500
DTSTAMP:20260424T004500Z
UID:8253532025-02-23 16:30:00+00:00achurchnearyou
CATEGORIES:
DESCRIPTION:A traditional Book of Common Prayer service\, with sermon and 
 prayers. Hymns singing to digital music downloaded from Church Near You.
LOCATION:Christ Church Wheelock
URL:https://www.hcanglican.org
END:VEVENT
BEGIN:VEVENT
SUMMARY:Evening Prayer\, (Prayer Book)\, at Christ Church\, Wheelock
DTSTART;TZID=Europe/London:20250323T163000
DTEND;TZID=Europe/London:20250323T171500
DTSTAMP:20260424T004500Z
UID:8253532025-03-23 16:30:00+00:00achurchnearyou
CATEGORIES:
DESCRIPTION:A traditional Book of Common Prayer service\, with sermon and 
 prayers. Hymns singing to digital music downloaded from Church Near You.
LOCATION:Christ Church Wheelock
URL:https://www.hcanglican.org
END:VEVENT
BEGIN:VEVENT
SUMMARY:Evening Prayer\, (Prayer Book)\, at Christ Church\, Wheelock
DTSTART;TZID=Europe/London:20250427T163000
DTEND;TZID=Europe/London:20250427T171500
DTSTAMP:20260424T004500Z
UID:8253532025-04-27 16:30:00+01:00achurchnearyou
CATEGORIES:
DESCRIPTION:A traditional Book of Common Prayer service\, with sermon and 
 prayers. Hymns singing to digital music downloaded from Church Near You.
LOCATION:Christ Church Wheelock
URL:https://www.hcanglican.org
END:VEVENT
BEGIN:VEVENT
SUMMARY:Evening Prayer\, (Prayer Book)\, at Christ Church\, Wheelock
DTSTART;TZID=Europe/London:20250525T163000
DTEND;TZID=Europe/London:20250525T171500
DTSTAMP:20260424T004500Z
UID:8253532025-05-25 16:30:00+01:00achurchnearyou
CATEGORIES:
DESCRIPTION:A traditional Book of Common Prayer service\, with sermon and 
 prayers. Hymns singing to digital music downloaded from Church Near You.
LOCATION:Christ Church Wheelock
URL:https://www.hcanglican.org
END:VEVENT
BEGIN:VEVENT
SUMMARY:Evening Prayer\, (Prayer Book)\, at Christ Church\, Wheelock
DTSTART;TZID=Europe/London:20250622T163000
DTEND;TZID=Europe/London:20250622T171500
DTSTAMP:20260424T004500Z
UID:8253532025-06-22 16:30:00+01:00achurchnearyou
CATEGORIES:
DESCRIPTION:A traditional Book of Common Prayer service\, with sermon and 
 prayers. Hymns singing to digital music downloaded from Church Near You.
LOCATION:Christ Church Wheelock
URL:https://www.hcanglican.org
END:VEVENT
BEGIN:VEVENT
SUMMARY:Evening Prayer\, (Prayer Book)\, at Christ Church\, Wheelock
DTSTART;TZID=Europe/London:20250727T163000
DTEND;TZID=Europe/London:20250727T171500
DTSTAMP:20260424T004500Z
UID:8253532025-07-27 16:30:00+01:00achurchnearyou
CATEGORIES:
DESCRIPTION:A traditional Book of Common Prayer service\, with sermon and 
 prayers. Hymns singing to digital music downloaded from Church Near You.
LOCATION:Christ Church Wheelock
URL:https://www.hcanglican.org
END:VEVENT
BEGIN:VEVENT
SUMMARY:Evening Prayer\, (Prayer Book)\, at Christ Church\, Wheelock
DTSTART;TZID=Europe/London:20250824T163000
DTEND;TZID=Europe/London:20250824T171500
DTSTAMP:20260424T004500Z
UID:8253532025-08-24 16:30:00+01:00achurchnearyou
CATEGORIES:
DESCRIPTION:A traditional Book of Common Prayer service\, with sermon and 
 prayers. Hymns singing to digital music downloaded from Church Near You.
LOCATION:Christ Church Wheelock
URL:https://www.hcanglican.org
END:VEVENT
BEGIN:VEVENT
SUMMARY:Evening Prayer\, (Prayer Book)\, at Christ Church\, Wheelock
DTSTART;TZID=Europe/London:20250928T163000
DTEND;TZID=Europe/London:20250928T171500
DTSTAMP:20260424T004500Z
UID:8253532025-09-28 16:30:00+01:00achurchnearyou
CATEGORIES:
DESCRIPTION:A traditional Book of Common Prayer service\, with sermon and 
 prayers. Hymns singing to digital music downloaded from Church Near You.
LOCATION:Christ Church Wheelock
URL:https://www.hcanglican.org
END:VEVENT
BEGIN:VEVENT
SUMMARY:Evening Prayer\, (Prayer Book)\, at Christ Church\, Wheelock
DTSTART;TZID=Europe/London:20251026T163000
DTEND;TZID=Europe/London:20251026T171500
DTSTAMP:20260424T004500Z
UID:8253532025-10-26 16:30:00+00:00achurchnearyou
CATEGORIES:
DESCRIPTION:A traditional Book of Common Prayer service\, with sermon and 
 prayers. Hymns singing to digital music downloaded from Church Near You.
LOCATION:Christ Church Wheelock
URL:https://www.hcanglican.org
END:VEVENT
BEGIN:VEVENT
SUMMARY:Evening Prayer\, (Prayer Book)\, at Christ Church\, Wheelock
DTSTART;TZID=Europe/London:20251123T163000
DTEND;TZID=Europe/London:20251123T171500
DTSTAMP:20260424T004500Z
UID:8253532025-11-23 16:30:00+00:00achurchnearyou
CATEGORIES:
DESCRIPTION:A traditional Book of Common Prayer service\, with sermon and 
 prayers. Hymns singing to digital music downloaded from Church Near You.
LOCATION:Christ Church Wheelock
URL:https://www.hcanglican.org
END:VEVENT
BEGIN:VEVENT
SUMMARY:Evening Prayer\, (Prayer Book)\, at Christ Church\, Wheelock
DTSTART;TZID=Europe/London:20251228T163000
DTEND;TZID=Europe/London:20251228T171500
DTSTAMP:20260424T004500Z
UID:8253532025-12-28 16:30:00+00:00achurchnearyou
CATEGORIES:
DESCRIPTION:A traditional Book of Common Prayer service\, with sermon and 
 prayers. Hymns singing to digital music downloaded from Church Near You.
LOCATION:Christ Church Wheelock
URL:https://www.hcanglican.org
END:VEVENT
BEGIN:VEVENT
SUMMARY:Evening Prayer\, (Prayer Book)\, at Christ Church\, Wheelock
DTSTART;TZID=Europe/London:20260125T163000
DTEND;TZID=Europe/London:20260125T171500
DTSTAMP:20260424T004500Z
UID:8253532026-01-25 16:30:00+00:00achurchnearyou
CATEGORIES:
DESCRIPTION:A traditional Book of Common Prayer service\, with sermon and 
 prayers. Hymns singing to digital music downloaded from Church Near You.
LOCATION:Christ Church Wheelock
URL:https://www.hcanglican.org
END:VEVENT
BEGIN:VEVENT
SUMMARY:Evening Prayer\, (Prayer Book)\, at Christ Church\, Wheelock
DTSTART;TZID=Europe/London:20260222T163000
DTEND;TZID=Europe/London:20260222T171500
DTSTAMP:20260424T004500Z
UID:8253532026-02-22 16:30:00+00:00achurchnearyou
CATEGORIES:
DESCRIPTION:A traditional Book of Common Prayer service\, with sermon and 
 prayers. Hymns singing to digital music downloaded from Church Near You.
LOCATION:Christ Church Wheelock
URL:https://www.hcanglican.org
END:VEVENT
BEGIN:VEVENT
SUMMARY:Evening Prayer\, (Prayer Book)\, at Christ Church\, Wheelock
DTSTART;TZID=Europe/London:20260322T163000
DTEND;TZID=Europe/London:20260322T171500
DTSTAMP:20260424T004500Z
UID:8253532026-03-22 16:30:00+00:00achurchnearyou
CATEGORIES:
DESCRIPTION:A traditional Book of Common Prayer service\, with sermon and 
 prayers. Hymns singing to digital music downloaded from Church Near You.
LOCATION:Christ Church Wheelock
URL:https://www.hcanglican.org
END:VEVENT
BEGIN:VEVENT
SUMMARY:Evening Prayer\, (Prayer Book)\, at Christ Church\, Wheelock
DTSTART;TZID=Europe/London:20260426T163000
DTEND;TZID=Europe/London:20260426T171500
DTSTAMP:20260424T004500Z
UID:8253532026-04-26 16:30:00+01:00achurchnearyou
CATEGORIES:
DESCRIPTION:A traditional Book of Common Prayer service\, with sermon and 
 prayers. Hymns singing to digital music downloaded from Church Near You.
LOCATION:Christ Church Wheelock
URL:https://www.hcanglican.org
END:VEVENT
BEGIN:VEVENT
SUMMARY:Evening Prayer\, (Prayer Book)\, at Christ Church\, Wheelock
DTSTART;TZID=Europe/London:20260524T163000
DTEND;TZID=Europe/London:20260524T171500
DTSTAMP:20260424T004500Z
UID:8253532026-05-24 16:30:00+01:00achurchnearyou
CATEGORIES:
DESCRIPTION:A traditional Book of Common Prayer service\, with sermon and 
 prayers. Hymns singing to digital music downloaded from Church Near You.
LOCATION:Christ Church Wheelock
URL:https://www.hcanglican.org
END:VEVENT
BEGIN:VEVENT
SUMMARY:Evening Prayer\, (Prayer Book)\, at Christ Church\, Wheelock
DTSTART;TZID=Europe/London:20260628T163000
DTEND;TZID=Europe/London:20260628T171500
DTSTAMP:20260424T004500Z
UID:8253532026-06-28 16:30:00+01:00achurchnearyou
CATEGORIES:
DESCRIPTION:A traditional Book of Common Prayer service\, with sermon and 
 prayers. Hymns singing to digital music downloaded from Church Near You.
LOCATION:Christ Church Wheelock
URL:https://www.hcanglican.org
END:VEVENT
BEGIN:VEVENT
SUMMARY:Evening Prayer\, (Prayer Book)\, at Christ Church\, Wheelock
DTSTART;TZID=Europe/London:20260726T163000
DTEND;TZID=Europe/London:20260726T171500
DTSTAMP:20260424T004500Z
UID:8253532026-07-26 16:30:00+01:00achurchnearyou
CATEGORIES:
DESCRIPTION:A traditional Book of Common Prayer service\, with sermon and 
 prayers. Hymns singing to digital music downloaded from Church Near You.
LOCATION:Christ Church Wheelock
URL:https://www.hcanglican.org
END:VEVENT
BEGIN:VEVENT
SUMMARY:Evening Prayer\, (Prayer Book)\, at Christ Church\, Wheelock
DTSTART;TZID=Europe/London:20260823T163000
DTEND;TZID=Europe/London:20260823T171500
DTSTAMP:20260424T004500Z
UID:8253532026-08-23 16:30:00+01:00achurchnearyou
CATEGORIES:
DESCRIPTION:A traditional Book of Common Prayer service\, with sermon and 
 prayers. Hymns singing to digital music downloaded from Church Near You.
LOCATION:Christ Church Wheelock
URL:https://www.hcanglican.org
END:VEVENT
BEGIN:VEVENT
SUMMARY:Evening Prayer\, (Prayer Book)\, at Christ Church\, Wheelock
DTSTART;TZID=Europe/London:20260927T163000
DTEND;TZID=Europe/London:20260927T171500
DTSTAMP:20260424T004500Z
UID:8253532026-09-27 16:30:00+01:00achurchnearyou
CATEGORIES:
DESCRIPTION:A traditional Book of Common Prayer service\, with sermon and 
 prayers. Hymns singing to digital music downloaded from Church Near You.
LOCATION:Christ Church Wheelock
URL:https://www.hcanglican.org
END:VEVENT
BEGIN:VEVENT
SUMMARY:Evening Prayer\, (Prayer Book)\, at Christ Church\, Wheelock
DTSTART;TZID=Europe/London:20261025T163000
DTEND;TZID=Europe/London:20261025T171500
DTSTAMP:20260424T004500Z
UID:8253532026-10-25 16:30:00+00:00achurchnearyou
CATEGORIES:
DESCRIPTION:A traditional Book of Common Prayer service\, with sermon and 
 prayers. Hymns singing to digital music downloaded from Church Near You.
LOCATION:Christ Church Wheelock
URL:https://www.hcanglican.org
END:VEVENT
BEGIN:VEVENT
SUMMARY:Evening Prayer\, (Prayer Book)\, at Christ Church\, Wheelock
DTSTART;TZID=Europe/London:20261122T163000
DTEND;TZID=Europe/London:20261122T171500
DTSTAMP:20260424T004500Z
UID:8253532026-11-22 16:30:00+00:00achurchnearyou
CATEGORIES:
DESCRIPTION:A traditional Book of Common Prayer service\, with sermon and 
 prayers. Hymns singing to digital music downloaded from Church Near You.
LOCATION:Christ Church Wheelock
URL:https://www.hcanglican.org
END:VEVENT
BEGIN:VEVENT
SUMMARY:Evening Prayer\, (Prayer Book)\, at Christ Church\, Wheelock
DTSTART;TZID=Europe/London:20261227T163000
DTEND;TZID=Europe/London:20261227T171500
DTSTAMP:20260424T004500Z
UID:8253532026-12-27 16:30:00+00:00achurchnearyou
CATEGORIES:
DESCRIPTION:A traditional Book of Common Prayer service\, with sermon and 
 prayers. Hymns singing to digital music downloaded from Church Near You.
LOCATION:Christ Church Wheelock
URL:https://www.hcanglican.org
END:VEVENT
BEGIN:VEVENT
SUMMARY:Evening Prayer\, (Prayer Book)\, at Christ Church\, Wheelock
DTSTART;TZID=Europe/London:20270124T163000
DTEND;TZID=Europe/London:20270124T171500
DTSTAMP:20260424T004500Z
UID:8253532027-01-24 16:30:00+00:00achurchnearyou
CATEGORIES:
DESCRIPTION:A traditional Book of Common Prayer service\, with sermon and 
 prayers. Hymns singing to digital music downloaded from Church Near You.
LOCATION:Christ Church Wheelock
URL:https://www.hcanglican.org
END:VEVENT
BEGIN:VEVENT
SUMMARY:Evening Prayer\, (Prayer Book)\, at Christ Church\, Wheelock
DTSTART;TZID=Europe/London:20270228T163000
DTEND;TZID=Europe/London:20270228T171500
DTSTAMP:20260424T004500Z
UID:8253532027-02-28 16:30:00+00:00achurchnearyou
CATEGORIES:
DESCRIPTION:A traditional Book of Common Prayer service\, with sermon and 
 prayers. Hymns singing to digital music downloaded from Church Near You.
LOCATION:Christ Church Wheelock
URL:https://www.hcanglican.org
END:VEVENT
BEGIN:VEVENT
SUMMARY:Evening Prayer\, (Prayer Book)\, at Christ Church\, Wheelock
DTSTART;TZID=Europe/London:20270328T163000
DTEND;TZID=Europe/London:20270328T171500
DTSTAMP:20260424T004500Z
UID:8253532027-03-28 16:30:00+01:00achurchnearyou
CATEGORIES:
DESCRIPTION:A traditional Book of Common Prayer service\, with sermon and 
 prayers. Hymns singing to digital music downloaded from Church Near You.
LOCATION:Christ Church Wheelock
URL:https://www.hcanglican.org
END:VEVENT
END:VCALENDAR
