BEGIN:VCALENDAR
VERSION:2.0
PRODID:-//achurchnearyou.com//eventfeed//EN
CALSCALE:GREGORIAN
METHOD:PUBLISH
X-WR-TIMEZONE:UTC
BEGIN:VEVENT
SUMMARY:VJ Day Tea Party
DTSTART:20250815T090000Z
DTEND:20250815T120000Z
DTSTAMP:20260425T162906Z
UID:12145632025-08-15 09:00:00+00:00achurchnearyou
CATEGORIES:
DESCRIPTION:St Peter's will be open from 10am - 1pm for a 1940s themed tea
  party\, and take part in the national two-minutes silence at 12noon at ou
 r war memorial.\n\nEnjoy tea\, coffee or cold drinks and cakes in our cafe
  area with 1940s music and traditional games.\nShare memories of days gone
  by at our new 'memories chat' table with old pictures/books etc to spark 
 conversations with new friends.\n\nRead the harrowing stories of church me
 mbers who never returned from the horrific Japanese prisoner of war camps\
 , and whose names are forever remembered on our war memorial.\n\nTake time
  out for quiet reflection/prayer or light a candle in the peaceful\, tradi
 tional church.
GEO:-2.159817;53.409414
LOCATION:The Parish Church of St Peter
URL:https://www.achurchnearyou.com/church/12873/service-and-events/events/
 1214563/
END:VEVENT
END:VCALENDAR
