BEGIN:VCALENDAR
VERSION:2.0
PRODID:-//achurchnearyou.com//eventfeed//EN
CALSCALE:GREGORIAN
METHOD:PUBLISH
X-WR-TIMEZONE:UTC
BEGIN:VEVENT
SUMMARY:Maundy Thursday Mass with Footwashing\, Watch & Meditation
DTSTART;TZID=Europe/London:20260402T193000
DTEND;TZID=Europe/London:20260402T213000
DTSTAMP:20260424T194455Z
UID:12996551775154600.0achurchnearyou
CATEGORIES:
DESCRIPTION:Maundy Thursday Mass from the reserved Sacrament with Foot was
 hing\nFollowed by the Watch for one hour with Meditation\n"...could you no
 t watch with me one hour?" Mat 26:40
GEO:-2.159817;53.409414
LOCATION:The Parish Church of St Peter
URL:https://www.achurchnearyou.com/church/12873/service-and-events/events/
 1299655/
END:VEVENT
BEGIN:VEVENT
SUMMARY:Stations of the Cross followed by Liturgy of the Lord's Passion
DTSTART;TZID=Europe/London:20260403T130000
DTEND;TZID=Europe/London:20260403T150000
DTSTAMP:20260424T194455Z
UID:12996571775217600.0achurchnearyou
CATEGORIES:
DESCRIPTION:Pause at each of our stations for prayer and reflection as we 
 follow Christ's journey during Lent\nLiturgy of the Lord's Passion\, silen
 ce until 3pm when we leave church
GEO:-2.159817;53.409414
LOCATION:The Parish Church of St Peter
URL:https://www.achurchnearyou.com/church/12873/service-and-events/events/
 1299657/
END:VEVENT
BEGIN:VEVENT
SUMMARY:Easter Sunday Mass
DTSTART;TZID=Europe/London:20260405T103000
DTEND;TZID=Europe/London:20260405T113000
DTSTAMP:20260424T194455Z
UID:12996591775381400.0achurchnearyou
CATEGORIES:
DESCRIPTION:Christ is Risen\, Alleluia!\n\nSung Mass with refreshments aft
 erwards - all welcome
GEO:-2.159817;53.409414
LOCATION:The Parish Church of St Peter
URL:https://www.achurchnearyou.com/church/12873/service-and-events/events/
 1299659/
END:VEVENT
BEGIN:VEVENT
SUMMARY:Sung Mass
DTSTART;TZID=Europe/London:20260405T103000
DTEND;TZID=Europe/London:20260405T113000
DTSTAMP:20260424T194455Z
UID:717001775381400.0achurchnearyou
CATEGORIES:
DESCRIPTION:Our Sung Mass is the beginning of our week as Christians.  Bro
 ught together on the day of Resurrection\, we renew ourselves in faith and
  community through prayer\, listening to the Word and taking the Sacrament
 \, the great sign and means of grace.  Mass is a joyful and musical occasi
 on with traditional and contemporary hymns and excellent organ music.  You
  will be made very welcome!  We look forward to seeing you there.
GEO:-2.159817;53.409414
LOCATION:The Parish Church of St Peter
URL:http://stpeterstockport.com/services.html
END:VEVENT
BEGIN:VEVENT
SUMMARY:Free Organ Concert
DTSTART;TZID=Europe/London:20260411T100000
DTEND;TZID=Europe/London:20260411T130000
DTSTAMP:20260424T194455Z
UID:12088101775898000.0achurchnearyou
CATEGORIES:
DESCRIPTION:Free monthly concerts on the 2nd Saturday of the month 10am - 
 1pm \nCome & go as you please\nFeaturing different organists & pianists\nT
 ea/coffee & cake £2.50\nRaffle
GEO:-2.159817;53.409414
LOCATION:The Parish Church of St Peter
URL:https://www.achurchnearyou.com/church/12873/service-and-events/events/
 1208810/
END:VEVENT
BEGIN:VEVENT
SUMMARY:Sung Mass
DTSTART;TZID=Europe/London:20260412T103000
DTEND;TZID=Europe/London:20260412T113000
DTSTAMP:20260424T194456Z
UID:717001775986200.0achurchnearyou
CATEGORIES:
DESCRIPTION:Our Sung Mass is the beginning of our week as Christians.  Bro
 ught together on the day of Resurrection\, we renew ourselves in faith and
  community through prayer\, listening to the Word and taking the Sacrament
 \, the great sign and means of grace.  Mass is a joyful and musical occasi
 on with traditional and contemporary hymns and excellent organ music.  You
  will be made very welcome!  We look forward to seeing you there.
GEO:-2.159817;53.409414
LOCATION:The Parish Church of St Peter
URL:http://stpeterstockport.com/services.html
END:VEVENT
BEGIN:VEVENT
SUMMARY:Sung Mass
DTSTART;TZID=Europe/London:20260419T103000
DTEND;TZID=Europe/London:20260419T113000
DTSTAMP:20260424T194456Z
UID:717001776591000.0achurchnearyou
CATEGORIES:
DESCRIPTION:Our Sung Mass is the beginning of our week as Christians.  Bro
 ught together on the day of Resurrection\, we renew ourselves in faith and
  community through prayer\, listening to the Word and taking the Sacrament
 \, the great sign and means of grace.  Mass is a joyful and musical occasi
 on with traditional and contemporary hymns and excellent organ music.  You
  will be made very welcome!  We look forward to seeing you there.
GEO:-2.159817;53.409414
LOCATION:The Parish Church of St Peter
URL:http://stpeterstockport.com/services.html
END:VEVENT
BEGIN:VEVENT
SUMMARY:St George's Day Service & Celebration
DTSTART;TZID=Europe/London:20260423T100000
DTEND;TZID=Europe/London:20260423T130000
DTSTAMP:20260424T194456Z
UID:13229941776934800.0achurchnearyou
CATEGORIES:
DESCRIPTION:Join us as we celebrate England's Patron Saint's Day. \n10am T
 raditional Morning Prayer\n10.30am - 1pm Church open for refreshments and 
 'memories chat'
GEO:-2.159817;53.409414
LOCATION:The Parish Church of St Peter
URL:https://www.achurchnearyou.com/church/12873/service-and-events/events/
 1322994/
END:VEVENT
BEGIN:VEVENT
SUMMARY:Sung Mass
DTSTART;TZID=Europe/London:20260426T103000
DTEND;TZID=Europe/London:20260426T113000
DTSTAMP:20260424T194456Z
UID:717001777195800.0achurchnearyou
CATEGORIES:
DESCRIPTION:Our Sung Mass is the beginning of our week as Christians.  Bro
 ught together on the day of Resurrection\, we renew ourselves in faith and
  community through prayer\, listening to the Word and taking the Sacrament
 \, the great sign and means of grace.  Mass is a joyful and musical occasi
 on with traditional and contemporary hymns and excellent organ music.  You
  will be made very welcome!  We look forward to seeing you there.
GEO:-2.159817;53.409414
LOCATION:The Parish Church of St Peter
URL:http://stpeterstockport.com/services.html
END:VEVENT
BEGIN:VEVENT
SUMMARY:Sung Mass
DTSTART;TZID=Europe/London:20260503T103000
DTEND;TZID=Europe/London:20260503T113000
DTSTAMP:20260424T194456Z
UID:717001777800600.0achurchnearyou
CATEGORIES:
DESCRIPTION:Our Sung Mass is the beginning of our week as Christians.  Bro
 ught together on the day of Resurrection\, we renew ourselves in faith and
  community through prayer\, listening to the Word and taking the Sacrament
 \, the great sign and means of grace.  Mass is a joyful and musical occasi
 on with traditional and contemporary hymns and excellent organ music.  You
  will be made very welcome!  We look forward to seeing you there.
GEO:-2.159817;53.409414
LOCATION:The Parish Church of St Peter
URL:http://stpeterstockport.com/services.html
END:VEVENT
BEGIN:VEVENT
SUMMARY:Free Organ Concert
DTSTART;TZID=Europe/London:20260509T100000
DTEND;TZID=Europe/London:20260509T130000
DTSTAMP:20260424T194456Z
UID:12088101778317200.0achurchnearyou
CATEGORIES:
DESCRIPTION:Free monthly concerts on the 2nd Saturday of the month 10am - 
 1pm \nCome & go as you please\nFeaturing different organists & pianists\nT
 ea/coffee & cake £2.50\nRaffle
GEO:-2.159817;53.409414
LOCATION:The Parish Church of St Peter
URL:https://www.achurchnearyou.com/church/12873/service-and-events/events/
 1208810/
END:VEVENT
BEGIN:VEVENT
SUMMARY:Sung Mass
DTSTART;TZID=Europe/London:20260510T103000
DTEND;TZID=Europe/London:20260510T113000
DTSTAMP:20260424T194456Z
UID:717001778405400.0achurchnearyou
CATEGORIES:
DESCRIPTION:Our Sung Mass is the beginning of our week as Christians.  Bro
 ught together on the day of Resurrection\, we renew ourselves in faith and
  community through prayer\, listening to the Word and taking the Sacrament
 \, the great sign and means of grace.  Mass is a joyful and musical occasi
 on with traditional and contemporary hymns and excellent organ music.  You
  will be made very welcome!  We look forward to seeing you there.
GEO:-2.159817;53.409414
LOCATION:The Parish Church of St Peter
URL:http://stpeterstockport.com/services.html
END:VEVENT
BEGIN:VEVENT
SUMMARY:Sung Mass
DTSTART;TZID=Europe/London:20260517T103000
DTEND;TZID=Europe/London:20260517T113000
DTSTAMP:20260424T194456Z
UID:717001779010200.0achurchnearyou
CATEGORIES:
DESCRIPTION:Our Sung Mass is the beginning of our week as Christians.  Bro
 ught together on the day of Resurrection\, we renew ourselves in faith and
  community through prayer\, listening to the Word and taking the Sacrament
 \, the great sign and means of grace.  Mass is a joyful and musical occasi
 on with traditional and contemporary hymns and excellent organ music.  You
  will be made very welcome!  We look forward to seeing you there.
GEO:-2.159817;53.409414
LOCATION:The Parish Church of St Peter
URL:http://stpeterstockport.com/services.html
END:VEVENT
BEGIN:VEVENT
SUMMARY:Sung Mass
DTSTART;TZID=Europe/London:20260524T103000
DTEND;TZID=Europe/London:20260524T113000
DTSTAMP:20260424T194456Z
UID:717001779615000.0achurchnearyou
CATEGORIES:
DESCRIPTION:Our Sung Mass is the beginning of our week as Christians.  Bro
 ught together on the day of Resurrection\, we renew ourselves in faith and
  community through prayer\, listening to the Word and taking the Sacrament
 \, the great sign and means of grace.  Mass is a joyful and musical occasi
 on with traditional and contemporary hymns and excellent organ music.  You
  will be made very welcome!  We look forward to seeing you there.
GEO:-2.159817;53.409414
LOCATION:The Parish Church of St Peter
URL:http://stpeterstockport.com/services.html
END:VEVENT
BEGIN:VEVENT
SUMMARY:Sung Mass
DTSTART;TZID=Europe/London:20260531T103000
DTEND;TZID=Europe/London:20260531T113000
DTSTAMP:20260424T194456Z
UID:717001780219800.0achurchnearyou
CATEGORIES:
DESCRIPTION:Our Sung Mass is the beginning of our week as Christians.  Bro
 ught together on the day of Resurrection\, we renew ourselves in faith and
  community through prayer\, listening to the Word and taking the Sacrament
 \, the great sign and means of grace.  Mass is a joyful and musical occasi
 on with traditional and contemporary hymns and excellent organ music.  You
  will be made very welcome!  We look forward to seeing you there.
GEO:-2.159817;53.409414
LOCATION:The Parish Church of St Peter
URL:http://stpeterstockport.com/services.html
END:VEVENT
BEGIN:VEVENT
SUMMARY:Sung Mass
DTSTART;TZID=Europe/London:20260607T103000
DTEND;TZID=Europe/London:20260607T113000
DTSTAMP:20260424T194456Z
UID:717001780824600.0achurchnearyou
CATEGORIES:
DESCRIPTION:Our Sung Mass is the beginning of our week as Christians.  Bro
 ught together on the day of Resurrection\, we renew ourselves in faith and
  community through prayer\, listening to the Word and taking the Sacrament
 \, the great sign and means of grace.  Mass is a joyful and musical occasi
 on with traditional and contemporary hymns and excellent organ music.  You
  will be made very welcome!  We look forward to seeing you there.
GEO:-2.159817;53.409414
LOCATION:The Parish Church of St Peter
URL:http://stpeterstockport.com/services.html
END:VEVENT
BEGIN:VEVENT
SUMMARY:Free Organ Concert
DTSTART;TZID=Europe/London:20260613T100000
DTEND;TZID=Europe/London:20260613T130000
DTSTAMP:20260424T194456Z
UID:12088101781341200.0achurchnearyou
CATEGORIES:
DESCRIPTION:Free monthly concerts on the 2nd Saturday of the month 10am - 
 1pm \nCome & go as you please\nFeaturing different organists & pianists\nT
 ea/coffee & cake £2.50\nRaffle
GEO:-2.159817;53.409414
LOCATION:The Parish Church of St Peter
URL:https://www.achurchnearyou.com/church/12873/service-and-events/events/
 1208810/
END:VEVENT
BEGIN:VEVENT
SUMMARY:Sung Mass
DTSTART;TZID=Europe/London:20260614T103000
DTEND;TZID=Europe/London:20260614T113000
DTSTAMP:20260424T194456Z
UID:717001781429400.0achurchnearyou
CATEGORIES:
DESCRIPTION:Our Sung Mass is the beginning of our week as Christians.  Bro
 ught together on the day of Resurrection\, we renew ourselves in faith and
  community through prayer\, listening to the Word and taking the Sacrament
 \, the great sign and means of grace.  Mass is a joyful and musical occasi
 on with traditional and contemporary hymns and excellent organ music.  You
  will be made very welcome!  We look forward to seeing you there.
GEO:-2.159817;53.409414
LOCATION:The Parish Church of St Peter
URL:http://stpeterstockport.com/services.html
END:VEVENT
BEGIN:VEVENT
SUMMARY:Sung Mass
DTSTART;TZID=Europe/London:20260621T103000
DTEND;TZID=Europe/London:20260621T113000
DTSTAMP:20260424T194456Z
UID:717001782034200.0achurchnearyou
CATEGORIES:
DESCRIPTION:Our Sung Mass is the beginning of our week as Christians.  Bro
 ught together on the day of Resurrection\, we renew ourselves in faith and
  community through prayer\, listening to the Word and taking the Sacrament
 \, the great sign and means of grace.  Mass is a joyful and musical occasi
 on with traditional and contemporary hymns and excellent organ music.  You
  will be made very welcome!  We look forward to seeing you there.
GEO:-2.159817;53.409414
LOCATION:The Parish Church of St Peter
URL:http://stpeterstockport.com/services.html
END:VEVENT
BEGIN:VEVENT
SUMMARY:Sung Mass
DTSTART;TZID=Europe/London:20260628T103000
DTEND;TZID=Europe/London:20260628T113000
DTSTAMP:20260424T194456Z
UID:717001782639000.0achurchnearyou
CATEGORIES:
DESCRIPTION:Our Sung Mass is the beginning of our week as Christians.  Bro
 ught together on the day of Resurrection\, we renew ourselves in faith and
  community through prayer\, listening to the Word and taking the Sacrament
 \, the great sign and means of grace.  Mass is a joyful and musical occasi
 on with traditional and contemporary hymns and excellent organ music.  You
  will be made very welcome!  We look forward to seeing you there.
GEO:-2.159817;53.409414
LOCATION:The Parish Church of St Peter
URL:http://stpeterstockport.com/services.html
END:VEVENT
BEGIN:VEVENT
SUMMARY:Sung Mass
DTSTART;TZID=Europe/London:20260705T103000
DTEND;TZID=Europe/London:20260705T113000
DTSTAMP:20260424T194456Z
UID:717001783243800.0achurchnearyou
CATEGORIES:
DESCRIPTION:Our Sung Mass is the beginning of our week as Christians.  Bro
 ught together on the day of Resurrection\, we renew ourselves in faith and
  community through prayer\, listening to the Word and taking the Sacrament
 \, the great sign and means of grace.  Mass is a joyful and musical occasi
 on with traditional and contemporary hymns and excellent organ music.  You
  will be made very welcome!  We look forward to seeing you there.
GEO:-2.159817;53.409414
LOCATION:The Parish Church of St Peter
URL:http://stpeterstockport.com/services.html
END:VEVENT
BEGIN:VEVENT
SUMMARY:Free Organ Concert
DTSTART;TZID=Europe/London:20260711T100000
DTEND;TZID=Europe/London:20260711T130000
DTSTAMP:20260424T194456Z
UID:12088101783760400.0achurchnearyou
CATEGORIES:
DESCRIPTION:Free monthly concerts on the 2nd Saturday of the month 10am - 
 1pm \nCome & go as you please\nFeaturing different organists & pianists\nT
 ea/coffee & cake £2.50\nRaffle
GEO:-2.159817;53.409414
LOCATION:The Parish Church of St Peter
URL:https://www.achurchnearyou.com/church/12873/service-and-events/events/
 1208810/
END:VEVENT
BEGIN:VEVENT
SUMMARY:Sung Mass
DTSTART;TZID=Europe/London:20260712T103000
DTEND;TZID=Europe/London:20260712T113000
DTSTAMP:20260424T194456Z
UID:717001783848600.0achurchnearyou
CATEGORIES:
DESCRIPTION:Our Sung Mass is the beginning of our week as Christians.  Bro
 ught together on the day of Resurrection\, we renew ourselves in faith and
  community through prayer\, listening to the Word and taking the Sacrament
 \, the great sign and means of grace.  Mass is a joyful and musical occasi
 on with traditional and contemporary hymns and excellent organ music.  You
  will be made very welcome!  We look forward to seeing you there.
GEO:-2.159817;53.409414
LOCATION:The Parish Church of St Peter
URL:http://stpeterstockport.com/services.html
END:VEVENT
BEGIN:VEVENT
SUMMARY:Sung Mass
DTSTART;TZID=Europe/London:20260719T103000
DTEND;TZID=Europe/London:20260719T113000
DTSTAMP:20260424T194456Z
UID:717001784453400.0achurchnearyou
CATEGORIES:
DESCRIPTION:Our Sung Mass is the beginning of our week as Christians.  Bro
 ught together on the day of Resurrection\, we renew ourselves in faith and
  community through prayer\, listening to the Word and taking the Sacrament
 \, the great sign and means of grace.  Mass is a joyful and musical occasi
 on with traditional and contemporary hymns and excellent organ music.  You
  will be made very welcome!  We look forward to seeing you there.
GEO:-2.159817;53.409414
LOCATION:The Parish Church of St Peter
URL:http://stpeterstockport.com/services.html
END:VEVENT
BEGIN:VEVENT
SUMMARY:Sung Mass
DTSTART;TZID=Europe/London:20260726T103000
DTEND;TZID=Europe/London:20260726T113000
DTSTAMP:20260424T194456Z
UID:717001785058200.0achurchnearyou
CATEGORIES:
DESCRIPTION:Our Sung Mass is the beginning of our week as Christians.  Bro
 ught together on the day of Resurrection\, we renew ourselves in faith and
  community through prayer\, listening to the Word and taking the Sacrament
 \, the great sign and means of grace.  Mass is a joyful and musical occasi
 on with traditional and contemporary hymns and excellent organ music.  You
  will be made very welcome!  We look forward to seeing you there.
GEO:-2.159817;53.409414
LOCATION:The Parish Church of St Peter
URL:http://stpeterstockport.com/services.html
END:VEVENT
BEGIN:VEVENT
SUMMARY:Sung Mass
DTSTART;TZID=Europe/London:20260802T103000
DTEND;TZID=Europe/London:20260802T113000
DTSTAMP:20260424T194456Z
UID:717001785663000.0achurchnearyou
CATEGORIES:
DESCRIPTION:Our Sung Mass is the beginning of our week as Christians.  Bro
 ught together on the day of Resurrection\, we renew ourselves in faith and
  community through prayer\, listening to the Word and taking the Sacrament
 \, the great sign and means of grace.  Mass is a joyful and musical occasi
 on with traditional and contemporary hymns and excellent organ music.  You
  will be made very welcome!  We look forward to seeing you there.
GEO:-2.159817;53.409414
LOCATION:The Parish Church of St Peter
URL:http://stpeterstockport.com/services.html
END:VEVENT
BEGIN:VEVENT
SUMMARY:Free Organ Concert
DTSTART;TZID=Europe/London:20260808T100000
DTEND;TZID=Europe/London:20260808T130000
DTSTAMP:20260424T194456Z
UID:12088101786179600.0achurchnearyou
CATEGORIES:
DESCRIPTION:Free monthly concerts on the 2nd Saturday of the month 10am - 
 1pm \nCome & go as you please\nFeaturing different organists & pianists\nT
 ea/coffee & cake £2.50\nRaffle
GEO:-2.159817;53.409414
LOCATION:The Parish Church of St Peter
URL:https://www.achurchnearyou.com/church/12873/service-and-events/events/
 1208810/
END:VEVENT
BEGIN:VEVENT
SUMMARY:Sung Mass
DTSTART;TZID=Europe/London:20260809T103000
DTEND;TZID=Europe/London:20260809T113000
DTSTAMP:20260424T194456Z
UID:717001786267800.0achurchnearyou
CATEGORIES:
DESCRIPTION:Our Sung Mass is the beginning of our week as Christians.  Bro
 ught together on the day of Resurrection\, we renew ourselves in faith and
  community through prayer\, listening to the Word and taking the Sacrament
 \, the great sign and means of grace.  Mass is a joyful and musical occasi
 on with traditional and contemporary hymns and excellent organ music.  You
  will be made very welcome!  We look forward to seeing you there.
GEO:-2.159817;53.409414
LOCATION:The Parish Church of St Peter
URL:http://stpeterstockport.com/services.html
END:VEVENT
BEGIN:VEVENT
SUMMARY:Sung Mass
DTSTART;TZID=Europe/London:20260816T103000
DTEND;TZID=Europe/London:20260816T113000
DTSTAMP:20260424T194456Z
UID:717001786872600.0achurchnearyou
CATEGORIES:
DESCRIPTION:Our Sung Mass is the beginning of our week as Christians.  Bro
 ught together on the day of Resurrection\, we renew ourselves in faith and
  community through prayer\, listening to the Word and taking the Sacrament
 \, the great sign and means of grace.  Mass is a joyful and musical occasi
 on with traditional and contemporary hymns and excellent organ music.  You
  will be made very welcome!  We look forward to seeing you there.
GEO:-2.159817;53.409414
LOCATION:The Parish Church of St Peter
URL:http://stpeterstockport.com/services.html
END:VEVENT
BEGIN:VEVENT
SUMMARY:Sung Mass
DTSTART;TZID=Europe/London:20260823T103000
DTEND;TZID=Europe/London:20260823T113000
DTSTAMP:20260424T194456Z
UID:717001787477400.0achurchnearyou
CATEGORIES:
DESCRIPTION:Our Sung Mass is the beginning of our week as Christians.  Bro
 ught together on the day of Resurrection\, we renew ourselves in faith and
  community through prayer\, listening to the Word and taking the Sacrament
 \, the great sign and means of grace.  Mass is a joyful and musical occasi
 on with traditional and contemporary hymns and excellent organ music.  You
  will be made very welcome!  We look forward to seeing you there.
GEO:-2.159817;53.409414
LOCATION:The Parish Church of St Peter
URL:http://stpeterstockport.com/services.html
END:VEVENT
BEGIN:VEVENT
SUMMARY:Sung Mass
DTSTART;TZID=Europe/London:20260830T103000
DTEND;TZID=Europe/London:20260830T113000
DTSTAMP:20260424T194456Z
UID:717001788082200.0achurchnearyou
CATEGORIES:
DESCRIPTION:Our Sung Mass is the beginning of our week as Christians.  Bro
 ught together on the day of Resurrection\, we renew ourselves in faith and
  community through prayer\, listening to the Word and taking the Sacrament
 \, the great sign and means of grace.  Mass is a joyful and musical occasi
 on with traditional and contemporary hymns and excellent organ music.  You
  will be made very welcome!  We look forward to seeing you there.
GEO:-2.159817;53.409414
LOCATION:The Parish Church of St Peter
URL:http://stpeterstockport.com/services.html
END:VEVENT
BEGIN:VEVENT
SUMMARY:Sung Mass
DTSTART;TZID=Europe/London:20260906T103000
DTEND;TZID=Europe/London:20260906T113000
DTSTAMP:20260424T194456Z
UID:717001788687000.0achurchnearyou
CATEGORIES:
DESCRIPTION:Our Sung Mass is the beginning of our week as Christians.  Bro
 ught together on the day of Resurrection\, we renew ourselves in faith and
  community through prayer\, listening to the Word and taking the Sacrament
 \, the great sign and means of grace.  Mass is a joyful and musical occasi
 on with traditional and contemporary hymns and excellent organ music.  You
  will be made very welcome!  We look forward to seeing you there.
GEO:-2.159817;53.409414
LOCATION:The Parish Church of St Peter
URL:http://stpeterstockport.com/services.html
END:VEVENT
BEGIN:VEVENT
SUMMARY:Free Organ Concert
DTSTART;TZID=Europe/London:20260912T100000
DTEND;TZID=Europe/London:20260912T130000
DTSTAMP:20260424T194456Z
UID:12088101789203600.0achurchnearyou
CATEGORIES:
DESCRIPTION:Free monthly concerts on the 2nd Saturday of the month 10am - 
 1pm \nCome & go as you please\nFeaturing different organists & pianists\nT
 ea/coffee & cake £2.50\nRaffle
GEO:-2.159817;53.409414
LOCATION:The Parish Church of St Peter
URL:https://www.achurchnearyou.com/church/12873/service-and-events/events/
 1208810/
END:VEVENT
BEGIN:VEVENT
SUMMARY:Sung Mass
DTSTART;TZID=Europe/London:20260913T103000
DTEND;TZID=Europe/London:20260913T113000
DTSTAMP:20260424T194456Z
UID:717001789291800.0achurchnearyou
CATEGORIES:
DESCRIPTION:Our Sung Mass is the beginning of our week as Christians.  Bro
 ught together on the day of Resurrection\, we renew ourselves in faith and
  community through prayer\, listening to the Word and taking the Sacrament
 \, the great sign and means of grace.  Mass is a joyful and musical occasi
 on with traditional and contemporary hymns and excellent organ music.  You
  will be made very welcome!  We look forward to seeing you there.
GEO:-2.159817;53.409414
LOCATION:The Parish Church of St Peter
URL:http://stpeterstockport.com/services.html
END:VEVENT
BEGIN:VEVENT
SUMMARY:Sung Mass
DTSTART;TZID=Europe/London:20260920T103000
DTEND;TZID=Europe/London:20260920T113000
DTSTAMP:20260424T194456Z
UID:717001789896600.0achurchnearyou
CATEGORIES:
DESCRIPTION:Our Sung Mass is the beginning of our week as Christians.  Bro
 ught together on the day of Resurrection\, we renew ourselves in faith and
  community through prayer\, listening to the Word and taking the Sacrament
 \, the great sign and means of grace.  Mass is a joyful and musical occasi
 on with traditional and contemporary hymns and excellent organ music.  You
  will be made very welcome!  We look forward to seeing you there.
GEO:-2.159817;53.409414
LOCATION:The Parish Church of St Peter
URL:http://stpeterstockport.com/services.html
END:VEVENT
BEGIN:VEVENT
SUMMARY:Sung Mass
DTSTART;TZID=Europe/London:20260927T103000
DTEND;TZID=Europe/London:20260927T113000
DTSTAMP:20260424T194456Z
UID:717001790501400.0achurchnearyou
CATEGORIES:
DESCRIPTION:Our Sung Mass is the beginning of our week as Christians.  Bro
 ught together on the day of Resurrection\, we renew ourselves in faith and
  community through prayer\, listening to the Word and taking the Sacrament
 \, the great sign and means of grace.  Mass is a joyful and musical occasi
 on with traditional and contemporary hymns and excellent organ music.  You
  will be made very welcome!  We look forward to seeing you there.
GEO:-2.159817;53.409414
LOCATION:The Parish Church of St Peter
URL:http://stpeterstockport.com/services.html
END:VEVENT
END:VCALENDAR
