BEGIN:VCALENDAR
VERSION:2.0
PRODID:-//achurchnearyou.com//eventfeed//EN
CALSCALE:GREGORIAN
METHOD:PUBLISH
X-WR-TIMEZONE:UTC
BEGIN:VEVENT
SUMMARY:Church Open Day
DTSTART:20250614T090000Z
DTEND:20250614T130000Z
DTSTAMP:20260425T025154Z
UID:12038592025-06-14 09:00:00+00:00achurchnearyou
CATEGORIES:
DESCRIPTION:Come and look round YOUR parish church  on Saturday 14 June\, 
 10am to 2pm\n\nMeet Rev Sarah and her team and learn more about our friend
 ly groups and events including:\n\n* Friendship Café\n* Messy Church\n* M
 ainly Music\n* Our choir\n* Our flower-arranging team\n* Friday Club\n* Me
 n's Society\n\nAsk about baptisms and weddings and learn about our history
 .\n\nRefreshments and homemade scones available.
GEO:-2.18585;53.366959
LOCATION:All Saints Cheadle Hulme
URL:https://www.achurchnearyou.com/church/12892/service-and-events/events/
 1203859/
END:VEVENT
END:VCALENDAR
