BEGIN:VCALENDAR
VERSION:2.0
PRODID:-//achurchnearyou.com//eventfeed//EN
CALSCALE:GREGORIAN
METHOD:PUBLISH
X-WR-TIMEZONE:UTC
BEGIN:VEVENT
SUMMARY:Evensong
DTSTART;TZID=Europe/London:20250427T183000
DTEND;TZID=Europe/London:20250427T193000
DTSTAMP:20260424T031817Z
UID:5585472025-04-27 18:30:00+01:00achurchnearyou
CATEGORIES:
DESCRIPTION:An opportunity to reflect before the week ahead
GEO:-2.18585;53.366959
LOCATION:All Saints Cheadle Hulme
URL:https://www.achurchnearyou.com/church/12892/service-and-events/events/
 558547/
END:VEVENT
BEGIN:VEVENT
SUMMARY:Evensong
DTSTART;TZID=Europe/London:20250525T183000
DTEND;TZID=Europe/London:20250525T193000
DTSTAMP:20260424T031817Z
UID:5585472025-05-25 18:30:00+01:00achurchnearyou
CATEGORIES:
DESCRIPTION:An opportunity to reflect before the week ahead
GEO:-2.18585;53.366959
LOCATION:All Saints Cheadle Hulme
URL:https://www.achurchnearyou.com/church/12892/service-and-events/events/
 558547/
END:VEVENT
BEGIN:VEVENT
SUMMARY:Evensong
DTSTART;TZID=Europe/London:20250622T183000
DTEND;TZID=Europe/London:20250622T193000
DTSTAMP:20260424T031817Z
UID:5585472025-06-22 18:30:00+01:00achurchnearyou
CATEGORIES:
DESCRIPTION:An opportunity to reflect before the week ahead
GEO:-2.18585;53.366959
LOCATION:All Saints Cheadle Hulme
URL:https://www.achurchnearyou.com/church/12892/service-and-events/events/
 558547/
END:VEVENT
BEGIN:VEVENT
SUMMARY:Evensong
DTSTART;TZID=Europe/London:20250727T183000
DTEND;TZID=Europe/London:20250727T193000
DTSTAMP:20260424T031817Z
UID:5585472025-07-27 18:30:00+01:00achurchnearyou
CATEGORIES:
DESCRIPTION:An opportunity to reflect before the week ahead
GEO:-2.18585;53.366959
LOCATION:All Saints Cheadle Hulme
URL:https://www.achurchnearyou.com/church/12892/service-and-events/events/
 558547/
END:VEVENT
BEGIN:VEVENT
SUMMARY:Evensong
DTSTART;TZID=Europe/London:20250824T183000
DTEND;TZID=Europe/London:20250824T193000
DTSTAMP:20260424T031817Z
UID:5585472025-08-24 18:30:00+01:00achurchnearyou
CATEGORIES:
DESCRIPTION:An opportunity to reflect before the week ahead
GEO:-2.18585;53.366959
LOCATION:All Saints Cheadle Hulme
URL:https://www.achurchnearyou.com/church/12892/service-and-events/events/
 558547/
END:VEVENT
BEGIN:VEVENT
SUMMARY:Evensong
DTSTART;TZID=Europe/London:20250928T183000
DTEND;TZID=Europe/London:20250928T193000
DTSTAMP:20260424T031817Z
UID:5585472025-09-28 18:30:00+01:00achurchnearyou
CATEGORIES:
DESCRIPTION:An opportunity to reflect before the week ahead
GEO:-2.18585;53.366959
LOCATION:All Saints Cheadle Hulme
URL:https://www.achurchnearyou.com/church/12892/service-and-events/events/
 558547/
END:VEVENT
END:VCALENDAR
