BEGIN:VCALENDAR
VERSION:2.0
PRODID:-//achurchnearyou.com//eventfeed//EN
CALSCALE:GREGORIAN
METHOD:PUBLISH
X-WR-TIMEZONE:UTC
BEGIN:VEVENT
SUMMARY:Messy Church
DTSTART:20250322T160000Z
DTEND:20250322T173000Z
DTSTAMP:20260425T025022Z
UID:5791212025-03-22 16:00:00+00:00achurchnearyou
CATEGORIES:
DESCRIPTION:Messy Church is a form of celebration for families that involv
 es creativity\, celebration and hospitality. Join us for fun\, crafts\, ga
 mes and have a bite to eat too. It's always useful to know the numbers of 
 people attending each session in advance\, so\, if possible\, please conta
 ct Clare by email at families@allsaintscheadlehulme.org.uk
GEO:-2.18585;53.366959
LOCATION:All Saints Cheadle Hulme
URL:https://www.allsaintscheadlehulme.org.uk/children/messy/
END:VEVENT
END:VCALENDAR
