BEGIN:VCALENDAR
VERSION:2.0
PRODID:-//achurchnearyou.com//eventfeed//EN
CALSCALE:GREGORIAN
METHOD:PUBLISH
X-WR-TIMEZONE:UTC
BEGIN:VEVENT
SUMMARY:Cubs
DTSTART;TZID=Europe/London:20260428T184500
DTEND;TZID=Europe/London:20260428T204500
DTSTAMP:20260423T164604Z
UID:11167482026-04-28 18:45:00+01:00achurchnearyou
CATEGORIES:
DESCRIPTION:3rd Heald Green Cubs
GEO:-2.230524;53.368218
LOCATION:St Catherine's
URL:https://www.achurchnearyou.com/church/12897/service-and-events/events/
 1116748/
END:VEVENT
BEGIN:VEVENT
SUMMARY:Cubs
DTSTART;TZID=Europe/London:20260505T184500
DTEND;TZID=Europe/London:20260505T204500
DTSTAMP:20260423T164604Z
UID:11167482026-05-05 18:45:00+01:00achurchnearyou
CATEGORIES:
DESCRIPTION:3rd Heald Green Cubs
GEO:-2.230524;53.368218
LOCATION:St Catherine's
URL:https://www.achurchnearyou.com/church/12897/service-and-events/events/
 1116748/
END:VEVENT
BEGIN:VEVENT
SUMMARY:Cubs
DTSTART;TZID=Europe/London:20260512T184500
DTEND;TZID=Europe/London:20260512T204500
DTSTAMP:20260423T164604Z
UID:11167482026-05-12 18:45:00+01:00achurchnearyou
CATEGORIES:
DESCRIPTION:3rd Heald Green Cubs
GEO:-2.230524;53.368218
LOCATION:St Catherine's
URL:https://www.achurchnearyou.com/church/12897/service-and-events/events/
 1116748/
END:VEVENT
BEGIN:VEVENT
SUMMARY:Cubs
DTSTART;TZID=Europe/London:20260519T184500
DTEND;TZID=Europe/London:20260519T204500
DTSTAMP:20260423T164604Z
UID:11167482026-05-19 18:45:00+01:00achurchnearyou
CATEGORIES:
DESCRIPTION:3rd Heald Green Cubs
GEO:-2.230524;53.368218
LOCATION:St Catherine's
URL:https://www.achurchnearyou.com/church/12897/service-and-events/events/
 1116748/
END:VEVENT
BEGIN:VEVENT
SUMMARY:Cubs
DTSTART;TZID=Europe/London:20260526T184500
DTEND;TZID=Europe/London:20260526T204500
DTSTAMP:20260423T164604Z
UID:11167482026-05-26 18:45:00+01:00achurchnearyou
CATEGORIES:
DESCRIPTION:3rd Heald Green Cubs
GEO:-2.230524;53.368218
LOCATION:St Catherine's
URL:https://www.achurchnearyou.com/church/12897/service-and-events/events/
 1116748/
END:VEVENT
BEGIN:VEVENT
SUMMARY:Cubs
DTSTART;TZID=Europe/London:20260602T184500
DTEND;TZID=Europe/London:20260602T204500
DTSTAMP:20260423T164604Z
UID:11167482026-06-02 18:45:00+01:00achurchnearyou
CATEGORIES:
DESCRIPTION:3rd Heald Green Cubs
GEO:-2.230524;53.368218
LOCATION:St Catherine's
URL:https://www.achurchnearyou.com/church/12897/service-and-events/events/
 1116748/
END:VEVENT
BEGIN:VEVENT
SUMMARY:Cubs
DTSTART;TZID=Europe/London:20260609T184500
DTEND;TZID=Europe/London:20260609T204500
DTSTAMP:20260423T164604Z
UID:11167482026-06-09 18:45:00+01:00achurchnearyou
CATEGORIES:
DESCRIPTION:3rd Heald Green Cubs
GEO:-2.230524;53.368218
LOCATION:St Catherine's
URL:https://www.achurchnearyou.com/church/12897/service-and-events/events/
 1116748/
END:VEVENT
BEGIN:VEVENT
SUMMARY:Cubs
DTSTART;TZID=Europe/London:20260616T184500
DTEND;TZID=Europe/London:20260616T204500
DTSTAMP:20260423T164604Z
UID:11167482026-06-16 18:45:00+01:00achurchnearyou
CATEGORIES:
DESCRIPTION:3rd Heald Green Cubs
GEO:-2.230524;53.368218
LOCATION:St Catherine's
URL:https://www.achurchnearyou.com/church/12897/service-and-events/events/
 1116748/
END:VEVENT
BEGIN:VEVENT
SUMMARY:Cubs
DTSTART;TZID=Europe/London:20260623T184500
DTEND;TZID=Europe/London:20260623T204500
DTSTAMP:20260423T164604Z
UID:11167482026-06-23 18:45:00+01:00achurchnearyou
CATEGORIES:
DESCRIPTION:3rd Heald Green Cubs
GEO:-2.230524;53.368218
LOCATION:St Catherine's
URL:https://www.achurchnearyou.com/church/12897/service-and-events/events/
 1116748/
END:VEVENT
BEGIN:VEVENT
SUMMARY:Cubs
DTSTART;TZID=Europe/London:20260630T184500
DTEND;TZID=Europe/London:20260630T204500
DTSTAMP:20260423T164604Z
UID:11167482026-06-30 18:45:00+01:00achurchnearyou
CATEGORIES:
DESCRIPTION:3rd Heald Green Cubs
GEO:-2.230524;53.368218
LOCATION:St Catherine's
URL:https://www.achurchnearyou.com/church/12897/service-and-events/events/
 1116748/
END:VEVENT
BEGIN:VEVENT
SUMMARY:Cubs
DTSTART;TZID=Europe/London:20260707T184500
DTEND;TZID=Europe/London:20260707T204500
DTSTAMP:20260423T164604Z
UID:11167482026-07-07 18:45:00+01:00achurchnearyou
CATEGORIES:
DESCRIPTION:3rd Heald Green Cubs
GEO:-2.230524;53.368218
LOCATION:St Catherine's
URL:https://www.achurchnearyou.com/church/12897/service-and-events/events/
 1116748/
END:VEVENT
BEGIN:VEVENT
SUMMARY:Cubs
DTSTART;TZID=Europe/London:20260714T184500
DTEND;TZID=Europe/London:20260714T204500
DTSTAMP:20260423T164604Z
UID:11167482026-07-14 18:45:00+01:00achurchnearyou
CATEGORIES:
DESCRIPTION:3rd Heald Green Cubs
GEO:-2.230524;53.368218
LOCATION:St Catherine's
URL:https://www.achurchnearyou.com/church/12897/service-and-events/events/
 1116748/
END:VEVENT
BEGIN:VEVENT
SUMMARY:Cubs
DTSTART;TZID=Europe/London:20260721T184500
DTEND;TZID=Europe/London:20260721T204500
DTSTAMP:20260423T164604Z
UID:11167482026-07-21 18:45:00+01:00achurchnearyou
CATEGORIES:
DESCRIPTION:3rd Heald Green Cubs
GEO:-2.230524;53.368218
LOCATION:St Catherine's
URL:https://www.achurchnearyou.com/church/12897/service-and-events/events/
 1116748/
END:VEVENT
BEGIN:VEVENT
SUMMARY:Cubs
DTSTART;TZID=Europe/London:20260728T184500
DTEND;TZID=Europe/London:20260728T204500
DTSTAMP:20260423T164604Z
UID:11167482026-07-28 18:45:00+01:00achurchnearyou
CATEGORIES:
DESCRIPTION:3rd Heald Green Cubs
GEO:-2.230524;53.368218
LOCATION:St Catherine's
URL:https://www.achurchnearyou.com/church/12897/service-and-events/events/
 1116748/
END:VEVENT
BEGIN:VEVENT
SUMMARY:Cubs
DTSTART;TZID=Europe/London:20260804T184500
DTEND;TZID=Europe/London:20260804T204500
DTSTAMP:20260423T164604Z
UID:11167482026-08-04 18:45:00+01:00achurchnearyou
CATEGORIES:
DESCRIPTION:3rd Heald Green Cubs
GEO:-2.230524;53.368218
LOCATION:St Catherine's
URL:https://www.achurchnearyou.com/church/12897/service-and-events/events/
 1116748/
END:VEVENT
BEGIN:VEVENT
SUMMARY:Cubs
DTSTART;TZID=Europe/London:20260811T184500
DTEND;TZID=Europe/London:20260811T204500
DTSTAMP:20260423T164604Z
UID:11167482026-08-11 18:45:00+01:00achurchnearyou
CATEGORIES:
DESCRIPTION:3rd Heald Green Cubs
GEO:-2.230524;53.368218
LOCATION:St Catherine's
URL:https://www.achurchnearyou.com/church/12897/service-and-events/events/
 1116748/
END:VEVENT
BEGIN:VEVENT
SUMMARY:Cubs
DTSTART;TZID=Europe/London:20260818T184500
DTEND;TZID=Europe/London:20260818T204500
DTSTAMP:20260423T164604Z
UID:11167482026-08-18 18:45:00+01:00achurchnearyou
CATEGORIES:
DESCRIPTION:3rd Heald Green Cubs
GEO:-2.230524;53.368218
LOCATION:St Catherine's
URL:https://www.achurchnearyou.com/church/12897/service-and-events/events/
 1116748/
END:VEVENT
BEGIN:VEVENT
SUMMARY:Cubs
DTSTART;TZID=Europe/London:20260825T184500
DTEND;TZID=Europe/London:20260825T204500
DTSTAMP:20260423T164604Z
UID:11167482026-08-25 18:45:00+01:00achurchnearyou
CATEGORIES:
DESCRIPTION:3rd Heald Green Cubs
GEO:-2.230524;53.368218
LOCATION:St Catherine's
URL:https://www.achurchnearyou.com/church/12897/service-and-events/events/
 1116748/
END:VEVENT
BEGIN:VEVENT
SUMMARY:Cubs
DTSTART;TZID=Europe/London:20260901T184500
DTEND;TZID=Europe/London:20260901T204500
DTSTAMP:20260423T164604Z
UID:11167482026-09-01 18:45:00+01:00achurchnearyou
CATEGORIES:
DESCRIPTION:3rd Heald Green Cubs
GEO:-2.230524;53.368218
LOCATION:St Catherine's
URL:https://www.achurchnearyou.com/church/12897/service-and-events/events/
 1116748/
END:VEVENT
BEGIN:VEVENT
SUMMARY:Cubs
DTSTART;TZID=Europe/London:20260908T184500
DTEND;TZID=Europe/London:20260908T204500
DTSTAMP:20260423T164604Z
UID:11167482026-09-08 18:45:00+01:00achurchnearyou
CATEGORIES:
DESCRIPTION:3rd Heald Green Cubs
GEO:-2.230524;53.368218
LOCATION:St Catherine's
URL:https://www.achurchnearyou.com/church/12897/service-and-events/events/
 1116748/
END:VEVENT
BEGIN:VEVENT
SUMMARY:Cubs
DTSTART;TZID=Europe/London:20260915T184500
DTEND;TZID=Europe/London:20260915T204500
DTSTAMP:20260423T164604Z
UID:11167482026-09-15 18:45:00+01:00achurchnearyou
CATEGORIES:
DESCRIPTION:3rd Heald Green Cubs
GEO:-2.230524;53.368218
LOCATION:St Catherine's
URL:https://www.achurchnearyou.com/church/12897/service-and-events/events/
 1116748/
END:VEVENT
BEGIN:VEVENT
SUMMARY:Cubs
DTSTART;TZID=Europe/London:20260922T184500
DTEND;TZID=Europe/London:20260922T204500
DTSTAMP:20260423T164604Z
UID:11167482026-09-22 18:45:00+01:00achurchnearyou
CATEGORIES:
DESCRIPTION:3rd Heald Green Cubs
GEO:-2.230524;53.368218
LOCATION:St Catherine's
URL:https://www.achurchnearyou.com/church/12897/service-and-events/events/
 1116748/
END:VEVENT
BEGIN:VEVENT
SUMMARY:Cubs
DTSTART;TZID=Europe/London:20260929T184500
DTEND;TZID=Europe/London:20260929T204500
DTSTAMP:20260423T164604Z
UID:11167482026-09-29 18:45:00+01:00achurchnearyou
CATEGORIES:
DESCRIPTION:3rd Heald Green Cubs
GEO:-2.230524;53.368218
LOCATION:St Catherine's
URL:https://www.achurchnearyou.com/church/12897/service-and-events/events/
 1116748/
END:VEVENT
BEGIN:VEVENT
SUMMARY:Cubs
DTSTART;TZID=Europe/London:20261006T184500
DTEND;TZID=Europe/London:20261006T204500
DTSTAMP:20260423T164604Z
UID:11167482026-10-06 18:45:00+01:00achurchnearyou
CATEGORIES:
DESCRIPTION:3rd Heald Green Cubs
GEO:-2.230524;53.368218
LOCATION:St Catherine's
URL:https://www.achurchnearyou.com/church/12897/service-and-events/events/
 1116748/
END:VEVENT
BEGIN:VEVENT
SUMMARY:Cubs
DTSTART;TZID=Europe/London:20261013T184500
DTEND;TZID=Europe/London:20261013T204500
DTSTAMP:20260423T164604Z
UID:11167482026-10-13 18:45:00+01:00achurchnearyou
CATEGORIES:
DESCRIPTION:3rd Heald Green Cubs
GEO:-2.230524;53.368218
LOCATION:St Catherine's
URL:https://www.achurchnearyou.com/church/12897/service-and-events/events/
 1116748/
END:VEVENT
BEGIN:VEVENT
SUMMARY:Cubs
DTSTART;TZID=Europe/London:20261020T184500
DTEND;TZID=Europe/London:20261020T204500
DTSTAMP:20260423T164604Z
UID:11167482026-10-20 18:45:00+01:00achurchnearyou
CATEGORIES:
DESCRIPTION:3rd Heald Green Cubs
GEO:-2.230524;53.368218
LOCATION:St Catherine's
URL:https://www.achurchnearyou.com/church/12897/service-and-events/events/
 1116748/
END:VEVENT
BEGIN:VEVENT
SUMMARY:Cubs
DTSTART;TZID=Europe/London:20261027T184500
DTEND;TZID=Europe/London:20261027T204500
DTSTAMP:20260423T164604Z
UID:11167482026-10-27 18:45:00+00:00achurchnearyou
CATEGORIES:
DESCRIPTION:3rd Heald Green Cubs
GEO:-2.230524;53.368218
LOCATION:St Catherine's
URL:https://www.achurchnearyou.com/church/12897/service-and-events/events/
 1116748/
END:VEVENT
BEGIN:VEVENT
SUMMARY:Cubs
DTSTART;TZID=Europe/London:20261103T184500
DTEND;TZID=Europe/London:20261103T204500
DTSTAMP:20260423T164604Z
UID:11167482026-11-03 18:45:00+00:00achurchnearyou
CATEGORIES:
DESCRIPTION:3rd Heald Green Cubs
GEO:-2.230524;53.368218
LOCATION:St Catherine's
URL:https://www.achurchnearyou.com/church/12897/service-and-events/events/
 1116748/
END:VEVENT
BEGIN:VEVENT
SUMMARY:Cubs
DTSTART;TZID=Europe/London:20261110T184500
DTEND;TZID=Europe/London:20261110T204500
DTSTAMP:20260423T164604Z
UID:11167482026-11-10 18:45:00+00:00achurchnearyou
CATEGORIES:
DESCRIPTION:3rd Heald Green Cubs
GEO:-2.230524;53.368218
LOCATION:St Catherine's
URL:https://www.achurchnearyou.com/church/12897/service-and-events/events/
 1116748/
END:VEVENT
BEGIN:VEVENT
SUMMARY:Cubs
DTSTART;TZID=Europe/London:20261117T184500
DTEND;TZID=Europe/London:20261117T204500
DTSTAMP:20260423T164604Z
UID:11167482026-11-17 18:45:00+00:00achurchnearyou
CATEGORIES:
DESCRIPTION:3rd Heald Green Cubs
GEO:-2.230524;53.368218
LOCATION:St Catherine's
URL:https://www.achurchnearyou.com/church/12897/service-and-events/events/
 1116748/
END:VEVENT
BEGIN:VEVENT
SUMMARY:Cubs
DTSTART;TZID=Europe/London:20261124T184500
DTEND;TZID=Europe/London:20261124T204500
DTSTAMP:20260423T164604Z
UID:11167482026-11-24 18:45:00+00:00achurchnearyou
CATEGORIES:
DESCRIPTION:3rd Heald Green Cubs
GEO:-2.230524;53.368218
LOCATION:St Catherine's
URL:https://www.achurchnearyou.com/church/12897/service-and-events/events/
 1116748/
END:VEVENT
BEGIN:VEVENT
SUMMARY:Cubs
DTSTART;TZID=Europe/London:20261201T184500
DTEND;TZID=Europe/London:20261201T204500
DTSTAMP:20260423T164604Z
UID:11167482026-12-01 18:45:00+00:00achurchnearyou
CATEGORIES:
DESCRIPTION:3rd Heald Green Cubs
GEO:-2.230524;53.368218
LOCATION:St Catherine's
URL:https://www.achurchnearyou.com/church/12897/service-and-events/events/
 1116748/
END:VEVENT
BEGIN:VEVENT
SUMMARY:Cubs
DTSTART;TZID=Europe/London:20261208T184500
DTEND;TZID=Europe/London:20261208T204500
DTSTAMP:20260423T164604Z
UID:11167482026-12-08 18:45:00+00:00achurchnearyou
CATEGORIES:
DESCRIPTION:3rd Heald Green Cubs
GEO:-2.230524;53.368218
LOCATION:St Catherine's
URL:https://www.achurchnearyou.com/church/12897/service-and-events/events/
 1116748/
END:VEVENT
BEGIN:VEVENT
SUMMARY:Cubs
DTSTART;TZID=Europe/London:20261215T184500
DTEND;TZID=Europe/London:20261215T204500
DTSTAMP:20260423T164604Z
UID:11167482026-12-15 18:45:00+00:00achurchnearyou
CATEGORIES:
DESCRIPTION:3rd Heald Green Cubs
GEO:-2.230524;53.368218
LOCATION:St Catherine's
URL:https://www.achurchnearyou.com/church/12897/service-and-events/events/
 1116748/
END:VEVENT
BEGIN:VEVENT
SUMMARY:Cubs
DTSTART;TZID=Europe/London:20261222T184500
DTEND;TZID=Europe/London:20261222T204500
DTSTAMP:20260423T164604Z
UID:11167482026-12-22 18:45:00+00:00achurchnearyou
CATEGORIES:
DESCRIPTION:3rd Heald Green Cubs
GEO:-2.230524;53.368218
LOCATION:St Catherine's
URL:https://www.achurchnearyou.com/church/12897/service-and-events/events/
 1116748/
END:VEVENT
BEGIN:VEVENT
SUMMARY:Cubs
DTSTART;TZID=Europe/London:20261229T184500
DTEND;TZID=Europe/London:20261229T204500
DTSTAMP:20260423T164604Z
UID:11167482026-12-29 18:45:00+00:00achurchnearyou
CATEGORIES:
DESCRIPTION:3rd Heald Green Cubs
GEO:-2.230524;53.368218
LOCATION:St Catherine's
URL:https://www.achurchnearyou.com/church/12897/service-and-events/events/
 1116748/
END:VEVENT
BEGIN:VEVENT
SUMMARY:Cubs
DTSTART;TZID=Europe/London:20270105T184500
DTEND;TZID=Europe/London:20270105T204500
DTSTAMP:20260423T164604Z
UID:11167482027-01-05 18:45:00+00:00achurchnearyou
CATEGORIES:
DESCRIPTION:3rd Heald Green Cubs
GEO:-2.230524;53.368218
LOCATION:St Catherine's
URL:https://www.achurchnearyou.com/church/12897/service-and-events/events/
 1116748/
END:VEVENT
BEGIN:VEVENT
SUMMARY:Cubs
DTSTART;TZID=Europe/London:20270112T184500
DTEND;TZID=Europe/London:20270112T204500
DTSTAMP:20260423T164604Z
UID:11167482027-01-12 18:45:00+00:00achurchnearyou
CATEGORIES:
DESCRIPTION:3rd Heald Green Cubs
GEO:-2.230524;53.368218
LOCATION:St Catherine's
URL:https://www.achurchnearyou.com/church/12897/service-and-events/events/
 1116748/
END:VEVENT
BEGIN:VEVENT
SUMMARY:Cubs
DTSTART;TZID=Europe/London:20270119T184500
DTEND;TZID=Europe/London:20270119T204500
DTSTAMP:20260423T164604Z
UID:11167482027-01-19 18:45:00+00:00achurchnearyou
CATEGORIES:
DESCRIPTION:3rd Heald Green Cubs
GEO:-2.230524;53.368218
LOCATION:St Catherine's
URL:https://www.achurchnearyou.com/church/12897/service-and-events/events/
 1116748/
END:VEVENT
BEGIN:VEVENT
SUMMARY:Cubs
DTSTART;TZID=Europe/London:20270126T184500
DTEND;TZID=Europe/London:20270126T204500
DTSTAMP:20260423T164604Z
UID:11167482027-01-26 18:45:00+00:00achurchnearyou
CATEGORIES:
DESCRIPTION:3rd Heald Green Cubs
GEO:-2.230524;53.368218
LOCATION:St Catherine's
URL:https://www.achurchnearyou.com/church/12897/service-and-events/events/
 1116748/
END:VEVENT
BEGIN:VEVENT
SUMMARY:Cubs
DTSTART;TZID=Europe/London:20270202T184500
DTEND;TZID=Europe/London:20270202T204500
DTSTAMP:20260423T164604Z
UID:11167482027-02-02 18:45:00+00:00achurchnearyou
CATEGORIES:
DESCRIPTION:3rd Heald Green Cubs
GEO:-2.230524;53.368218
LOCATION:St Catherine's
URL:https://www.achurchnearyou.com/church/12897/service-and-events/events/
 1116748/
END:VEVENT
BEGIN:VEVENT
SUMMARY:Cubs
DTSTART;TZID=Europe/London:20270209T184500
DTEND;TZID=Europe/London:20270209T204500
DTSTAMP:20260423T164604Z
UID:11167482027-02-09 18:45:00+00:00achurchnearyou
CATEGORIES:
DESCRIPTION:3rd Heald Green Cubs
GEO:-2.230524;53.368218
LOCATION:St Catherine's
URL:https://www.achurchnearyou.com/church/12897/service-and-events/events/
 1116748/
END:VEVENT
BEGIN:VEVENT
SUMMARY:Cubs
DTSTART;TZID=Europe/London:20270216T184500
DTEND;TZID=Europe/London:20270216T204500
DTSTAMP:20260423T164604Z
UID:11167482027-02-16 18:45:00+00:00achurchnearyou
CATEGORIES:
DESCRIPTION:3rd Heald Green Cubs
GEO:-2.230524;53.368218
LOCATION:St Catherine's
URL:https://www.achurchnearyou.com/church/12897/service-and-events/events/
 1116748/
END:VEVENT
BEGIN:VEVENT
SUMMARY:Cubs
DTSTART;TZID=Europe/London:20270223T184500
DTEND;TZID=Europe/London:20270223T204500
DTSTAMP:20260423T164604Z
UID:11167482027-02-23 18:45:00+00:00achurchnearyou
CATEGORIES:
DESCRIPTION:3rd Heald Green Cubs
GEO:-2.230524;53.368218
LOCATION:St Catherine's
URL:https://www.achurchnearyou.com/church/12897/service-and-events/events/
 1116748/
END:VEVENT
BEGIN:VEVENT
SUMMARY:Cubs
DTSTART;TZID=Europe/London:20270302T184500
DTEND;TZID=Europe/London:20270302T204500
DTSTAMP:20260423T164604Z
UID:11167482027-03-02 18:45:00+00:00achurchnearyou
CATEGORIES:
DESCRIPTION:3rd Heald Green Cubs
GEO:-2.230524;53.368218
LOCATION:St Catherine's
URL:https://www.achurchnearyou.com/church/12897/service-and-events/events/
 1116748/
END:VEVENT
BEGIN:VEVENT
SUMMARY:Cubs
DTSTART;TZID=Europe/London:20270309T184500
DTEND;TZID=Europe/London:20270309T204500
DTSTAMP:20260423T164604Z
UID:11167482027-03-09 18:45:00+00:00achurchnearyou
CATEGORIES:
DESCRIPTION:3rd Heald Green Cubs
GEO:-2.230524;53.368218
LOCATION:St Catherine's
URL:https://www.achurchnearyou.com/church/12897/service-and-events/events/
 1116748/
END:VEVENT
BEGIN:VEVENT
SUMMARY:Cubs
DTSTART;TZID=Europe/London:20270316T184500
DTEND;TZID=Europe/London:20270316T204500
DTSTAMP:20260423T164604Z
UID:11167482027-03-16 18:45:00+00:00achurchnearyou
CATEGORIES:
DESCRIPTION:3rd Heald Green Cubs
GEO:-2.230524;53.368218
LOCATION:St Catherine's
URL:https://www.achurchnearyou.com/church/12897/service-and-events/events/
 1116748/
END:VEVENT
BEGIN:VEVENT
SUMMARY:Cubs
DTSTART;TZID=Europe/London:20270323T184500
DTEND;TZID=Europe/London:20270323T204500
DTSTAMP:20260423T164604Z
UID:11167482027-03-23 18:45:00+00:00achurchnearyou
CATEGORIES:
DESCRIPTION:3rd Heald Green Cubs
GEO:-2.230524;53.368218
LOCATION:St Catherine's
URL:https://www.achurchnearyou.com/church/12897/service-and-events/events/
 1116748/
END:VEVENT
BEGIN:VEVENT
SUMMARY:Cubs
DTSTART;TZID=Europe/London:20270330T184500
DTEND;TZID=Europe/London:20270330T204500
DTSTAMP:20260423T164604Z
UID:11167482027-03-30 18:45:00+01:00achurchnearyou
CATEGORIES:
DESCRIPTION:3rd Heald Green Cubs
GEO:-2.230524;53.368218
LOCATION:St Catherine's
URL:https://www.achurchnearyou.com/church/12897/service-and-events/events/
 1116748/
END:VEVENT
BEGIN:VEVENT
SUMMARY:Cubs
DTSTART;TZID=Europe/London:20270406T184500
DTEND;TZID=Europe/London:20270406T204500
DTSTAMP:20260423T164604Z
UID:11167482027-04-06 18:45:00+01:00achurchnearyou
CATEGORIES:
DESCRIPTION:3rd Heald Green Cubs
GEO:-2.230524;53.368218
LOCATION:St Catherine's
URL:https://www.achurchnearyou.com/church/12897/service-and-events/events/
 1116748/
END:VEVENT
BEGIN:VEVENT
SUMMARY:Cubs
DTSTART;TZID=Europe/London:20270413T184500
DTEND;TZID=Europe/London:20270413T204500
DTSTAMP:20260423T164604Z
UID:11167482027-04-13 18:45:00+01:00achurchnearyou
CATEGORIES:
DESCRIPTION:3rd Heald Green Cubs
GEO:-2.230524;53.368218
LOCATION:St Catherine's
URL:https://www.achurchnearyou.com/church/12897/service-and-events/events/
 1116748/
END:VEVENT
BEGIN:VEVENT
SUMMARY:Cubs
DTSTART;TZID=Europe/London:20270420T184500
DTEND;TZID=Europe/London:20270420T204500
DTSTAMP:20260423T164604Z
UID:11167482027-04-20 18:45:00+01:00achurchnearyou
CATEGORIES:
DESCRIPTION:3rd Heald Green Cubs
GEO:-2.230524;53.368218
LOCATION:St Catherine's
URL:https://www.achurchnearyou.com/church/12897/service-and-events/events/
 1116748/
END:VEVENT
END:VCALENDAR
