BEGIN:VCALENDAR
VERSION:2.0
PRODID:-//achurchnearyou.com//eventfeed//EN
CALSCALE:GREGORIAN
METHOD:PUBLISH
X-WR-TIMEZONE:UTC
BEGIN:VEVENT
SUMMARY:Mid-week Worship
DTSTART;TZID=Europe/London:20260422T124500
DTEND;TZID=Europe/London:20260422T133000
DTSTAMP:20260419T160336Z
UID:11727742026-04-22 12:45:00+01:00achurchnearyou
CATEGORIES:
DESCRIPTION:Every Wednesday we have a short service open to all to come an
 d join in worship. Connect with God and our community. Stay for community 
 lunch afterwards!
GEO:-1.501088;52.412497
LOCATION:St Peter's Hillfields
URL:https://www.achurchnearyou.com/church/12918/service-and-events/events/
 1172774/
END:VEVENT
BEGIN:VEVENT
SUMMARY:Mid-week Worship
DTSTART;TZID=Europe/London:20260429T124500
DTEND;TZID=Europe/London:20260429T133000
DTSTAMP:20260419T160336Z
UID:11727742026-04-29 12:45:00+01:00achurchnearyou
CATEGORIES:
DESCRIPTION:Every Wednesday we have a short service open to all to come an
 d join in worship. Connect with God and our community. Stay for community 
 lunch afterwards!
GEO:-1.501088;52.412497
LOCATION:St Peter's Hillfields
URL:https://www.achurchnearyou.com/church/12918/service-and-events/events/
 1172774/
END:VEVENT
BEGIN:VEVENT
SUMMARY:Mid-week Worship
DTSTART;TZID=Europe/London:20260506T124500
DTEND;TZID=Europe/London:20260506T133000
DTSTAMP:20260419T160336Z
UID:11727742026-05-06 12:45:00+01:00achurchnearyou
CATEGORIES:
DESCRIPTION:Every Wednesday we have a short service open to all to come an
 d join in worship. Connect with God and our community. Stay for community 
 lunch afterwards!
GEO:-1.501088;52.412497
LOCATION:St Peter's Hillfields
URL:https://www.achurchnearyou.com/church/12918/service-and-events/events/
 1172774/
END:VEVENT
BEGIN:VEVENT
SUMMARY:Mid-week Worship
DTSTART;TZID=Europe/London:20260513T124500
DTEND;TZID=Europe/London:20260513T133000
DTSTAMP:20260419T160336Z
UID:11727742026-05-13 12:45:00+01:00achurchnearyou
CATEGORIES:
DESCRIPTION:Every Wednesday we have a short service open to all to come an
 d join in worship. Connect with God and our community. Stay for community 
 lunch afterwards!
GEO:-1.501088;52.412497
LOCATION:St Peter's Hillfields
URL:https://www.achurchnearyou.com/church/12918/service-and-events/events/
 1172774/
END:VEVENT
BEGIN:VEVENT
SUMMARY:Mid-week Worship
DTSTART;TZID=Europe/London:20260520T124500
DTEND;TZID=Europe/London:20260520T133000
DTSTAMP:20260419T160336Z
UID:11727742026-05-20 12:45:00+01:00achurchnearyou
CATEGORIES:
DESCRIPTION:Every Wednesday we have a short service open to all to come an
 d join in worship. Connect with God and our community. Stay for community 
 lunch afterwards!
GEO:-1.501088;52.412497
LOCATION:St Peter's Hillfields
URL:https://www.achurchnearyou.com/church/12918/service-and-events/events/
 1172774/
END:VEVENT
BEGIN:VEVENT
SUMMARY:Mid-week Worship
DTSTART;TZID=Europe/London:20260527T124500
DTEND;TZID=Europe/London:20260527T133000
DTSTAMP:20260419T160336Z
UID:11727742026-05-27 12:45:00+01:00achurchnearyou
CATEGORIES:
DESCRIPTION:Every Wednesday we have a short service open to all to come an
 d join in worship. Connect with God and our community. Stay for community 
 lunch afterwards!
GEO:-1.501088;52.412497
LOCATION:St Peter's Hillfields
URL:https://www.achurchnearyou.com/church/12918/service-and-events/events/
 1172774/
END:VEVENT
BEGIN:VEVENT
SUMMARY:Mid-week Worship
DTSTART;TZID=Europe/London:20260603T124500
DTEND;TZID=Europe/London:20260603T133000
DTSTAMP:20260419T160336Z
UID:11727742026-06-03 12:45:00+01:00achurchnearyou
CATEGORIES:
DESCRIPTION:Every Wednesday we have a short service open to all to come an
 d join in worship. Connect with God and our community. Stay for community 
 lunch afterwards!
GEO:-1.501088;52.412497
LOCATION:St Peter's Hillfields
URL:https://www.achurchnearyou.com/church/12918/service-and-events/events/
 1172774/
END:VEVENT
BEGIN:VEVENT
SUMMARY:Mid-week Worship
DTSTART;TZID=Europe/London:20260610T124500
DTEND;TZID=Europe/London:20260610T133000
DTSTAMP:20260419T160336Z
UID:11727742026-06-10 12:45:00+01:00achurchnearyou
CATEGORIES:
DESCRIPTION:Every Wednesday we have a short service open to all to come an
 d join in worship. Connect with God and our community. Stay for community 
 lunch afterwards!
GEO:-1.501088;52.412497
LOCATION:St Peter's Hillfields
URL:https://www.achurchnearyou.com/church/12918/service-and-events/events/
 1172774/
END:VEVENT
BEGIN:VEVENT
SUMMARY:Mid-week Worship
DTSTART;TZID=Europe/London:20260617T124500
DTEND;TZID=Europe/London:20260617T133000
DTSTAMP:20260419T160336Z
UID:11727742026-06-17 12:45:00+01:00achurchnearyou
CATEGORIES:
DESCRIPTION:Every Wednesday we have a short service open to all to come an
 d join in worship. Connect with God and our community. Stay for community 
 lunch afterwards!
GEO:-1.501088;52.412497
LOCATION:St Peter's Hillfields
URL:https://www.achurchnearyou.com/church/12918/service-and-events/events/
 1172774/
END:VEVENT
BEGIN:VEVENT
SUMMARY:Mid-week Worship
DTSTART;TZID=Europe/London:20260624T124500
DTEND;TZID=Europe/London:20260624T133000
DTSTAMP:20260419T160336Z
UID:11727742026-06-24 12:45:00+01:00achurchnearyou
CATEGORIES:
DESCRIPTION:Every Wednesday we have a short service open to all to come an
 d join in worship. Connect with God and our community. Stay for community 
 lunch afterwards!
GEO:-1.501088;52.412497
LOCATION:St Peter's Hillfields
URL:https://www.achurchnearyou.com/church/12918/service-and-events/events/
 1172774/
END:VEVENT
BEGIN:VEVENT
SUMMARY:Mid-week Worship
DTSTART;TZID=Europe/London:20260701T124500
DTEND;TZID=Europe/London:20260701T133000
DTSTAMP:20260419T160336Z
UID:11727742026-07-01 12:45:00+01:00achurchnearyou
CATEGORIES:
DESCRIPTION:Every Wednesday we have a short service open to all to come an
 d join in worship. Connect with God and our community. Stay for community 
 lunch afterwards!
GEO:-1.501088;52.412497
LOCATION:St Peter's Hillfields
URL:https://www.achurchnearyou.com/church/12918/service-and-events/events/
 1172774/
END:VEVENT
BEGIN:VEVENT
SUMMARY:Mid-week Worship
DTSTART;TZID=Europe/London:20260708T124500
DTEND;TZID=Europe/London:20260708T133000
DTSTAMP:20260419T160336Z
UID:11727742026-07-08 12:45:00+01:00achurchnearyou
CATEGORIES:
DESCRIPTION:Every Wednesday we have a short service open to all to come an
 d join in worship. Connect with God and our community. Stay for community 
 lunch afterwards!
GEO:-1.501088;52.412497
LOCATION:St Peter's Hillfields
URL:https://www.achurchnearyou.com/church/12918/service-and-events/events/
 1172774/
END:VEVENT
BEGIN:VEVENT
SUMMARY:Mid-week Worship
DTSTART;TZID=Europe/London:20260715T124500
DTEND;TZID=Europe/London:20260715T133000
DTSTAMP:20260419T160336Z
UID:11727742026-07-15 12:45:00+01:00achurchnearyou
CATEGORIES:
DESCRIPTION:Every Wednesday we have a short service open to all to come an
 d join in worship. Connect with God and our community. Stay for community 
 lunch afterwards!
GEO:-1.501088;52.412497
LOCATION:St Peter's Hillfields
URL:https://www.achurchnearyou.com/church/12918/service-and-events/events/
 1172774/
END:VEVENT
BEGIN:VEVENT
SUMMARY:Mid-week Worship
DTSTART;TZID=Europe/London:20260722T124500
DTEND;TZID=Europe/London:20260722T133000
DTSTAMP:20260419T160336Z
UID:11727742026-07-22 12:45:00+01:00achurchnearyou
CATEGORIES:
DESCRIPTION:Every Wednesday we have a short service open to all to come an
 d join in worship. Connect with God and our community. Stay for community 
 lunch afterwards!
GEO:-1.501088;52.412497
LOCATION:St Peter's Hillfields
URL:https://www.achurchnearyou.com/church/12918/service-and-events/events/
 1172774/
END:VEVENT
BEGIN:VEVENT
SUMMARY:Mid-week Worship
DTSTART;TZID=Europe/London:20260729T124500
DTEND;TZID=Europe/London:20260729T133000
DTSTAMP:20260419T160336Z
UID:11727742026-07-29 12:45:00+01:00achurchnearyou
CATEGORIES:
DESCRIPTION:Every Wednesday we have a short service open to all to come an
 d join in worship. Connect with God and our community. Stay for community 
 lunch afterwards!
GEO:-1.501088;52.412497
LOCATION:St Peter's Hillfields
URL:https://www.achurchnearyou.com/church/12918/service-and-events/events/
 1172774/
END:VEVENT
BEGIN:VEVENT
SUMMARY:Mid-week Worship
DTSTART;TZID=Europe/London:20260805T124500
DTEND;TZID=Europe/London:20260805T133000
DTSTAMP:20260419T160336Z
UID:11727742026-08-05 12:45:00+01:00achurchnearyou
CATEGORIES:
DESCRIPTION:Every Wednesday we have a short service open to all to come an
 d join in worship. Connect with God and our community. Stay for community 
 lunch afterwards!
GEO:-1.501088;52.412497
LOCATION:St Peter's Hillfields
URL:https://www.achurchnearyou.com/church/12918/service-and-events/events/
 1172774/
END:VEVENT
BEGIN:VEVENT
SUMMARY:Mid-week Worship
DTSTART;TZID=Europe/London:20260812T124500
DTEND;TZID=Europe/London:20260812T133000
DTSTAMP:20260419T160336Z
UID:11727742026-08-12 12:45:00+01:00achurchnearyou
CATEGORIES:
DESCRIPTION:Every Wednesday we have a short service open to all to come an
 d join in worship. Connect with God and our community. Stay for community 
 lunch afterwards!
GEO:-1.501088;52.412497
LOCATION:St Peter's Hillfields
URL:https://www.achurchnearyou.com/church/12918/service-and-events/events/
 1172774/
END:VEVENT
BEGIN:VEVENT
SUMMARY:Mid-week Worship
DTSTART;TZID=Europe/London:20260819T124500
DTEND;TZID=Europe/London:20260819T133000
DTSTAMP:20260419T160336Z
UID:11727742026-08-19 12:45:00+01:00achurchnearyou
CATEGORIES:
DESCRIPTION:Every Wednesday we have a short service open to all to come an
 d join in worship. Connect with God and our community. Stay for community 
 lunch afterwards!
GEO:-1.501088;52.412497
LOCATION:St Peter's Hillfields
URL:https://www.achurchnearyou.com/church/12918/service-and-events/events/
 1172774/
END:VEVENT
BEGIN:VEVENT
SUMMARY:Mid-week Worship
DTSTART;TZID=Europe/London:20260826T124500
DTEND;TZID=Europe/London:20260826T133000
DTSTAMP:20260419T160336Z
UID:11727742026-08-26 12:45:00+01:00achurchnearyou
CATEGORIES:
DESCRIPTION:Every Wednesday we have a short service open to all to come an
 d join in worship. Connect with God and our community. Stay for community 
 lunch afterwards!
GEO:-1.501088;52.412497
LOCATION:St Peter's Hillfields
URL:https://www.achurchnearyou.com/church/12918/service-and-events/events/
 1172774/
END:VEVENT
BEGIN:VEVENT
SUMMARY:Mid-week Worship
DTSTART;TZID=Europe/London:20260902T124500
DTEND;TZID=Europe/London:20260902T133000
DTSTAMP:20260419T160336Z
UID:11727742026-09-02 12:45:00+01:00achurchnearyou
CATEGORIES:
DESCRIPTION:Every Wednesday we have a short service open to all to come an
 d join in worship. Connect with God and our community. Stay for community 
 lunch afterwards!
GEO:-1.501088;52.412497
LOCATION:St Peter's Hillfields
URL:https://www.achurchnearyou.com/church/12918/service-and-events/events/
 1172774/
END:VEVENT
BEGIN:VEVENT
SUMMARY:Mid-week Worship
DTSTART;TZID=Europe/London:20260909T124500
DTEND;TZID=Europe/London:20260909T133000
DTSTAMP:20260419T160336Z
UID:11727742026-09-09 12:45:00+01:00achurchnearyou
CATEGORIES:
DESCRIPTION:Every Wednesday we have a short service open to all to come an
 d join in worship. Connect with God and our community. Stay for community 
 lunch afterwards!
GEO:-1.501088;52.412497
LOCATION:St Peter's Hillfields
URL:https://www.achurchnearyou.com/church/12918/service-and-events/events/
 1172774/
END:VEVENT
BEGIN:VEVENT
SUMMARY:Mid-week Worship
DTSTART;TZID=Europe/London:20260916T124500
DTEND;TZID=Europe/London:20260916T133000
DTSTAMP:20260419T160336Z
UID:11727742026-09-16 12:45:00+01:00achurchnearyou
CATEGORIES:
DESCRIPTION:Every Wednesday we have a short service open to all to come an
 d join in worship. Connect with God and our community. Stay for community 
 lunch afterwards!
GEO:-1.501088;52.412497
LOCATION:St Peter's Hillfields
URL:https://www.achurchnearyou.com/church/12918/service-and-events/events/
 1172774/
END:VEVENT
BEGIN:VEVENT
SUMMARY:Mid-week Worship
DTSTART;TZID=Europe/London:20260923T124500
DTEND;TZID=Europe/London:20260923T133000
DTSTAMP:20260419T160336Z
UID:11727742026-09-23 12:45:00+01:00achurchnearyou
CATEGORIES:
DESCRIPTION:Every Wednesday we have a short service open to all to come an
 d join in worship. Connect with God and our community. Stay for community 
 lunch afterwards!
GEO:-1.501088;52.412497
LOCATION:St Peter's Hillfields
URL:https://www.achurchnearyou.com/church/12918/service-and-events/events/
 1172774/
END:VEVENT
BEGIN:VEVENT
SUMMARY:Mid-week Worship
DTSTART;TZID=Europe/London:20260930T124500
DTEND;TZID=Europe/London:20260930T133000
DTSTAMP:20260419T160336Z
UID:11727742026-09-30 12:45:00+01:00achurchnearyou
CATEGORIES:
DESCRIPTION:Every Wednesday we have a short service open to all to come an
 d join in worship. Connect with God and our community. Stay for community 
 lunch afterwards!
GEO:-1.501088;52.412497
LOCATION:St Peter's Hillfields
URL:https://www.achurchnearyou.com/church/12918/service-and-events/events/
 1172774/
END:VEVENT
BEGIN:VEVENT
SUMMARY:Mid-week Worship
DTSTART;TZID=Europe/London:20261007T124500
DTEND;TZID=Europe/London:20261007T133000
DTSTAMP:20260419T160336Z
UID:11727742026-10-07 12:45:00+01:00achurchnearyou
CATEGORIES:
DESCRIPTION:Every Wednesday we have a short service open to all to come an
 d join in worship. Connect with God and our community. Stay for community 
 lunch afterwards!
GEO:-1.501088;52.412497
LOCATION:St Peter's Hillfields
URL:https://www.achurchnearyou.com/church/12918/service-and-events/events/
 1172774/
END:VEVENT
BEGIN:VEVENT
SUMMARY:Mid-week Worship
DTSTART;TZID=Europe/London:20261014T124500
DTEND;TZID=Europe/London:20261014T133000
DTSTAMP:20260419T160336Z
UID:11727742026-10-14 12:45:00+01:00achurchnearyou
CATEGORIES:
DESCRIPTION:Every Wednesday we have a short service open to all to come an
 d join in worship. Connect with God and our community. Stay for community 
 lunch afterwards!
GEO:-1.501088;52.412497
LOCATION:St Peter's Hillfields
URL:https://www.achurchnearyou.com/church/12918/service-and-events/events/
 1172774/
END:VEVENT
BEGIN:VEVENT
SUMMARY:Mid-week Worship
DTSTART;TZID=Europe/London:20261021T124500
DTEND;TZID=Europe/London:20261021T133000
DTSTAMP:20260419T160336Z
UID:11727742026-10-21 12:45:00+01:00achurchnearyou
CATEGORIES:
DESCRIPTION:Every Wednesday we have a short service open to all to come an
 d join in worship. Connect with God and our community. Stay for community 
 lunch afterwards!
GEO:-1.501088;52.412497
LOCATION:St Peter's Hillfields
URL:https://www.achurchnearyou.com/church/12918/service-and-events/events/
 1172774/
END:VEVENT
BEGIN:VEVENT
SUMMARY:Mid-week Worship
DTSTART;TZID=Europe/London:20261028T124500
DTEND;TZID=Europe/London:20261028T133000
DTSTAMP:20260419T160336Z
UID:11727742026-10-28 12:45:00+00:00achurchnearyou
CATEGORIES:
DESCRIPTION:Every Wednesday we have a short service open to all to come an
 d join in worship. Connect with God and our community. Stay for community 
 lunch afterwards!
GEO:-1.501088;52.412497
LOCATION:St Peter's Hillfields
URL:https://www.achurchnearyou.com/church/12918/service-and-events/events/
 1172774/
END:VEVENT
BEGIN:VEVENT
SUMMARY:Mid-week Worship
DTSTART;TZID=Europe/London:20261104T124500
DTEND;TZID=Europe/London:20261104T133000
DTSTAMP:20260419T160336Z
UID:11727742026-11-04 12:45:00+00:00achurchnearyou
CATEGORIES:
DESCRIPTION:Every Wednesday we have a short service open to all to come an
 d join in worship. Connect with God and our community. Stay for community 
 lunch afterwards!
GEO:-1.501088;52.412497
LOCATION:St Peter's Hillfields
URL:https://www.achurchnearyou.com/church/12918/service-and-events/events/
 1172774/
END:VEVENT
BEGIN:VEVENT
SUMMARY:Mid-week Worship
DTSTART;TZID=Europe/London:20261111T124500
DTEND;TZID=Europe/London:20261111T133000
DTSTAMP:20260419T160336Z
UID:11727742026-11-11 12:45:00+00:00achurchnearyou
CATEGORIES:
DESCRIPTION:Every Wednesday we have a short service open to all to come an
 d join in worship. Connect with God and our community. Stay for community 
 lunch afterwards!
GEO:-1.501088;52.412497
LOCATION:St Peter's Hillfields
URL:https://www.achurchnearyou.com/church/12918/service-and-events/events/
 1172774/
END:VEVENT
BEGIN:VEVENT
SUMMARY:Mid-week Worship
DTSTART;TZID=Europe/London:20261118T124500
DTEND;TZID=Europe/London:20261118T133000
DTSTAMP:20260419T160336Z
UID:11727742026-11-18 12:45:00+00:00achurchnearyou
CATEGORIES:
DESCRIPTION:Every Wednesday we have a short service open to all to come an
 d join in worship. Connect with God and our community. Stay for community 
 lunch afterwards!
GEO:-1.501088;52.412497
LOCATION:St Peter's Hillfields
URL:https://www.achurchnearyou.com/church/12918/service-and-events/events/
 1172774/
END:VEVENT
BEGIN:VEVENT
SUMMARY:Mid-week Worship
DTSTART;TZID=Europe/London:20261125T124500
DTEND;TZID=Europe/London:20261125T133000
DTSTAMP:20260419T160336Z
UID:11727742026-11-25 12:45:00+00:00achurchnearyou
CATEGORIES:
DESCRIPTION:Every Wednesday we have a short service open to all to come an
 d join in worship. Connect with God and our community. Stay for community 
 lunch afterwards!
GEO:-1.501088;52.412497
LOCATION:St Peter's Hillfields
URL:https://www.achurchnearyou.com/church/12918/service-and-events/events/
 1172774/
END:VEVENT
BEGIN:VEVENT
SUMMARY:Mid-week Worship
DTSTART;TZID=Europe/London:20261202T124500
DTEND;TZID=Europe/London:20261202T133000
DTSTAMP:20260419T160336Z
UID:11727742026-12-02 12:45:00+00:00achurchnearyou
CATEGORIES:
DESCRIPTION:Every Wednesday we have a short service open to all to come an
 d join in worship. Connect with God and our community. Stay for community 
 lunch afterwards!
GEO:-1.501088;52.412497
LOCATION:St Peter's Hillfields
URL:https://www.achurchnearyou.com/church/12918/service-and-events/events/
 1172774/
END:VEVENT
BEGIN:VEVENT
SUMMARY:Mid-week Worship
DTSTART;TZID=Europe/London:20261209T124500
DTEND;TZID=Europe/London:20261209T133000
DTSTAMP:20260419T160336Z
UID:11727742026-12-09 12:45:00+00:00achurchnearyou
CATEGORIES:
DESCRIPTION:Every Wednesday we have a short service open to all to come an
 d join in worship. Connect with God and our community. Stay for community 
 lunch afterwards!
GEO:-1.501088;52.412497
LOCATION:St Peter's Hillfields
URL:https://www.achurchnearyou.com/church/12918/service-and-events/events/
 1172774/
END:VEVENT
BEGIN:VEVENT
SUMMARY:Mid-week Worship
DTSTART;TZID=Europe/London:20261216T124500
DTEND;TZID=Europe/London:20261216T133000
DTSTAMP:20260419T160336Z
UID:11727742026-12-16 12:45:00+00:00achurchnearyou
CATEGORIES:
DESCRIPTION:Every Wednesday we have a short service open to all to come an
 d join in worship. Connect with God and our community. Stay for community 
 lunch afterwards!
GEO:-1.501088;52.412497
LOCATION:St Peter's Hillfields
URL:https://www.achurchnearyou.com/church/12918/service-and-events/events/
 1172774/
END:VEVENT
BEGIN:VEVENT
SUMMARY:Mid-week Worship
DTSTART;TZID=Europe/London:20261223T124500
DTEND;TZID=Europe/London:20261223T133000
DTSTAMP:20260419T160336Z
UID:11727742026-12-23 12:45:00+00:00achurchnearyou
CATEGORIES:
DESCRIPTION:Every Wednesday we have a short service open to all to come an
 d join in worship. Connect with God and our community. Stay for community 
 lunch afterwards!
GEO:-1.501088;52.412497
LOCATION:St Peter's Hillfields
URL:https://www.achurchnearyou.com/church/12918/service-and-events/events/
 1172774/
END:VEVENT
BEGIN:VEVENT
SUMMARY:Mid-week Worship
DTSTART;TZID=Europe/London:20261230T124500
DTEND;TZID=Europe/London:20261230T133000
DTSTAMP:20260419T160336Z
UID:11727742026-12-30 12:45:00+00:00achurchnearyou
CATEGORIES:
DESCRIPTION:Every Wednesday we have a short service open to all to come an
 d join in worship. Connect with God and our community. Stay for community 
 lunch afterwards!
GEO:-1.501088;52.412497
LOCATION:St Peter's Hillfields
URL:https://www.achurchnearyou.com/church/12918/service-and-events/events/
 1172774/
END:VEVENT
BEGIN:VEVENT
SUMMARY:Mid-week Worship
DTSTART;TZID=Europe/London:20270106T124500
DTEND;TZID=Europe/London:20270106T133000
DTSTAMP:20260419T160336Z
UID:11727742027-01-06 12:45:00+00:00achurchnearyou
CATEGORIES:
DESCRIPTION:Every Wednesday we have a short service open to all to come an
 d join in worship. Connect with God and our community. Stay for community 
 lunch afterwards!
GEO:-1.501088;52.412497
LOCATION:St Peter's Hillfields
URL:https://www.achurchnearyou.com/church/12918/service-and-events/events/
 1172774/
END:VEVENT
BEGIN:VEVENT
SUMMARY:Mid-week Worship
DTSTART;TZID=Europe/London:20270113T124500
DTEND;TZID=Europe/London:20270113T133000
DTSTAMP:20260419T160336Z
UID:11727742027-01-13 12:45:00+00:00achurchnearyou
CATEGORIES:
DESCRIPTION:Every Wednesday we have a short service open to all to come an
 d join in worship. Connect with God and our community. Stay for community 
 lunch afterwards!
GEO:-1.501088;52.412497
LOCATION:St Peter's Hillfields
URL:https://www.achurchnearyou.com/church/12918/service-and-events/events/
 1172774/
END:VEVENT
BEGIN:VEVENT
SUMMARY:Mid-week Worship
DTSTART;TZID=Europe/London:20270120T124500
DTEND;TZID=Europe/London:20270120T133000
DTSTAMP:20260419T160336Z
UID:11727742027-01-20 12:45:00+00:00achurchnearyou
CATEGORIES:
DESCRIPTION:Every Wednesday we have a short service open to all to come an
 d join in worship. Connect with God and our community. Stay for community 
 lunch afterwards!
GEO:-1.501088;52.412497
LOCATION:St Peter's Hillfields
URL:https://www.achurchnearyou.com/church/12918/service-and-events/events/
 1172774/
END:VEVENT
BEGIN:VEVENT
SUMMARY:Mid-week Worship
DTSTART;TZID=Europe/London:20270127T124500
DTEND;TZID=Europe/London:20270127T133000
DTSTAMP:20260419T160336Z
UID:11727742027-01-27 12:45:00+00:00achurchnearyou
CATEGORIES:
DESCRIPTION:Every Wednesday we have a short service open to all to come an
 d join in worship. Connect with God and our community. Stay for community 
 lunch afterwards!
GEO:-1.501088;52.412497
LOCATION:St Peter's Hillfields
URL:https://www.achurchnearyou.com/church/12918/service-and-events/events/
 1172774/
END:VEVENT
BEGIN:VEVENT
SUMMARY:Mid-week Worship
DTSTART;TZID=Europe/London:20270203T124500
DTEND;TZID=Europe/London:20270203T133000
DTSTAMP:20260419T160336Z
UID:11727742027-02-03 12:45:00+00:00achurchnearyou
CATEGORIES:
DESCRIPTION:Every Wednesday we have a short service open to all to come an
 d join in worship. Connect with God and our community. Stay for community 
 lunch afterwards!
GEO:-1.501088;52.412497
LOCATION:St Peter's Hillfields
URL:https://www.achurchnearyou.com/church/12918/service-and-events/events/
 1172774/
END:VEVENT
BEGIN:VEVENT
SUMMARY:Mid-week Worship
DTSTART;TZID=Europe/London:20270210T124500
DTEND;TZID=Europe/London:20270210T133000
DTSTAMP:20260419T160336Z
UID:11727742027-02-10 12:45:00+00:00achurchnearyou
CATEGORIES:
DESCRIPTION:Every Wednesday we have a short service open to all to come an
 d join in worship. Connect with God and our community. Stay for community 
 lunch afterwards!
GEO:-1.501088;52.412497
LOCATION:St Peter's Hillfields
URL:https://www.achurchnearyou.com/church/12918/service-and-events/events/
 1172774/
END:VEVENT
BEGIN:VEVENT
SUMMARY:Mid-week Worship
DTSTART;TZID=Europe/London:20270217T124500
DTEND;TZID=Europe/London:20270217T133000
DTSTAMP:20260419T160336Z
UID:11727742027-02-17 12:45:00+00:00achurchnearyou
CATEGORIES:
DESCRIPTION:Every Wednesday we have a short service open to all to come an
 d join in worship. Connect with God and our community. Stay for community 
 lunch afterwards!
GEO:-1.501088;52.412497
LOCATION:St Peter's Hillfields
URL:https://www.achurchnearyou.com/church/12918/service-and-events/events/
 1172774/
END:VEVENT
BEGIN:VEVENT
SUMMARY:Mid-week Worship
DTSTART;TZID=Europe/London:20270224T124500
DTEND;TZID=Europe/London:20270224T133000
DTSTAMP:20260419T160336Z
UID:11727742027-02-24 12:45:00+00:00achurchnearyou
CATEGORIES:
DESCRIPTION:Every Wednesday we have a short service open to all to come an
 d join in worship. Connect with God and our community. Stay for community 
 lunch afterwards!
GEO:-1.501088;52.412497
LOCATION:St Peter's Hillfields
URL:https://www.achurchnearyou.com/church/12918/service-and-events/events/
 1172774/
END:VEVENT
BEGIN:VEVENT
SUMMARY:Mid-week Worship
DTSTART;TZID=Europe/London:20270303T124500
DTEND;TZID=Europe/London:20270303T133000
DTSTAMP:20260419T160336Z
UID:11727742027-03-03 12:45:00+00:00achurchnearyou
CATEGORIES:
DESCRIPTION:Every Wednesday we have a short service open to all to come an
 d join in worship. Connect with God and our community. Stay for community 
 lunch afterwards!
GEO:-1.501088;52.412497
LOCATION:St Peter's Hillfields
URL:https://www.achurchnearyou.com/church/12918/service-and-events/events/
 1172774/
END:VEVENT
BEGIN:VEVENT
SUMMARY:Mid-week Worship
DTSTART;TZID=Europe/London:20270310T124500
DTEND;TZID=Europe/London:20270310T133000
DTSTAMP:20260419T160336Z
UID:11727742027-03-10 12:45:00+00:00achurchnearyou
CATEGORIES:
DESCRIPTION:Every Wednesday we have a short service open to all to come an
 d join in worship. Connect with God and our community. Stay for community 
 lunch afterwards!
GEO:-1.501088;52.412497
LOCATION:St Peter's Hillfields
URL:https://www.achurchnearyou.com/church/12918/service-and-events/events/
 1172774/
END:VEVENT
BEGIN:VEVENT
SUMMARY:Mid-week Worship
DTSTART;TZID=Europe/London:20270317T124500
DTEND;TZID=Europe/London:20270317T133000
DTSTAMP:20260419T160336Z
UID:11727742027-03-17 12:45:00+00:00achurchnearyou
CATEGORIES:
DESCRIPTION:Every Wednesday we have a short service open to all to come an
 d join in worship. Connect with God and our community. Stay for community 
 lunch afterwards!
GEO:-1.501088;52.412497
LOCATION:St Peter's Hillfields
URL:https://www.achurchnearyou.com/church/12918/service-and-events/events/
 1172774/
END:VEVENT
BEGIN:VEVENT
SUMMARY:Mid-week Worship
DTSTART;TZID=Europe/London:20270324T124500
DTEND;TZID=Europe/London:20270324T133000
DTSTAMP:20260419T160336Z
UID:11727742027-03-24 12:45:00+00:00achurchnearyou
CATEGORIES:
DESCRIPTION:Every Wednesday we have a short service open to all to come an
 d join in worship. Connect with God and our community. Stay for community 
 lunch afterwards!
GEO:-1.501088;52.412497
LOCATION:St Peter's Hillfields
URL:https://www.achurchnearyou.com/church/12918/service-and-events/events/
 1172774/
END:VEVENT
BEGIN:VEVENT
SUMMARY:Mid-week Worship
DTSTART;TZID=Europe/London:20270331T124500
DTEND;TZID=Europe/London:20270331T133000
DTSTAMP:20260419T160336Z
UID:11727742027-03-31 12:45:00+01:00achurchnearyou
CATEGORIES:
DESCRIPTION:Every Wednesday we have a short service open to all to come an
 d join in worship. Connect with God and our community. Stay for community 
 lunch afterwards!
GEO:-1.501088;52.412497
LOCATION:St Peter's Hillfields
URL:https://www.achurchnearyou.com/church/12918/service-and-events/events/
 1172774/
END:VEVENT
BEGIN:VEVENT
SUMMARY:Mid-week Worship
DTSTART;TZID=Europe/London:20270407T124500
DTEND;TZID=Europe/London:20270407T133000
DTSTAMP:20260419T160336Z
UID:11727742027-04-07 12:45:00+01:00achurchnearyou
CATEGORIES:
DESCRIPTION:Every Wednesday we have a short service open to all to come an
 d join in worship. Connect with God and our community. Stay for community 
 lunch afterwards!
GEO:-1.501088;52.412497
LOCATION:St Peter's Hillfields
URL:https://www.achurchnearyou.com/church/12918/service-and-events/events/
 1172774/
END:VEVENT
BEGIN:VEVENT
SUMMARY:Mid-week Worship
DTSTART;TZID=Europe/London:20270414T124500
DTEND;TZID=Europe/London:20270414T133000
DTSTAMP:20260419T160336Z
UID:11727742027-04-14 12:45:00+01:00achurchnearyou
CATEGORIES:
DESCRIPTION:Every Wednesday we have a short service open to all to come an
 d join in worship. Connect with God and our community. Stay for community 
 lunch afterwards!
GEO:-1.501088;52.412497
LOCATION:St Peter's Hillfields
URL:https://www.achurchnearyou.com/church/12918/service-and-events/events/
 1172774/
END:VEVENT
END:VCALENDAR
