BEGIN:VCALENDAR
VERSION:2.0
PRODID:-//achurchnearyou.com//eventfeed//EN
CALSCALE:GREGORIAN
METHOD:PUBLISH
X-WR-TIMEZONE:UTC
BEGIN:VEVENT
SUMMARY:Midnight Mass 11.30pm Christmas Eve Holy Communion Sunday 24 Decem
 ber 2025 at St Anne's
DTSTART:20251224T233000Z
DTEND:20251225T001500Z
DTSTAMP:20260420T230635Z
UID:12465412025-12-24 23:30:00+00:00achurchnearyou
CATEGORIES:
DESCRIPTION:Midnight Mass 11.30pm Christmas Eve Holy Communion Sunday 24 D
 ecember 2025 at St Anne's  for everyone
GEO:-1.497577;52.402824
LOCATION:Coventry All Saints: St Anne
URL:https://www.achurchnearyou.com/church/12919/service-and-events/events/
 1246541/
END:VEVENT
END:VCALENDAR
