BEGIN:VCALENDAR
VERSION:2.0
PRODID:-//achurchnearyou.com//eventfeed//EN
CALSCALE:GREGORIAN
METHOD:PUBLISH
X-WR-TIMEZONE:UTC
BEGIN:VEVENT
SUMMARY:Family Carols by Candlelight
DTSTART:20251214T160000Z
DTEND:20251214T170000Z
DTSTAMP:20260424T040725Z
UID:12484802025-12-14 16:00:00+00:00achurchnearyou
CATEGORIES:
DESCRIPTION:Come and join us to celebrate advent and sing along to your fa
 vourite Christmas carols in a relaxed\, joyful atmosphere. Child friendly 
 service. All ages welcome.\nDoors open at 3:30 p.m.
GEO:-1.557438;52.423096
LOCATION:Allesley - All Saints
URL:https://www.achurchnearyou.com/church/12932/service-and-events/events/
 1248480/
END:VEVENT
END:VCALENDAR
