BEGIN:VCALENDAR
VERSION:2.0
PRODID:-//achurchnearyou.com//eventfeed//EN
CALSCALE:GREGORIAN
METHOD:PUBLISH
X-WR-TIMEZONE:UTC
BEGIN:VEVENT
SUMMARY:8am Morning Service
DTSTART;TZID=Europe/London:20260503T080000
DTEND;TZID=Europe/London:20260503T090000
DTSTAMP:20260423T074014Z
UID:8392952026-05-03 08:00:00+01:00achurchnearyou
CATEGORIES:
DESCRIPTION:Please join us on the FIRST and THIRD Sunday for our 8am morni
 ng service.  It will be Holy Communion BCP or morning prayer.\nThis servic
 e is in church and also live streamed via youtube (https://www.youtube.com
 /results?search_query=all+saints+allesley).
GEO:-1.557438;52.423096
LOCATION:Allesley - All Saints
URL:https://www.achurchnearyou.com/church/12932/service-and-events/events/
 839295/
END:VEVENT
BEGIN:VEVENT
SUMMARY:8am Morning Service
DTSTART;TZID=Europe/London:20260517T080000
DTEND;TZID=Europe/London:20260517T090000
DTSTAMP:20260423T074014Z
UID:8392952026-05-17 08:00:00+01:00achurchnearyou
CATEGORIES:
DESCRIPTION:Please join us on the FIRST and THIRD Sunday for our 8am morni
 ng service.  It will be Holy Communion BCP or morning prayer.\nThis servic
 e is in church and also live streamed via youtube (https://www.youtube.com
 /results?search_query=all+saints+allesley).
GEO:-1.557438;52.423096
LOCATION:Allesley - All Saints
URL:https://www.achurchnearyou.com/church/12932/service-and-events/events/
 839295/
END:VEVENT
BEGIN:VEVENT
SUMMARY:8am Morning Service
DTSTART;TZID=Europe/London:20260607T080000
DTEND;TZID=Europe/London:20260607T090000
DTSTAMP:20260423T074014Z
UID:8392952026-06-07 08:00:00+01:00achurchnearyou
CATEGORIES:
DESCRIPTION:Please join us on the FIRST and THIRD Sunday for our 8am morni
 ng service.  It will be Holy Communion BCP or morning prayer.\nThis servic
 e is in church and also live streamed via youtube (https://www.youtube.com
 /results?search_query=all+saints+allesley).
GEO:-1.557438;52.423096
LOCATION:Allesley - All Saints
URL:https://www.achurchnearyou.com/church/12932/service-and-events/events/
 839295/
END:VEVENT
BEGIN:VEVENT
SUMMARY:8am Morning Service
DTSTART;TZID=Europe/London:20260621T080000
DTEND;TZID=Europe/London:20260621T090000
DTSTAMP:20260423T074014Z
UID:8392952026-06-21 08:00:00+01:00achurchnearyou
CATEGORIES:
DESCRIPTION:Please join us on the FIRST and THIRD Sunday for our 8am morni
 ng service.  It will be Holy Communion BCP or morning prayer.\nThis servic
 e is in church and also live streamed via youtube (https://www.youtube.com
 /results?search_query=all+saints+allesley).
GEO:-1.557438;52.423096
LOCATION:Allesley - All Saints
URL:https://www.achurchnearyou.com/church/12932/service-and-events/events/
 839295/
END:VEVENT
BEGIN:VEVENT
SUMMARY:8am Morning Service
DTSTART;TZID=Europe/London:20260705T080000
DTEND;TZID=Europe/London:20260705T090000
DTSTAMP:20260423T074014Z
UID:8392952026-07-05 08:00:00+01:00achurchnearyou
CATEGORIES:
DESCRIPTION:Please join us on the FIRST and THIRD Sunday for our 8am morni
 ng service.  It will be Holy Communion BCP or morning prayer.\nThis servic
 e is in church and also live streamed via youtube (https://www.youtube.com
 /results?search_query=all+saints+allesley).
GEO:-1.557438;52.423096
LOCATION:Allesley - All Saints
URL:https://www.achurchnearyou.com/church/12932/service-and-events/events/
 839295/
END:VEVENT
BEGIN:VEVENT
SUMMARY:8am Morning Service
DTSTART;TZID=Europe/London:20260719T080000
DTEND;TZID=Europe/London:20260719T090000
DTSTAMP:20260423T074014Z
UID:8392952026-07-19 08:00:00+01:00achurchnearyou
CATEGORIES:
DESCRIPTION:Please join us on the FIRST and THIRD Sunday for our 8am morni
 ng service.  It will be Holy Communion BCP or morning prayer.\nThis servic
 e is in church and also live streamed via youtube (https://www.youtube.com
 /results?search_query=all+saints+allesley).
GEO:-1.557438;52.423096
LOCATION:Allesley - All Saints
URL:https://www.achurchnearyou.com/church/12932/service-and-events/events/
 839295/
END:VEVENT
BEGIN:VEVENT
SUMMARY:8am Morning Service
DTSTART;TZID=Europe/London:20260802T080000
DTEND;TZID=Europe/London:20260802T090000
DTSTAMP:20260423T074014Z
UID:8392952026-08-02 08:00:00+01:00achurchnearyou
CATEGORIES:
DESCRIPTION:Please join us on the FIRST and THIRD Sunday for our 8am morni
 ng service.  It will be Holy Communion BCP or morning prayer.\nThis servic
 e is in church and also live streamed via youtube (https://www.youtube.com
 /results?search_query=all+saints+allesley).
GEO:-1.557438;52.423096
LOCATION:Allesley - All Saints
URL:https://www.achurchnearyou.com/church/12932/service-and-events/events/
 839295/
END:VEVENT
BEGIN:VEVENT
SUMMARY:8am Morning Service
DTSTART;TZID=Europe/London:20260816T080000
DTEND;TZID=Europe/London:20260816T090000
DTSTAMP:20260423T074014Z
UID:8392952026-08-16 08:00:00+01:00achurchnearyou
CATEGORIES:
DESCRIPTION:Please join us on the FIRST and THIRD Sunday for our 8am morni
 ng service.  It will be Holy Communion BCP or morning prayer.\nThis servic
 e is in church and also live streamed via youtube (https://www.youtube.com
 /results?search_query=all+saints+allesley).
GEO:-1.557438;52.423096
LOCATION:Allesley - All Saints
URL:https://www.achurchnearyou.com/church/12932/service-and-events/events/
 839295/
END:VEVENT
BEGIN:VEVENT
SUMMARY:8am Morning Service
DTSTART;TZID=Europe/London:20260906T080000
DTEND;TZID=Europe/London:20260906T090000
DTSTAMP:20260423T074014Z
UID:8392952026-09-06 08:00:00+01:00achurchnearyou
CATEGORIES:
DESCRIPTION:Please join us on the FIRST and THIRD Sunday for our 8am morni
 ng service.  It will be Holy Communion BCP or morning prayer.\nThis servic
 e is in church and also live streamed via youtube (https://www.youtube.com
 /results?search_query=all+saints+allesley).
GEO:-1.557438;52.423096
LOCATION:Allesley - All Saints
URL:https://www.achurchnearyou.com/church/12932/service-and-events/events/
 839295/
END:VEVENT
BEGIN:VEVENT
SUMMARY:8am Morning Service
DTSTART;TZID=Europe/London:20260920T080000
DTEND;TZID=Europe/London:20260920T090000
DTSTAMP:20260423T074014Z
UID:8392952026-09-20 08:00:00+01:00achurchnearyou
CATEGORIES:
DESCRIPTION:Please join us on the FIRST and THIRD Sunday for our 8am morni
 ng service.  It will be Holy Communion BCP or morning prayer.\nThis servic
 e is in church and also live streamed via youtube (https://www.youtube.com
 /results?search_query=all+saints+allesley).
GEO:-1.557438;52.423096
LOCATION:Allesley - All Saints
URL:https://www.achurchnearyou.com/church/12932/service-and-events/events/
 839295/
END:VEVENT
BEGIN:VEVENT
SUMMARY:8am Morning Service
DTSTART;TZID=Europe/London:20261004T080000
DTEND;TZID=Europe/London:20261004T090000
DTSTAMP:20260423T074014Z
UID:8392952026-10-04 08:00:00+01:00achurchnearyou
CATEGORIES:
DESCRIPTION:Please join us on the FIRST and THIRD Sunday for our 8am morni
 ng service.  It will be Holy Communion BCP or morning prayer.\nThis servic
 e is in church and also live streamed via youtube (https://www.youtube.com
 /results?search_query=all+saints+allesley).
GEO:-1.557438;52.423096
LOCATION:Allesley - All Saints
URL:https://www.achurchnearyou.com/church/12932/service-and-events/events/
 839295/
END:VEVENT
BEGIN:VEVENT
SUMMARY:8am Morning Service
DTSTART;TZID=Europe/London:20261018T080000
DTEND;TZID=Europe/London:20261018T090000
DTSTAMP:20260423T074014Z
UID:8392952026-10-18 08:00:00+01:00achurchnearyou
CATEGORIES:
DESCRIPTION:Please join us on the FIRST and THIRD Sunday for our 8am morni
 ng service.  It will be Holy Communion BCP or morning prayer.\nThis servic
 e is in church and also live streamed via youtube (https://www.youtube.com
 /results?search_query=all+saints+allesley).
GEO:-1.557438;52.423096
LOCATION:Allesley - All Saints
URL:https://www.achurchnearyou.com/church/12932/service-and-events/events/
 839295/
END:VEVENT
BEGIN:VEVENT
SUMMARY:8am Morning Service
DTSTART;TZID=Europe/London:20261101T080000
DTEND;TZID=Europe/London:20261101T090000
DTSTAMP:20260423T074014Z
UID:8392952026-11-01 08:00:00+00:00achurchnearyou
CATEGORIES:
DESCRIPTION:Please join us on the FIRST and THIRD Sunday for our 8am morni
 ng service.  It will be Holy Communion BCP or morning prayer.\nThis servic
 e is in church and also live streamed via youtube (https://www.youtube.com
 /results?search_query=all+saints+allesley).
GEO:-1.557438;52.423096
LOCATION:Allesley - All Saints
URL:https://www.achurchnearyou.com/church/12932/service-and-events/events/
 839295/
END:VEVENT
BEGIN:VEVENT
SUMMARY:8am Morning Service
DTSTART;TZID=Europe/London:20261115T080000
DTEND;TZID=Europe/London:20261115T090000
DTSTAMP:20260423T074014Z
UID:8392952026-11-15 08:00:00+00:00achurchnearyou
CATEGORIES:
DESCRIPTION:Please join us on the FIRST and THIRD Sunday for our 8am morni
 ng service.  It will be Holy Communion BCP or morning prayer.\nThis servic
 e is in church and also live streamed via youtube (https://www.youtube.com
 /results?search_query=all+saints+allesley).
GEO:-1.557438;52.423096
LOCATION:Allesley - All Saints
URL:https://www.achurchnearyou.com/church/12932/service-and-events/events/
 839295/
END:VEVENT
BEGIN:VEVENT
SUMMARY:8am Morning Service
DTSTART;TZID=Europe/London:20261206T080000
DTEND;TZID=Europe/London:20261206T090000
DTSTAMP:20260423T074014Z
UID:8392952026-12-06 08:00:00+00:00achurchnearyou
CATEGORIES:
DESCRIPTION:Please join us on the FIRST and THIRD Sunday for our 8am morni
 ng service.  It will be Holy Communion BCP or morning prayer.\nThis servic
 e is in church and also live streamed via youtube (https://www.youtube.com
 /results?search_query=all+saints+allesley).
GEO:-1.557438;52.423096
LOCATION:Allesley - All Saints
URL:https://www.achurchnearyou.com/church/12932/service-and-events/events/
 839295/
END:VEVENT
BEGIN:VEVENT
SUMMARY:8am Morning Service
DTSTART;TZID=Europe/London:20261220T080000
DTEND;TZID=Europe/London:20261220T090000
DTSTAMP:20260423T074014Z
UID:8392952026-12-20 08:00:00+00:00achurchnearyou
CATEGORIES:
DESCRIPTION:Please join us on the FIRST and THIRD Sunday for our 8am morni
 ng service.  It will be Holy Communion BCP or morning prayer.\nThis servic
 e is in church and also live streamed via youtube (https://www.youtube.com
 /results?search_query=all+saints+allesley).
GEO:-1.557438;52.423096
LOCATION:Allesley - All Saints
URL:https://www.achurchnearyou.com/church/12932/service-and-events/events/
 839295/
END:VEVENT
BEGIN:VEVENT
SUMMARY:8am Morning Service
DTSTART;TZID=Europe/London:20270103T080000
DTEND;TZID=Europe/London:20270103T090000
DTSTAMP:20260423T074014Z
UID:8392952027-01-03 08:00:00+00:00achurchnearyou
CATEGORIES:
DESCRIPTION:Please join us on the FIRST and THIRD Sunday for our 8am morni
 ng service.  It will be Holy Communion BCP or morning prayer.\nThis servic
 e is in church and also live streamed via youtube (https://www.youtube.com
 /results?search_query=all+saints+allesley).
GEO:-1.557438;52.423096
LOCATION:Allesley - All Saints
URL:https://www.achurchnearyou.com/church/12932/service-and-events/events/
 839295/
END:VEVENT
BEGIN:VEVENT
SUMMARY:8am Morning Service
DTSTART;TZID=Europe/London:20270117T080000
DTEND;TZID=Europe/London:20270117T090000
DTSTAMP:20260423T074014Z
UID:8392952027-01-17 08:00:00+00:00achurchnearyou
CATEGORIES:
DESCRIPTION:Please join us on the FIRST and THIRD Sunday for our 8am morni
 ng service.  It will be Holy Communion BCP or morning prayer.\nThis servic
 e is in church and also live streamed via youtube (https://www.youtube.com
 /results?search_query=all+saints+allesley).
GEO:-1.557438;52.423096
LOCATION:Allesley - All Saints
URL:https://www.achurchnearyou.com/church/12932/service-and-events/events/
 839295/
END:VEVENT
BEGIN:VEVENT
SUMMARY:8am Morning Service
DTSTART;TZID=Europe/London:20270207T080000
DTEND;TZID=Europe/London:20270207T090000
DTSTAMP:20260423T074014Z
UID:8392952027-02-07 08:00:00+00:00achurchnearyou
CATEGORIES:
DESCRIPTION:Please join us on the FIRST and THIRD Sunday for our 8am morni
 ng service.  It will be Holy Communion BCP or morning prayer.\nThis servic
 e is in church and also live streamed via youtube (https://www.youtube.com
 /results?search_query=all+saints+allesley).
GEO:-1.557438;52.423096
LOCATION:Allesley - All Saints
URL:https://www.achurchnearyou.com/church/12932/service-and-events/events/
 839295/
END:VEVENT
BEGIN:VEVENT
SUMMARY:8am Morning Service
DTSTART;TZID=Europe/London:20270221T080000
DTEND;TZID=Europe/London:20270221T090000
DTSTAMP:20260423T074014Z
UID:8392952027-02-21 08:00:00+00:00achurchnearyou
CATEGORIES:
DESCRIPTION:Please join us on the FIRST and THIRD Sunday for our 8am morni
 ng service.  It will be Holy Communion BCP or morning prayer.\nThis servic
 e is in church and also live streamed via youtube (https://www.youtube.com
 /results?search_query=all+saints+allesley).
GEO:-1.557438;52.423096
LOCATION:Allesley - All Saints
URL:https://www.achurchnearyou.com/church/12932/service-and-events/events/
 839295/
END:VEVENT
BEGIN:VEVENT
SUMMARY:8am Morning Service
DTSTART;TZID=Europe/London:20270307T080000
DTEND;TZID=Europe/London:20270307T090000
DTSTAMP:20260423T074014Z
UID:8392952027-03-07 08:00:00+00:00achurchnearyou
CATEGORIES:
DESCRIPTION:Please join us on the FIRST and THIRD Sunday for our 8am morni
 ng service.  It will be Holy Communion BCP or morning prayer.\nThis servic
 e is in church and also live streamed via youtube (https://www.youtube.com
 /results?search_query=all+saints+allesley).
GEO:-1.557438;52.423096
LOCATION:Allesley - All Saints
URL:https://www.achurchnearyou.com/church/12932/service-and-events/events/
 839295/
END:VEVENT
BEGIN:VEVENT
SUMMARY:8am Morning Service
DTSTART;TZID=Europe/London:20270321T080000
DTEND;TZID=Europe/London:20270321T090000
DTSTAMP:20260423T074014Z
UID:8392952027-03-21 08:00:00+00:00achurchnearyou
CATEGORIES:
DESCRIPTION:Please join us on the FIRST and THIRD Sunday for our 8am morni
 ng service.  It will be Holy Communion BCP or morning prayer.\nThis servic
 e is in church and also live streamed via youtube (https://www.youtube.com
 /results?search_query=all+saints+allesley).
GEO:-1.557438;52.423096
LOCATION:Allesley - All Saints
URL:https://www.achurchnearyou.com/church/12932/service-and-events/events/
 839295/
END:VEVENT
BEGIN:VEVENT
SUMMARY:8am Morning Service
DTSTART;TZID=Europe/London:20270404T080000
DTEND;TZID=Europe/London:20270404T090000
DTSTAMP:20260423T074014Z
UID:8392952027-04-04 08:00:00+01:00achurchnearyou
CATEGORIES:
DESCRIPTION:Please join us on the FIRST and THIRD Sunday for our 8am morni
 ng service.  It will be Holy Communion BCP or morning prayer.\nThis servic
 e is in church and also live streamed via youtube (https://www.youtube.com
 /results?search_query=all+saints+allesley).
GEO:-1.557438;52.423096
LOCATION:Allesley - All Saints
URL:https://www.achurchnearyou.com/church/12932/service-and-events/events/
 839295/
END:VEVENT
BEGIN:VEVENT
SUMMARY:8am Morning Service
DTSTART;TZID=Europe/London:20270418T080000
DTEND;TZID=Europe/London:20270418T090000
DTSTAMP:20260423T074014Z
UID:8392952027-04-18 08:00:00+01:00achurchnearyou
CATEGORIES:
DESCRIPTION:Please join us on the FIRST and THIRD Sunday for our 8am morni
 ng service.  It will be Holy Communion BCP or morning prayer.\nThis servic
 e is in church and also live streamed via youtube (https://www.youtube.com
 /results?search_query=all+saints+allesley).
GEO:-1.557438;52.423096
LOCATION:Allesley - All Saints
URL:https://www.achurchnearyou.com/church/12932/service-and-events/events/
 839295/
END:VEVENT
END:VCALENDAR
