BEGIN:VCALENDAR
VERSION:2.0
PRODID:-//achurchnearyou.com//eventfeed//EN
CALSCALE:GREGORIAN
METHOD:PUBLISH
X-WR-TIMEZONE:UTC
BEGIN:VEVENT
SUMMARY:Last Meal with Jesus
DTSTART:20260402T170000Z
DTEND:20260402T190000Z
DTSTAMP:20260423T121711Z
UID:13209052026-04-02 17:00:00+00:00achurchnearyou
CATEGORIES:
DESCRIPTION:All welcome\, meal provided.
URL:http://www.stlaurences.org
END:VEVENT
END:VCALENDAR
