BEGIN:VCALENDAR
VERSION:2.0
PRODID:-//achurchnearyou.com//eventfeed//EN
CALSCALE:GREGORIAN
METHOD:PUBLISH
X-WR-TIMEZONE:UTC
BEGIN:VEVENT
SUMMARY:Christmas Fayre
DTSTART:20251122T120000Z
DTEND:20251122T150000Z
DTSTAMP:20260424T025217Z
UID:11196612025-11-22 12:00:00+00:00achurchnearyou
CATEGORIES:
DESCRIPTION:Come to our Christmas Fayre - Stalls\, refreshments\, Santa
LOCATION:St Thomas Church Hall
URL:https://www.achurchnearyou.com/church/12940/service-and-events/events/
 1119661/
END:VEVENT
END:VCALENDAR
