BEGIN:VCALENDAR
VERSION:2.0
PRODID:-//achurchnearyou.com//eventfeed//EN
CALSCALE:GREGORIAN
METHOD:PUBLISH
X-WR-TIMEZONE:UTC
BEGIN:VEVENT
SUMMARY:Christmas Community Market - Saturday 8 November 10am to 2pm
DTSTART;TZID=Europe/London:20251108T100000
DTEND;TZID=Europe/London:20251108T140000
DTSTAMP:20260422T063523Z
UID:12412292025-11-08 10:00:00+00:00achurchnearyou
CATEGORIES:
DESCRIPTION:Christmas Community Market - Saturday 8 November 10am to 2pm\n
 Free entry - tea\, coffee & cake\nGifts and cards
GEO:-1.655301;52.303893
LOCATION:Holy Trinity Hatton
URL:https://www.achurchnearyou.com/church/12956/service-and-events/events/
 1241229/
END:VEVENT
END:VCALENDAR
