BEGIN:VCALENDAR
VERSION:2.0
PRODID:-//achurchnearyou.com//eventfeed//EN
CALSCALE:GREGORIAN
METHOD:PUBLISH
X-WR-TIMEZONE:UTC
BEGIN:VEVENT
SUMMARY:Easter 2026 at St John the Evangelist
DTSTART:20260405T070000Z
DTEND:20260405T180000Z
DTSTAMP:20260423T172243Z
UID:13210862026-04-05 07:00:00+00:00achurchnearyou
CATEGORIES:
DESCRIPTION:Come to one of our services on Easter Sunday - witness baptism
 s at our 10am gathering and learn more about what it means to be a followe
 r of Jesus and to share in his risen life.
GEO:-1.572695;52.337087
LOCATION:Kenilworth - St. John the Evangelist
URL:http://www.stjohn316.co.uk
END:VEVENT
END:VCALENDAR
