BEGIN:VCALENDAR
VERSION:2.0
PRODID:-//achurchnearyou.com//eventfeed//EN
CALSCALE:GREGORIAN
METHOD:PUBLISH
X-WR-TIMEZONE:UTC
BEGIN:VEVENT
SUMMARY:Holy Communion
DTSTART;TZID=Europe/London:20250316T091500
DTEND;TZID=Europe/London:20250316T101500
DTSTAMP:20260421T233053Z
UID:2434962025-03-16 09:15:00+00:00achurchnearyou
CATEGORIES:
DESCRIPTION:A traditional Communion Service with hymns.
GEO:-1.335659;52.383228
LOCATION:Church Lawford - St. Peter
URL:https://www.achurchnearyou.com/church/13002/service-and-events/events/
 243496/
END:VEVENT
BEGIN:VEVENT
SUMMARY:Holy Communion
DTSTART;TZID=Europe/London:20250420T091500
DTEND;TZID=Europe/London:20250420T101500
DTSTAMP:20260421T233053Z
UID:2434962025-04-20 09:15:00+01:00achurchnearyou
CATEGORIES:
DESCRIPTION:A traditional Communion Service with hymns.
GEO:-1.335659;52.383228
LOCATION:Church Lawford - St. Peter
URL:https://www.achurchnearyou.com/church/13002/service-and-events/events/
 243496/
END:VEVENT
BEGIN:VEVENT
SUMMARY:Holy Communion
DTSTART;TZID=Europe/London:20250518T091500
DTEND;TZID=Europe/London:20250518T101500
DTSTAMP:20260421T233053Z
UID:2434962025-05-18 09:15:00+01:00achurchnearyou
CATEGORIES:
DESCRIPTION:A traditional Communion Service with hymns.
GEO:-1.335659;52.383228
LOCATION:Church Lawford - St. Peter
URL:https://www.achurchnearyou.com/church/13002/service-and-events/events/
 243496/
END:VEVENT
BEGIN:VEVENT
SUMMARY:Holy Communion
DTSTART;TZID=Europe/London:20250615T091500
DTEND;TZID=Europe/London:20250615T101500
DTSTAMP:20260421T233053Z
UID:2434962025-06-15 09:15:00+01:00achurchnearyou
CATEGORIES:
DESCRIPTION:A traditional Communion Service with hymns.
GEO:-1.335659;52.383228
LOCATION:Church Lawford - St. Peter
URL:https://www.achurchnearyou.com/church/13002/service-and-events/events/
 243496/
END:VEVENT
BEGIN:VEVENT
SUMMARY:Holy Communion
DTSTART;TZID=Europe/London:20250720T091500
DTEND;TZID=Europe/London:20250720T101500
DTSTAMP:20260421T233053Z
UID:2434962025-07-20 09:15:00+01:00achurchnearyou
CATEGORIES:
DESCRIPTION:A traditional Communion Service with hymns.
GEO:-1.335659;52.383228
LOCATION:Church Lawford - St. Peter
URL:https://www.achurchnearyou.com/church/13002/service-and-events/events/
 243496/
END:VEVENT
BEGIN:VEVENT
SUMMARY:Holy Communion
DTSTART;TZID=Europe/London:20250817T091500
DTEND;TZID=Europe/London:20250817T101500
DTSTAMP:20260421T233053Z
UID:2434962025-08-17 09:15:00+01:00achurchnearyou
CATEGORIES:
DESCRIPTION:A traditional Communion Service with hymns.
GEO:-1.335659;52.383228
LOCATION:Church Lawford - St. Peter
URL:https://www.achurchnearyou.com/church/13002/service-and-events/events/
 243496/
END:VEVENT
BEGIN:VEVENT
SUMMARY:Holy Communion
DTSTART;TZID=Europe/London:20250921T091500
DTEND;TZID=Europe/London:20250921T101500
DTSTAMP:20260421T233053Z
UID:2434962025-09-21 09:15:00+01:00achurchnearyou
CATEGORIES:
DESCRIPTION:A traditional Communion Service with hymns.
GEO:-1.335659;52.383228
LOCATION:Church Lawford - St. Peter
URL:https://www.achurchnearyou.com/church/13002/service-and-events/events/
 243496/
END:VEVENT
BEGIN:VEVENT
SUMMARY:Holy Communion
DTSTART;TZID=Europe/London:20251019T091500
DTEND;TZID=Europe/London:20251019T101500
DTSTAMP:20260421T233053Z
UID:2434962025-10-19 09:15:00+01:00achurchnearyou
CATEGORIES:
DESCRIPTION:A traditional Communion Service with hymns.
GEO:-1.335659;52.383228
LOCATION:Church Lawford - St. Peter
URL:https://www.achurchnearyou.com/church/13002/service-and-events/events/
 243496/
END:VEVENT
BEGIN:VEVENT
SUMMARY:Holy Communion
DTSTART;TZID=Europe/London:20251116T091500
DTEND;TZID=Europe/London:20251116T101500
DTSTAMP:20260421T233053Z
UID:2434962025-11-16 09:15:00+00:00achurchnearyou
CATEGORIES:
DESCRIPTION:A traditional Communion Service with hymns.
GEO:-1.335659;52.383228
LOCATION:Church Lawford - St. Peter
URL:https://www.achurchnearyou.com/church/13002/service-and-events/events/
 243496/
END:VEVENT
BEGIN:VEVENT
SUMMARY:Holy Communion
DTSTART;TZID=Europe/London:20251221T091500
DTEND;TZID=Europe/London:20251221T101500
DTSTAMP:20260421T233053Z
UID:2434962025-12-21 09:15:00+00:00achurchnearyou
CATEGORIES:
DESCRIPTION:A traditional Communion Service with hymns.
GEO:-1.335659;52.383228
LOCATION:Church Lawford - St. Peter
URL:https://www.achurchnearyou.com/church/13002/service-and-events/events/
 243496/
END:VEVENT
BEGIN:VEVENT
SUMMARY:Holy Communion
DTSTART;TZID=Europe/London:20260118T091500
DTEND;TZID=Europe/London:20260118T101500
DTSTAMP:20260421T233053Z
UID:2434962026-01-18 09:15:00+00:00achurchnearyou
CATEGORIES:
DESCRIPTION:A traditional Communion Service with hymns.
GEO:-1.335659;52.383228
LOCATION:Church Lawford - St. Peter
URL:https://www.achurchnearyou.com/church/13002/service-and-events/events/
 243496/
END:VEVENT
BEGIN:VEVENT
SUMMARY:Holy Communion
DTSTART;TZID=Europe/London:20260215T091500
DTEND;TZID=Europe/London:20260215T101500
DTSTAMP:20260421T233053Z
UID:2434962026-02-15 09:15:00+00:00achurchnearyou
CATEGORIES:
DESCRIPTION:A traditional Communion Service with hymns.
GEO:-1.335659;52.383228
LOCATION:Church Lawford - St. Peter
URL:https://www.achurchnearyou.com/church/13002/service-and-events/events/
 243496/
END:VEVENT
BEGIN:VEVENT
SUMMARY:Holy Communion
DTSTART;TZID=Europe/London:20260315T091500
DTEND;TZID=Europe/London:20260315T101500
DTSTAMP:20260421T233053Z
UID:2434962026-03-15 09:15:00+00:00achurchnearyou
CATEGORIES:
DESCRIPTION:A traditional Communion Service with hymns.
GEO:-1.335659;52.383228
LOCATION:Church Lawford - St. Peter
URL:https://www.achurchnearyou.com/church/13002/service-and-events/events/
 243496/
END:VEVENT
BEGIN:VEVENT
SUMMARY:Holy Communion
DTSTART;TZID=Europe/London:20260517T091500
DTEND;TZID=Europe/London:20260517T101500
DTSTAMP:20260421T233053Z
UID:2434962026-05-17 09:15:00+01:00achurchnearyou
CATEGORIES:
DESCRIPTION:A traditional Communion Service with hymns.
GEO:-1.335659;52.383228
LOCATION:Church Lawford - St. Peter
URL:https://www.achurchnearyou.com/church/13002/service-and-events/events/
 243496/
END:VEVENT
BEGIN:VEVENT
SUMMARY:Holy Communion
DTSTART;TZID=Europe/London:20260621T091500
DTEND;TZID=Europe/London:20260621T101500
DTSTAMP:20260421T233053Z
UID:2434962026-06-21 09:15:00+01:00achurchnearyou
CATEGORIES:
DESCRIPTION:A traditional Communion Service with hymns.
GEO:-1.335659;52.383228
LOCATION:Church Lawford - St. Peter
URL:https://www.achurchnearyou.com/church/13002/service-and-events/events/
 243496/
END:VEVENT
BEGIN:VEVENT
SUMMARY:Holy Communion
DTSTART;TZID=Europe/London:20260719T091500
DTEND;TZID=Europe/London:20260719T101500
DTSTAMP:20260421T233053Z
UID:2434962026-07-19 09:15:00+01:00achurchnearyou
CATEGORIES:
DESCRIPTION:A traditional Communion Service with hymns.
GEO:-1.335659;52.383228
LOCATION:Church Lawford - St. Peter
URL:https://www.achurchnearyou.com/church/13002/service-and-events/events/
 243496/
END:VEVENT
BEGIN:VEVENT
SUMMARY:Holy Communion
DTSTART;TZID=Europe/London:20260816T091500
DTEND;TZID=Europe/London:20260816T101500
DTSTAMP:20260421T233053Z
UID:2434962026-08-16 09:15:00+01:00achurchnearyou
CATEGORIES:
DESCRIPTION:A traditional Communion Service with hymns.
GEO:-1.335659;52.383228
LOCATION:Church Lawford - St. Peter
URL:https://www.achurchnearyou.com/church/13002/service-and-events/events/
 243496/
END:VEVENT
BEGIN:VEVENT
SUMMARY:Holy Communion
DTSTART;TZID=Europe/London:20260920T091500
DTEND;TZID=Europe/London:20260920T101500
DTSTAMP:20260421T233053Z
UID:2434962026-09-20 09:15:00+01:00achurchnearyou
CATEGORIES:
DESCRIPTION:A traditional Communion Service with hymns.
GEO:-1.335659;52.383228
LOCATION:Church Lawford - St. Peter
URL:https://www.achurchnearyou.com/church/13002/service-and-events/events/
 243496/
END:VEVENT
BEGIN:VEVENT
SUMMARY:Holy Communion
DTSTART;TZID=Europe/London:20261018T091500
DTEND;TZID=Europe/London:20261018T101500
DTSTAMP:20260421T233053Z
UID:2434962026-10-18 09:15:00+01:00achurchnearyou
CATEGORIES:
DESCRIPTION:A traditional Communion Service with hymns.
GEO:-1.335659;52.383228
LOCATION:Church Lawford - St. Peter
URL:https://www.achurchnearyou.com/church/13002/service-and-events/events/
 243496/
END:VEVENT
BEGIN:VEVENT
SUMMARY:Holy Communion
DTSTART;TZID=Europe/London:20261115T091500
DTEND;TZID=Europe/London:20261115T101500
DTSTAMP:20260421T233053Z
UID:2434962026-11-15 09:15:00+00:00achurchnearyou
CATEGORIES:
DESCRIPTION:A traditional Communion Service with hymns.
GEO:-1.335659;52.383228
LOCATION:Church Lawford - St. Peter
URL:https://www.achurchnearyou.com/church/13002/service-and-events/events/
 243496/
END:VEVENT
BEGIN:VEVENT
SUMMARY:Holy Communion
DTSTART;TZID=Europe/London:20261220T091500
DTEND;TZID=Europe/London:20261220T101500
DTSTAMP:20260421T233053Z
UID:2434962026-12-20 09:15:00+00:00achurchnearyou
CATEGORIES:
DESCRIPTION:A traditional Communion Service with hymns.
GEO:-1.335659;52.383228
LOCATION:Church Lawford - St. Peter
URL:https://www.achurchnearyou.com/church/13002/service-and-events/events/
 243496/
END:VEVENT
BEGIN:VEVENT
SUMMARY:Holy Communion
DTSTART;TZID=Europe/London:20270117T091500
DTEND;TZID=Europe/London:20270117T101500
DTSTAMP:20260421T233053Z
UID:2434962027-01-17 09:15:00+00:00achurchnearyou
CATEGORIES:
DESCRIPTION:A traditional Communion Service with hymns.
GEO:-1.335659;52.383228
LOCATION:Church Lawford - St. Peter
URL:https://www.achurchnearyou.com/church/13002/service-and-events/events/
 243496/
END:VEVENT
BEGIN:VEVENT
SUMMARY:Holy Communion
DTSTART;TZID=Europe/London:20270221T091500
DTEND;TZID=Europe/London:20270221T101500
DTSTAMP:20260421T233053Z
UID:2434962027-02-21 09:15:00+00:00achurchnearyou
CATEGORIES:
DESCRIPTION:A traditional Communion Service with hymns.
GEO:-1.335659;52.383228
LOCATION:Church Lawford - St. Peter
URL:https://www.achurchnearyou.com/church/13002/service-and-events/events/
 243496/
END:VEVENT
BEGIN:VEVENT
SUMMARY:Holy Communion
DTSTART;TZID=Europe/London:20270321T091500
DTEND;TZID=Europe/London:20270321T101500
DTSTAMP:20260421T233053Z
UID:2434962027-03-21 09:15:00+00:00achurchnearyou
CATEGORIES:
DESCRIPTION:A traditional Communion Service with hymns.
GEO:-1.335659;52.383228
LOCATION:Church Lawford - St. Peter
URL:https://www.achurchnearyou.com/church/13002/service-and-events/events/
 243496/
END:VEVENT
BEGIN:VEVENT
SUMMARY:Holy Communion
DTSTART;TZID=Europe/London:20270418T091500
DTEND;TZID=Europe/London:20270418T101500
DTSTAMP:20260421T233053Z
UID:2434962027-04-18 09:15:00+01:00achurchnearyou
CATEGORIES:
DESCRIPTION:A traditional Communion Service with hymns.
GEO:-1.335659;52.383228
LOCATION:Church Lawford - St. Peter
URL:https://www.achurchnearyou.com/church/13002/service-and-events/events/
 243496/
END:VEVENT
END:VCALENDAR
