BEGIN:VCALENDAR
VERSION:2.0
PRODID:-//achurchnearyou.com//eventfeed//EN
CALSCALE:GREGORIAN
METHOD:PUBLISH
X-WR-TIMEZONE:UTC
BEGIN:VEVENT
SUMMARY:Carols by Candlelight
DTSTART:20251224T160000Z
DTEND:20251224T170000Z
DTSTAMP:20260424T001720Z
UID:12595172025-12-24 16:00:00+00:00achurchnearyou
CATEGORIES:
DESCRIPTION:Here at St John the Baptist and St Gabriel's we welcome you to
  join us this Christmas...\n\nSunday 14th December @ 5pm\nLessons and Caro
 ls Service at St John’s\n\nSunday 21st December @ 4pm\nNativity at St Ga
 briel’s\, Houlton\n\n**Wednesday 24th December**\nCarols by Candlelight 
 at St John’s @ 4pm and 6pm\nMidnight Communion at St John’s @ 11.30\n\
 nThursday 25th December @ 10.30am\nChristmas Day Family Communion at St Jo
 hn’s
GEO:-1.213839;52.365255
LOCATION:St. John the Baptist\, Hillmorton
URL:https://www.stjohnhillmorton.org.uk/
END:VEVENT
END:VCALENDAR
