BEGIN:VCALENDAR
VERSION:2.0
PRODID:-//achurchnearyou.com//eventfeed//EN
CALSCALE:GREGORIAN
METHOD:PUBLISH
X-WR-TIMEZONE:UTC
BEGIN:VEVENT
SUMMARY:Christmas Day Family Communion
DTSTART:20251225T103000Z
DTEND:20251225T113000Z
DTSTAMP:20260423T223924Z
UID:12595472025-12-25 10:30:00+00:00achurchnearyou
CATEGORIES:
DESCRIPTION:Here at St John the Baptist and St Gabriel's we welcome you to
  join us this Christmas at one or all of our services:\n\nSunday 14th Dece
 mber @ 5pm\nLessons and Carols Service at St John’s\n\nSunday 21st Decem
 ber @ 4pm\nNativity at St Gabriel’s\, Houlton\n\nWednesday 24th December
  @ 4pm and 6pm\nCarols by Candlelight at St John’s\n\nWednesday 24th Dec
 ember @11.30pm\nMidnight Communion at St John’s\n\n**Thursday 25th Decem
 ber @ 10.30am**\nChristmas Day Family Communion at St John’s
GEO:-1.213839;52.365255
LOCATION:St. John the Baptist\, Hillmorton
URL:https://www.stjohnhillmorton.org.uk/christmas
END:VEVENT
END:VCALENDAR
