BEGIN:VCALENDAR
VERSION:2.0
PRODID:-//achurchnearyou.com//eventfeed//EN
CALSCALE:GREGORIAN
METHOD:PUBLISH
X-WR-TIMEZONE:UTC
BEGIN:VEVENT
SUMMARY:Cafe Church
DTSTART;TZID=Europe/London:20260405T103000
DTEND;TZID=Europe/London:20260405T111500
DTSTAMP:20260424T130828Z
UID:6583141775381400.0achurchnearyou
CATEGORIES:
DESCRIPTION:An informal service. Seated at Cafe style tables and chairs: t
 eas\, coffees and cold drinks are available both beforehand and afterwards
 \, plus a variety of delicious cakes and biscuits. We follow a simple orde
 r of hymns\, prayers and a short talk. All very welcome.
GEO:-1.853857;52.164639
LOCATION:Bidford on Avon - St. Laurence
URL:https://www.achurchnearyou.com/church/13033/service-and-events/events/
 658314/
END:VEVENT
BEGIN:VEVENT
SUMMARY:Holy Communion
DTSTART;TZID=Europe/London:20260412T100000
DTEND;TZID=Europe/London:20260412T110000
DTSTAMP:20260424T130828Z
UID:6583151775984400.0achurchnearyou
CATEGORIES:
DESCRIPTION:A service with hymns following a pattern from the Church of En
 gland's Common Worship. Refreshments are served afterwards from the new se
 rvery in church. Includes a sermon.
LOCATION:Bidford on Avon - St. Laurence
URL:https://www.achurchnearyou.com/church/13033/service-and-events/events/
 658315/
END:VEVENT
BEGIN:VEVENT
SUMMARY:Holy Communion
DTSTART;TZID=Europe/London:20260419T100000
DTEND;TZID=Europe/London:20260419T110000
DTSTAMP:20260424T130828Z
UID:6583151776589200.0achurchnearyou
CATEGORIES:
DESCRIPTION:A service with hymns following a pattern from the Church of En
 gland's Common Worship. Refreshments are served afterwards from the new se
 rvery in church. Includes a sermon.
LOCATION:Bidford on Avon - St. Laurence
URL:https://www.achurchnearyou.com/church/13033/service-and-events/events/
 658315/
END:VEVENT
BEGIN:VEVENT
SUMMARY:Holy Communion
DTSTART;TZID=Europe/London:20260426T100000
DTEND;TZID=Europe/London:20260426T110000
DTSTAMP:20260424T130828Z
UID:6583151777194000.0achurchnearyou
CATEGORIES:
DESCRIPTION:A service with hymns following a pattern from the Church of En
 gland's Common Worship. Refreshments are served afterwards from the new se
 rvery in church. Includes a sermon.
LOCATION:Bidford on Avon - St. Laurence
URL:https://www.achurchnearyou.com/church/13033/service-and-events/events/
 658315/
END:VEVENT
BEGIN:VEVENT
SUMMARY:Cafe Church
DTSTART;TZID=Europe/London:20260503T103000
DTEND;TZID=Europe/London:20260503T111500
DTSTAMP:20260424T130828Z
UID:6583141777800600.0achurchnearyou
CATEGORIES:
DESCRIPTION:An informal service. Seated at Cafe style tables and chairs: t
 eas\, coffees and cold drinks are available both beforehand and afterwards
 \, plus a variety of delicious cakes and biscuits. We follow a simple orde
 r of hymns\, prayers and a short talk. All very welcome.
GEO:-1.853857;52.164639
LOCATION:Bidford on Avon - St. Laurence
URL:https://www.achurchnearyou.com/church/13033/service-and-events/events/
 658314/
END:VEVENT
BEGIN:VEVENT
SUMMARY:Holy Communion
DTSTART;TZID=Europe/London:20260510T100000
DTEND;TZID=Europe/London:20260510T110000
DTSTAMP:20260424T130828Z
UID:6583151778403600.0achurchnearyou
CATEGORIES:
DESCRIPTION:A service with hymns following a pattern from the Church of En
 gland's Common Worship. Refreshments are served afterwards from the new se
 rvery in church. Includes a sermon.
LOCATION:Bidford on Avon - St. Laurence
URL:https://www.achurchnearyou.com/church/13033/service-and-events/events/
 658315/
END:VEVENT
BEGIN:VEVENT
SUMMARY:Holy Communion
DTSTART;TZID=Europe/London:20260517T100000
DTEND;TZID=Europe/London:20260517T110000
DTSTAMP:20260424T130828Z
UID:6583151779008400.0achurchnearyou
CATEGORIES:
DESCRIPTION:A service with hymns following a pattern from the Church of En
 gland's Common Worship. Refreshments are served afterwards from the new se
 rvery in church. Includes a sermon.
LOCATION:Bidford on Avon - St. Laurence
URL:https://www.achurchnearyou.com/church/13033/service-and-events/events/
 658315/
END:VEVENT
BEGIN:VEVENT
SUMMARY:Holy Communion
DTSTART;TZID=Europe/London:20260524T100000
DTEND;TZID=Europe/London:20260524T110000
DTSTAMP:20260424T130828Z
UID:6583151779613200.0achurchnearyou
CATEGORIES:
DESCRIPTION:A service with hymns following a pattern from the Church of En
 gland's Common Worship. Refreshments are served afterwards from the new se
 rvery in church. Includes a sermon.
LOCATION:Bidford on Avon - St. Laurence
URL:https://www.achurchnearyou.com/church/13033/service-and-events/events/
 658315/
END:VEVENT
BEGIN:VEVENT
SUMMARY:Cafe Church
DTSTART;TZID=Europe/London:20260607T103000
DTEND;TZID=Europe/London:20260607T111500
DTSTAMP:20260424T130828Z
UID:6583141780824600.0achurchnearyou
CATEGORIES:
DESCRIPTION:An informal service. Seated at Cafe style tables and chairs: t
 eas\, coffees and cold drinks are available both beforehand and afterwards
 \, plus a variety of delicious cakes and biscuits. We follow a simple orde
 r of hymns\, prayers and a short talk. All very welcome.
GEO:-1.853857;52.164639
LOCATION:Bidford on Avon - St. Laurence
URL:https://www.achurchnearyou.com/church/13033/service-and-events/events/
 658314/
END:VEVENT
BEGIN:VEVENT
SUMMARY:Holy Communion
DTSTART;TZID=Europe/London:20260614T100000
DTEND;TZID=Europe/London:20260614T110000
DTSTAMP:20260424T130828Z
UID:6583151781427600.0achurchnearyou
CATEGORIES:
DESCRIPTION:A service with hymns following a pattern from the Church of En
 gland's Common Worship. Refreshments are served afterwards from the new se
 rvery in church. Includes a sermon.
LOCATION:Bidford on Avon - St. Laurence
URL:https://www.achurchnearyou.com/church/13033/service-and-events/events/
 658315/
END:VEVENT
BEGIN:VEVENT
SUMMARY:Holy Communion
DTSTART;TZID=Europe/London:20260621T100000
DTEND;TZID=Europe/London:20260621T110000
DTSTAMP:20260424T130828Z
UID:6583151782032400.0achurchnearyou
CATEGORIES:
DESCRIPTION:A service with hymns following a pattern from the Church of En
 gland's Common Worship. Refreshments are served afterwards from the new se
 rvery in church. Includes a sermon.
LOCATION:Bidford on Avon - St. Laurence
URL:https://www.achurchnearyou.com/church/13033/service-and-events/events/
 658315/
END:VEVENT
BEGIN:VEVENT
SUMMARY:Holy Communion
DTSTART;TZID=Europe/London:20260628T100000
DTEND;TZID=Europe/London:20260628T110000
DTSTAMP:20260424T130828Z
UID:6583151782637200.0achurchnearyou
CATEGORIES:
DESCRIPTION:A service with hymns following a pattern from the Church of En
 gland's Common Worship. Refreshments are served afterwards from the new se
 rvery in church. Includes a sermon.
LOCATION:Bidford on Avon - St. Laurence
URL:https://www.achurchnearyou.com/church/13033/service-and-events/events/
 658315/
END:VEVENT
BEGIN:VEVENT
SUMMARY:Cafe Church
DTSTART;TZID=Europe/London:20260705T103000
DTEND;TZID=Europe/London:20260705T111500
DTSTAMP:20260424T130828Z
UID:6583141783243800.0achurchnearyou
CATEGORIES:
DESCRIPTION:An informal service. Seated at Cafe style tables and chairs: t
 eas\, coffees and cold drinks are available both beforehand and afterwards
 \, plus a variety of delicious cakes and biscuits. We follow a simple orde
 r of hymns\, prayers and a short talk. All very welcome.
GEO:-1.853857;52.164639
LOCATION:Bidford on Avon - St. Laurence
URL:https://www.achurchnearyou.com/church/13033/service-and-events/events/
 658314/
END:VEVENT
BEGIN:VEVENT
SUMMARY:Holy Communion
DTSTART;TZID=Europe/London:20260712T100000
DTEND;TZID=Europe/London:20260712T110000
DTSTAMP:20260424T130828Z
UID:6583151783846800.0achurchnearyou
CATEGORIES:
DESCRIPTION:A service with hymns following a pattern from the Church of En
 gland's Common Worship. Refreshments are served afterwards from the new se
 rvery in church. Includes a sermon.
LOCATION:Bidford on Avon - St. Laurence
URL:https://www.achurchnearyou.com/church/13033/service-and-events/events/
 658315/
END:VEVENT
BEGIN:VEVENT
SUMMARY:Holy Communion
DTSTART;TZID=Europe/London:20260719T100000
DTEND;TZID=Europe/London:20260719T110000
DTSTAMP:20260424T130828Z
UID:6583151784451600.0achurchnearyou
CATEGORIES:
DESCRIPTION:A service with hymns following a pattern from the Church of En
 gland's Common Worship. Refreshments are served afterwards from the new se
 rvery in church. Includes a sermon.
LOCATION:Bidford on Avon - St. Laurence
URL:https://www.achurchnearyou.com/church/13033/service-and-events/events/
 658315/
END:VEVENT
BEGIN:VEVENT
SUMMARY:Holy Communion
DTSTART;TZID=Europe/London:20260726T100000
DTEND;TZID=Europe/London:20260726T110000
DTSTAMP:20260424T130828Z
UID:6583151785056400.0achurchnearyou
CATEGORIES:
DESCRIPTION:A service with hymns following a pattern from the Church of En
 gland's Common Worship. Refreshments are served afterwards from the new se
 rvery in church. Includes a sermon.
LOCATION:Bidford on Avon - St. Laurence
URL:https://www.achurchnearyou.com/church/13033/service-and-events/events/
 658315/
END:VEVENT
BEGIN:VEVENT
SUMMARY:Cafe Church
DTSTART;TZID=Europe/London:20260802T103000
DTEND;TZID=Europe/London:20260802T111500
DTSTAMP:20260424T130828Z
UID:6583141785663000.0achurchnearyou
CATEGORIES:
DESCRIPTION:An informal service. Seated at Cafe style tables and chairs: t
 eas\, coffees and cold drinks are available both beforehand and afterwards
 \, plus a variety of delicious cakes and biscuits. We follow a simple orde
 r of hymns\, prayers and a short talk. All very welcome.
GEO:-1.853857;52.164639
LOCATION:Bidford on Avon - St. Laurence
URL:https://www.achurchnearyou.com/church/13033/service-and-events/events/
 658314/
END:VEVENT
BEGIN:VEVENT
SUMMARY:Holy Communion
DTSTART;TZID=Europe/London:20260809T100000
DTEND;TZID=Europe/London:20260809T110000
DTSTAMP:20260424T130828Z
UID:6583151786266000.0achurchnearyou
CATEGORIES:
DESCRIPTION:A service with hymns following a pattern from the Church of En
 gland's Common Worship. Refreshments are served afterwards from the new se
 rvery in church. Includes a sermon.
LOCATION:Bidford on Avon - St. Laurence
URL:https://www.achurchnearyou.com/church/13033/service-and-events/events/
 658315/
END:VEVENT
BEGIN:VEVENT
SUMMARY:Holy Communion
DTSTART;TZID=Europe/London:20260816T100000
DTEND;TZID=Europe/London:20260816T110000
DTSTAMP:20260424T130828Z
UID:6583151786870800.0achurchnearyou
CATEGORIES:
DESCRIPTION:A service with hymns following a pattern from the Church of En
 gland's Common Worship. Refreshments are served afterwards from the new se
 rvery in church. Includes a sermon.
LOCATION:Bidford on Avon - St. Laurence
URL:https://www.achurchnearyou.com/church/13033/service-and-events/events/
 658315/
END:VEVENT
BEGIN:VEVENT
SUMMARY:Holy Communion
DTSTART;TZID=Europe/London:20260823T100000
DTEND;TZID=Europe/London:20260823T110000
DTSTAMP:20260424T130828Z
UID:6583151787475600.0achurchnearyou
CATEGORIES:
DESCRIPTION:A service with hymns following a pattern from the Church of En
 gland's Common Worship. Refreshments are served afterwards from the new se
 rvery in church. Includes a sermon.
LOCATION:Bidford on Avon - St. Laurence
URL:https://www.achurchnearyou.com/church/13033/service-and-events/events/
 658315/
END:VEVENT
BEGIN:VEVENT
SUMMARY:Cafe Church
DTSTART;TZID=Europe/London:20260906T103000
DTEND;TZID=Europe/London:20260906T111500
DTSTAMP:20260424T130828Z
UID:6583141788687000.0achurchnearyou
CATEGORIES:
DESCRIPTION:An informal service. Seated at Cafe style tables and chairs: t
 eas\, coffees and cold drinks are available both beforehand and afterwards
 \, plus a variety of delicious cakes and biscuits. We follow a simple orde
 r of hymns\, prayers and a short talk. All very welcome.
GEO:-1.853857;52.164639
LOCATION:Bidford on Avon - St. Laurence
URL:https://www.achurchnearyou.com/church/13033/service-and-events/events/
 658314/
END:VEVENT
BEGIN:VEVENT
SUMMARY:Holy Communion
DTSTART;TZID=Europe/London:20260913T100000
DTEND;TZID=Europe/London:20260913T110000
DTSTAMP:20260424T130828Z
UID:6583151789290000.0achurchnearyou
CATEGORIES:
DESCRIPTION:A service with hymns following a pattern from the Church of En
 gland's Common Worship. Refreshments are served afterwards from the new se
 rvery in church. Includes a sermon.
LOCATION:Bidford on Avon - St. Laurence
URL:https://www.achurchnearyou.com/church/13033/service-and-events/events/
 658315/
END:VEVENT
BEGIN:VEVENT
SUMMARY:Holy Communion
DTSTART;TZID=Europe/London:20260920T100000
DTEND;TZID=Europe/London:20260920T110000
DTSTAMP:20260424T130828Z
UID:6583151789894800.0achurchnearyou
CATEGORIES:
DESCRIPTION:A service with hymns following a pattern from the Church of En
 gland's Common Worship. Refreshments are served afterwards from the new se
 rvery in church. Includes a sermon.
LOCATION:Bidford on Avon - St. Laurence
URL:https://www.achurchnearyou.com/church/13033/service-and-events/events/
 658315/
END:VEVENT
BEGIN:VEVENT
SUMMARY:Holy Communion
DTSTART;TZID=Europe/London:20260927T100000
DTEND;TZID=Europe/London:20260927T110000
DTSTAMP:20260424T130828Z
UID:6583151790499600.0achurchnearyou
CATEGORIES:
DESCRIPTION:A service with hymns following a pattern from the Church of En
 gland's Common Worship. Refreshments are served afterwards from the new se
 rvery in church. Includes a sermon.
LOCATION:Bidford on Avon - St. Laurence
URL:https://www.achurchnearyou.com/church/13033/service-and-events/events/
 658315/
END:VEVENT
END:VCALENDAR
