BEGIN:VCALENDAR
VERSION:2.0
PRODID:-//achurchnearyou.com//eventfeed//EN
CALSCALE:GREGORIAN
METHOD:PUBLISH
X-WR-TIMEZONE:UTC
BEGIN:VEVENT
SUMMARY:Candlelit Carols
DTSTART:20251221T190000Z
DTEND:20251221T200000Z
DTSTAMP:20260423T152705Z
UID:12570722025-12-21 19:00:00+00:00achurchnearyou
CATEGORIES:
DESCRIPTION:Out ever popular Candlelit Carols service - because it's as be
 autiful as it sounds. Come join us as we sing the Carols you know in candl
 elight and embrace the Season and JOY. This is very much a calm and reflec
 tive service.
GEO:-1.847479;52.223455
LOCATION:Kinwarton with Great Alne - St. Mary the Virgin
URL:https://www.alcesterminster.org/news-and-events/events
END:VEVENT
END:VCALENDAR
