BEGIN:VCALENDAR
VERSION:2.0
PRODID:-//achurchnearyou.com//eventfeed//EN
CALSCALE:GREGORIAN
METHOD:PUBLISH
X-WR-TIMEZONE:UTC
BEGIN:VEVENT
SUMMARY:The God Story Sunday Sermon Series and Tuesday eve Mid Week group 
 7:30pm - 9pm
DTSTART;TZID=Europe/London:20250114T193000
DTEND;TZID=Europe/London:20250114T210000
DTSTAMP:20260424T122255Z
UID:11485762025-01-14 19:30:00+00:00achurchnearyou
CATEGORIES:
DESCRIPTION:The sermon series from January to May follows the book The God
  Story which takes us all the way through the Bible in 12 chapters/sermons
 .
GEO:-1.888437;52.157233
LOCATION:Salford Priors - St. Matthew
URL:https://www.achurchnearyou.com/church/13047/service-and-events/events/
 1148576/
END:VEVENT
BEGIN:VEVENT
SUMMARY:The God Story Sunday Sermon Series and Tuesday eve Mid Week group 
 7:30pm - 9pm
DTSTART;TZID=Europe/London:20250121T193000
DTEND;TZID=Europe/London:20250121T210000
DTSTAMP:20260424T122255Z
UID:11485762025-01-21 19:30:00+00:00achurchnearyou
CATEGORIES:
DESCRIPTION:The sermon series from January to May follows the book The God
  Story which takes us all the way through the Bible in 12 chapters/sermons
 .
GEO:-1.888437;52.157233
LOCATION:Salford Priors - St. Matthew
URL:https://www.achurchnearyou.com/church/13047/service-and-events/events/
 1148576/
END:VEVENT
BEGIN:VEVENT
SUMMARY:The God Story Sunday Sermon Series and Tuesday eve Mid Week group 
 7:30pm - 9pm
DTSTART;TZID=Europe/London:20250128T193000
DTEND;TZID=Europe/London:20250128T210000
DTSTAMP:20260424T122255Z
UID:11485762025-01-28 19:30:00+00:00achurchnearyou
CATEGORIES:
DESCRIPTION:The sermon series from January to May follows the book The God
  Story which takes us all the way through the Bible in 12 chapters/sermons
 .
GEO:-1.888437;52.157233
LOCATION:Salford Priors - St. Matthew
URL:https://www.achurchnearyou.com/church/13047/service-and-events/events/
 1148576/
END:VEVENT
BEGIN:VEVENT
SUMMARY:The God Story Sunday Sermon Series and Tuesday eve Mid Week group 
 7:30pm - 9pm
DTSTART;TZID=Europe/London:20250211T193000
DTEND;TZID=Europe/London:20250211T210000
DTSTAMP:20260424T122255Z
UID:11485762025-02-11 19:30:00+00:00achurchnearyou
CATEGORIES:
DESCRIPTION:The sermon series from January to May follows the book The God
  Story which takes us all the way through the Bible in 12 chapters/sermons
 .
GEO:-1.888437;52.157233
LOCATION:Salford Priors - St. Matthew
URL:https://www.achurchnearyou.com/church/13047/service-and-events/events/
 1148576/
END:VEVENT
BEGIN:VEVENT
SUMMARY:The God Story Sunday Sermon Series and Tuesday eve Mid Week group 
 7:30pm - 9pm
DTSTART;TZID=Europe/London:20250218T193000
DTEND;TZID=Europe/London:20250218T210000
DTSTAMP:20260424T122255Z
UID:11485762025-02-18 19:30:00+00:00achurchnearyou
CATEGORIES:
DESCRIPTION:The sermon series from January to May follows the book The God
  Story which takes us all the way through the Bible in 12 chapters/sermons
 .
GEO:-1.888437;52.157233
LOCATION:Salford Priors - St. Matthew
URL:https://www.achurchnearyou.com/church/13047/service-and-events/events/
 1148576/
END:VEVENT
BEGIN:VEVENT
SUMMARY:The God Story Sunday Sermon Series and Tuesday eve Mid Week group 
 7:30pm - 9pm
DTSTART;TZID=Europe/London:20250225T193000
DTEND;TZID=Europe/London:20250225T210000
DTSTAMP:20260424T122255Z
UID:11485762025-02-25 19:30:00+00:00achurchnearyou
CATEGORIES:
DESCRIPTION:The sermon series from January to May follows the book The God
  Story which takes us all the way through the Bible in 12 chapters/sermons
 .
GEO:-1.888437;52.157233
LOCATION:Salford Priors - St. Matthew
URL:https://www.achurchnearyou.com/church/13047/service-and-events/events/
 1148576/
END:VEVENT
BEGIN:VEVENT
SUMMARY:The God Story Sunday Sermon Series and Tuesday eve Mid Week group 
 7:30pm - 9pm
DTSTART;TZID=Europe/London:20250311T193000
DTEND;TZID=Europe/London:20250311T210000
DTSTAMP:20260424T122255Z
UID:11485762025-03-11 19:30:00+00:00achurchnearyou
CATEGORIES:
DESCRIPTION:The sermon series from January to May follows the book The God
  Story which takes us all the way through the Bible in 12 chapters/sermons
 .
GEO:-1.888437;52.157233
LOCATION:Salford Priors - St. Matthew
URL:https://www.achurchnearyou.com/church/13047/service-and-events/events/
 1148576/
END:VEVENT
BEGIN:VEVENT
SUMMARY:The God Story Sunday Sermon Series and Tuesday eve Mid Week group 
 7:30pm - 9pm
DTSTART;TZID=Europe/London:20250318T193000
DTEND;TZID=Europe/London:20250318T210000
DTSTAMP:20260424T122255Z
UID:11485762025-03-18 19:30:00+00:00achurchnearyou
CATEGORIES:
DESCRIPTION:The sermon series from January to May follows the book The God
  Story which takes us all the way through the Bible in 12 chapters/sermons
 .
GEO:-1.888437;52.157233
LOCATION:Salford Priors - St. Matthew
URL:https://www.achurchnearyou.com/church/13047/service-and-events/events/
 1148576/
END:VEVENT
BEGIN:VEVENT
SUMMARY:The God Story Sunday Sermon Series and Tuesday eve Mid Week group 
 7:30pm - 9pm
DTSTART;TZID=Europe/London:20250325T193000
DTEND;TZID=Europe/London:20250325T210000
DTSTAMP:20260424T122255Z
UID:11485762025-03-25 19:30:00+00:00achurchnearyou
CATEGORIES:
DESCRIPTION:The sermon series from January to May follows the book The God
  Story which takes us all the way through the Bible in 12 chapters/sermons
 .
GEO:-1.888437;52.157233
LOCATION:Salford Priors - St. Matthew
URL:https://www.achurchnearyou.com/church/13047/service-and-events/events/
 1148576/
END:VEVENT
BEGIN:VEVENT
SUMMARY:The God Story Sunday Sermon Series and Tuesday eve Mid Week group 
 7:30pm - 9pm
DTSTART;TZID=Europe/London:20250408T193000
DTEND;TZID=Europe/London:20250408T210000
DTSTAMP:20260424T122255Z
UID:11485762025-04-08 19:30:00+01:00achurchnearyou
CATEGORIES:
DESCRIPTION:The sermon series from January to May follows the book The God
  Story which takes us all the way through the Bible in 12 chapters/sermons
 .
GEO:-1.888437;52.157233
LOCATION:Salford Priors - St. Matthew
URL:https://www.achurchnearyou.com/church/13047/service-and-events/events/
 1148576/
END:VEVENT
BEGIN:VEVENT
SUMMARY:The God Story Sunday Sermon Series and Tuesday eve Mid Week group 
 7:30pm - 9pm
DTSTART;TZID=Europe/London:20250415T193000
DTEND;TZID=Europe/London:20250415T210000
DTSTAMP:20260424T122255Z
UID:11485762025-04-15 19:30:00+01:00achurchnearyou
CATEGORIES:
DESCRIPTION:The sermon series from January to May follows the book The God
  Story which takes us all the way through the Bible in 12 chapters/sermons
 .
GEO:-1.888437;52.157233
LOCATION:Salford Priors - St. Matthew
URL:https://www.achurchnearyou.com/church/13047/service-and-events/events/
 1148576/
END:VEVENT
BEGIN:VEVENT
SUMMARY:The God Story Sunday Sermon Series and Tuesday eve Mid Week group 
 7:30pm - 9pm
DTSTART;TZID=Europe/London:20250422T193000
DTEND;TZID=Europe/London:20250422T210000
DTSTAMP:20260424T122255Z
UID:11485762025-04-22 19:30:00+01:00achurchnearyou
CATEGORIES:
DESCRIPTION:The sermon series from January to May follows the book The God
  Story which takes us all the way through the Bible in 12 chapters/sermons
 .
GEO:-1.888437;52.157233
LOCATION:Salford Priors - St. Matthew
URL:https://www.achurchnearyou.com/church/13047/service-and-events/events/
 1148576/
END:VEVENT
BEGIN:VEVENT
SUMMARY:The God Story Sunday Sermon Series and Tuesday eve Mid Week group 
 7:30pm - 9pm
DTSTART;TZID=Europe/London:20250513T193000
DTEND;TZID=Europe/London:20250513T210000
DTSTAMP:20260424T122255Z
UID:11485762025-05-13 19:30:00+01:00achurchnearyou
CATEGORIES:
DESCRIPTION:The sermon series from January to May follows the book The God
  Story which takes us all the way through the Bible in 12 chapters/sermons
 .
GEO:-1.888437;52.157233
LOCATION:Salford Priors - St. Matthew
URL:https://www.achurchnearyou.com/church/13047/service-and-events/events/
 1148576/
END:VEVENT
BEGIN:VEVENT
SUMMARY:The God Story Sunday Sermon Series and Tuesday eve Mid Week group 
 7:30pm - 9pm
DTSTART;TZID=Europe/London:20250520T193000
DTEND;TZID=Europe/London:20250520T210000
DTSTAMP:20260424T122255Z
UID:11485762025-05-20 19:30:00+01:00achurchnearyou
CATEGORIES:
DESCRIPTION:The sermon series from January to May follows the book The God
  Story which takes us all the way through the Bible in 12 chapters/sermons
 .
GEO:-1.888437;52.157233
LOCATION:Salford Priors - St. Matthew
URL:https://www.achurchnearyou.com/church/13047/service-and-events/events/
 1148576/
END:VEVENT
END:VCALENDAR
