BEGIN:VCALENDAR
VERSION:2.0
PRODID:-//achurchnearyou.com//eventfeed//EN
CALSCALE:GREGORIAN
METHOD:PUBLISH
X-WR-TIMEZONE:UTC
BEGIN:VEVENT
SUMMARY:Simply Celebrate
DTSTART;TZID=Europe/London:20260405T103000
DTEND;TZID=Europe/London:20260405T113000
DTSTAMP:20260421T044741Z
UID:6475401775381400.0achurchnearyou
CATEGORIES:
DESCRIPTION:Join us at 10am for breakfast together in church followed by a
  time with God for everyone\, with drama\, activities\, fun\, songs and mo
 re. Our young people help lead the service
GEO:-1.510684;52.156986
LOCATION:Kineton - St. Peter
URL:https://www.facebook.com/groups/523215405286846/
END:VEVENT
BEGIN:VEVENT
SUMMARY:Pints of View - sorting the world out over your favourite drink
DTSTART;TZID=Europe/London:20260405T193000
DTEND;TZID=Europe/London:20260405T203000
DTSTAMP:20260421T044741Z
UID:6475581775413800.0achurchnearyou
CATEGORIES:
DESCRIPTION:A weekly discussion on a theme from the news and some time tog
 ether in prayer \nEach week we explore a theme or story from the news.\nWh
 atever your pint of choice\, come & share your point of view.
LOCATION:The Swan Pub
URL:https://www.achurchnearyou.com/church/13070/service-and-events/events/
 647558/
END:VEVENT
BEGIN:VEVENT
SUMMARY:Holy Communion service
DTSTART;TZID=Europe/London:20260412T103000
DTEND;TZID=Europe/London:20260412T113000
DTSTAMP:20260421T044741Z
UID:6475441775986200.0achurchnearyou
CATEGORIES:
DESCRIPTION:A service of Holy Communion in church and online
GEO:-1.510684;52.156986
LOCATION:Kineton - St. Peter
URL:https://www.facebook.com/groups/523215405286846/
END:VEVENT
BEGIN:VEVENT
SUMMARY:Pints of View - sorting the world out over your favourite drink
DTSTART;TZID=Europe/London:20260412T193000
DTEND;TZID=Europe/London:20260412T203000
DTSTAMP:20260421T044741Z
UID:6475581776018600.0achurchnearyou
CATEGORIES:
DESCRIPTION:A weekly discussion on a theme from the news and some time tog
 ether in prayer \nEach week we explore a theme or story from the news.\nWh
 atever your pint of choice\, come & share your point of view.
LOCATION:The Swan Pub
URL:https://www.achurchnearyou.com/church/13070/service-and-events/events/
 647558/
END:VEVENT
BEGIN:VEVENT
SUMMARY:Lego Church and Lego Cafe Church
DTSTART;TZID=Europe/London:20260419T101500
DTEND;TZID=Europe/London:20260419T113000
DTSTAMP:20260421T044741Z
UID:8703641776590100.0achurchnearyou
CATEGORIES:
DESCRIPTION:Lego Church is a FREE action-packed time for children and pare
 nts with lots and lots of lego of every colour. Parents are welcome to sta
 y and play with the lego alongside their children.\nFor safeguarding reaso
 ns\, all children coming to Sunday School need to be registered in at arri
 val.
LOCATION:Kineton Primary School
URL:https://www.achurchnearyou.com/church/13070/service-and-events/events/
 870364/
END:VEVENT
BEGIN:VEVENT
SUMMARY:Morning worship
DTSTART;TZID=Europe/London:20260419T103000
DTEND;TZID=Europe/London:20260419T113000
DTSTAMP:20260421T044741Z
UID:6475451776591000.0achurchnearyou
CATEGORIES:
DESCRIPTION:A service of the word\, often using alterantive liturgies
GEO:-1.510684;52.156986
LOCATION:Kineton - St. Peter
URL:https://www.facebook.com/groups/523215405286846/
END:VEVENT
BEGIN:VEVENT
SUMMARY:Pints of View - sorting the world out over your favourite drink
DTSTART;TZID=Europe/London:20260419T193000
DTEND;TZID=Europe/London:20260419T203000
DTSTAMP:20260421T044741Z
UID:6475581776623400.0achurchnearyou
CATEGORIES:
DESCRIPTION:A weekly discussion on a theme from the news and some time tog
 ether in prayer \nEach week we explore a theme or story from the news.\nWh
 atever your pint of choice\, come & share your point of view.
LOCATION:The Swan Pub
URL:https://www.achurchnearyou.com/church/13070/service-and-events/events/
 647558/
END:VEVENT
BEGIN:VEVENT
SUMMARY:Holy Communion service
DTSTART;TZID=Europe/London:20260426T103000
DTEND;TZID=Europe/London:20260426T113000
DTSTAMP:20260421T044741Z
UID:6475471777195800.0achurchnearyou
CATEGORIES:
DESCRIPTION:A service of Holy Communion in church and online
GEO:-1.510684;52.156986
LOCATION:Kineton - St. Peter
URL:https://www.facebook.com/groups/523215405286846/
END:VEVENT
BEGIN:VEVENT
SUMMARY:Pints of View - sorting the world out over your favourite drink
DTSTART;TZID=Europe/London:20260426T193000
DTEND;TZID=Europe/London:20260426T203000
DTSTAMP:20260421T044741Z
UID:6475581777228200.0achurchnearyou
CATEGORIES:
DESCRIPTION:A weekly discussion on a theme from the news and some time tog
 ether in prayer \nEach week we explore a theme or story from the news.\nWh
 atever your pint of choice\, come & share your point of view.
LOCATION:The Swan Pub
URL:https://www.achurchnearyou.com/church/13070/service-and-events/events/
 647558/
END:VEVENT
BEGIN:VEVENT
SUMMARY:Simply Celebrate
DTSTART;TZID=Europe/London:20260503T103000
DTEND;TZID=Europe/London:20260503T113000
DTSTAMP:20260421T044741Z
UID:6475401777800600.0achurchnearyou
CATEGORIES:
DESCRIPTION:Join us at 10am for breakfast together in church followed by a
  time with God for everyone\, with drama\, activities\, fun\, songs and mo
 re. Our young people help lead the service
GEO:-1.510684;52.156986
LOCATION:Kineton - St. Peter
URL:https://www.facebook.com/groups/523215405286846/
END:VEVENT
BEGIN:VEVENT
SUMMARY:Pints of View - sorting the world out over your favourite drink
DTSTART;TZID=Europe/London:20260503T193000
DTEND;TZID=Europe/London:20260503T203000
DTSTAMP:20260421T044741Z
UID:6475581777833000.0achurchnearyou
CATEGORIES:
DESCRIPTION:A weekly discussion on a theme from the news and some time tog
 ether in prayer \nEach week we explore a theme or story from the news.\nWh
 atever your pint of choice\, come & share your point of view.
LOCATION:The Swan Pub
URL:https://www.achurchnearyou.com/church/13070/service-and-events/events/
 647558/
END:VEVENT
BEGIN:VEVENT
SUMMARY:Holy Communion service
DTSTART;TZID=Europe/London:20260510T103000
DTEND;TZID=Europe/London:20260510T113000
DTSTAMP:20260421T044741Z
UID:6475441778405400.0achurchnearyou
CATEGORIES:
DESCRIPTION:A service of Holy Communion in church and online
GEO:-1.510684;52.156986
LOCATION:Kineton - St. Peter
URL:https://www.facebook.com/groups/523215405286846/
END:VEVENT
BEGIN:VEVENT
SUMMARY:Pints of View - sorting the world out over your favourite drink
DTSTART;TZID=Europe/London:20260510T193000
DTEND;TZID=Europe/London:20260510T203000
DTSTAMP:20260421T044741Z
UID:6475581778437800.0achurchnearyou
CATEGORIES:
DESCRIPTION:A weekly discussion on a theme from the news and some time tog
 ether in prayer \nEach week we explore a theme or story from the news.\nWh
 atever your pint of choice\, come & share your point of view.
LOCATION:The Swan Pub
URL:https://www.achurchnearyou.com/church/13070/service-and-events/events/
 647558/
END:VEVENT
BEGIN:VEVENT
SUMMARY:Lego Church and Lego Cafe Church
DTSTART;TZID=Europe/London:20260517T101500
DTEND;TZID=Europe/London:20260517T113000
DTSTAMP:20260421T044741Z
UID:8703641779009300.0achurchnearyou
CATEGORIES:
DESCRIPTION:Lego Church is a FREE action-packed time for children and pare
 nts with lots and lots of lego of every colour. Parents are welcome to sta
 y and play with the lego alongside their children.\nFor safeguarding reaso
 ns\, all children coming to Sunday School need to be registered in at arri
 val.
LOCATION:Kineton Primary School
URL:https://www.achurchnearyou.com/church/13070/service-and-events/events/
 870364/
END:VEVENT
BEGIN:VEVENT
SUMMARY:Morning worship
DTSTART;TZID=Europe/London:20260517T103000
DTEND;TZID=Europe/London:20260517T113000
DTSTAMP:20260421T044741Z
UID:6475451779010200.0achurchnearyou
CATEGORIES:
DESCRIPTION:A service of the word\, often using alterantive liturgies
GEO:-1.510684;52.156986
LOCATION:Kineton - St. Peter
URL:https://www.facebook.com/groups/523215405286846/
END:VEVENT
BEGIN:VEVENT
SUMMARY:Pints of View - sorting the world out over your favourite drink
DTSTART;TZID=Europe/London:20260517T193000
DTEND;TZID=Europe/London:20260517T203000
DTSTAMP:20260421T044741Z
UID:6475581779042600.0achurchnearyou
CATEGORIES:
DESCRIPTION:A weekly discussion on a theme from the news and some time tog
 ether in prayer \nEach week we explore a theme or story from the news.\nWh
 atever your pint of choice\, come & share your point of view.
LOCATION:The Swan Pub
URL:https://www.achurchnearyou.com/church/13070/service-and-events/events/
 647558/
END:VEVENT
BEGIN:VEVENT
SUMMARY:Holy Communion service
DTSTART;TZID=Europe/London:20260524T103000
DTEND;TZID=Europe/London:20260524T113000
DTSTAMP:20260421T044741Z
UID:6475471779615000.0achurchnearyou
CATEGORIES:
DESCRIPTION:A service of Holy Communion in church and online
GEO:-1.510684;52.156986
LOCATION:Kineton - St. Peter
URL:https://www.facebook.com/groups/523215405286846/
END:VEVENT
BEGIN:VEVENT
SUMMARY:Pints of View - sorting the world out over your favourite drink
DTSTART;TZID=Europe/London:20260524T193000
DTEND;TZID=Europe/London:20260524T203000
DTSTAMP:20260421T044741Z
UID:6475581779647400.0achurchnearyou
CATEGORIES:
DESCRIPTION:A weekly discussion on a theme from the news and some time tog
 ether in prayer \nEach week we explore a theme or story from the news.\nWh
 atever your pint of choice\, come & share your point of view.
LOCATION:The Swan Pub
URL:https://www.achurchnearyou.com/church/13070/service-and-events/events/
 647558/
END:VEVENT
BEGIN:VEVENT
SUMMARY:Pints of View - sorting the world out over your favourite drink
DTSTART;TZID=Europe/London:20260531T193000
DTEND;TZID=Europe/London:20260531T203000
DTSTAMP:20260421T044741Z
UID:6475581780252200.0achurchnearyou
CATEGORIES:
DESCRIPTION:A weekly discussion on a theme from the news and some time tog
 ether in prayer \nEach week we explore a theme or story from the news.\nWh
 atever your pint of choice\, come & share your point of view.
LOCATION:The Swan Pub
URL:https://www.achurchnearyou.com/church/13070/service-and-events/events/
 647558/
END:VEVENT
BEGIN:VEVENT
SUMMARY:Simply Celebrate
DTSTART;TZID=Europe/London:20260607T103000
DTEND;TZID=Europe/London:20260607T113000
DTSTAMP:20260421T044741Z
UID:6475401780824600.0achurchnearyou
CATEGORIES:
DESCRIPTION:Join us at 10am for breakfast together in church followed by a
  time with God for everyone\, with drama\, activities\, fun\, songs and mo
 re. Our young people help lead the service
GEO:-1.510684;52.156986
LOCATION:Kineton - St. Peter
URL:https://www.facebook.com/groups/523215405286846/
END:VEVENT
BEGIN:VEVENT
SUMMARY:Pints of View - sorting the world out over your favourite drink
DTSTART;TZID=Europe/London:20260607T193000
DTEND;TZID=Europe/London:20260607T203000
DTSTAMP:20260421T044741Z
UID:6475581780857000.0achurchnearyou
CATEGORIES:
DESCRIPTION:A weekly discussion on a theme from the news and some time tog
 ether in prayer \nEach week we explore a theme or story from the news.\nWh
 atever your pint of choice\, come & share your point of view.
LOCATION:The Swan Pub
URL:https://www.achurchnearyou.com/church/13070/service-and-events/events/
 647558/
END:VEVENT
BEGIN:VEVENT
SUMMARY:Holy Communion service
DTSTART;TZID=Europe/London:20260614T103000
DTEND;TZID=Europe/London:20260614T113000
DTSTAMP:20260421T044741Z
UID:6475441781429400.0achurchnearyou
CATEGORIES:
DESCRIPTION:A service of Holy Communion in church and online
GEO:-1.510684;52.156986
LOCATION:Kineton - St. Peter
URL:https://www.facebook.com/groups/523215405286846/
END:VEVENT
BEGIN:VEVENT
SUMMARY:Pints of View - sorting the world out over your favourite drink
DTSTART;TZID=Europe/London:20260614T193000
DTEND;TZID=Europe/London:20260614T203000
DTSTAMP:20260421T044741Z
UID:6475581781461800.0achurchnearyou
CATEGORIES:
DESCRIPTION:A weekly discussion on a theme from the news and some time tog
 ether in prayer \nEach week we explore a theme or story from the news.\nWh
 atever your pint of choice\, come & share your point of view.
LOCATION:The Swan Pub
URL:https://www.achurchnearyou.com/church/13070/service-and-events/events/
 647558/
END:VEVENT
BEGIN:VEVENT
SUMMARY:Lego Church and Lego Cafe Church
DTSTART;TZID=Europe/London:20260621T101500
DTEND;TZID=Europe/London:20260621T113000
DTSTAMP:20260421T044741Z
UID:8703641782033300.0achurchnearyou
CATEGORIES:
DESCRIPTION:Lego Church is a FREE action-packed time for children and pare
 nts with lots and lots of lego of every colour. Parents are welcome to sta
 y and play with the lego alongside their children.\nFor safeguarding reaso
 ns\, all children coming to Sunday School need to be registered in at arri
 val.
LOCATION:Kineton Primary School
URL:https://www.achurchnearyou.com/church/13070/service-and-events/events/
 870364/
END:VEVENT
BEGIN:VEVENT
SUMMARY:Morning worship
DTSTART;TZID=Europe/London:20260621T103000
DTEND;TZID=Europe/London:20260621T113000
DTSTAMP:20260421T044741Z
UID:6475451782034200.0achurchnearyou
CATEGORIES:
DESCRIPTION:A service of the word\, often using alterantive liturgies
GEO:-1.510684;52.156986
LOCATION:Kineton - St. Peter
URL:https://www.facebook.com/groups/523215405286846/
END:VEVENT
BEGIN:VEVENT
SUMMARY:Pints of View - sorting the world out over your favourite drink
DTSTART;TZID=Europe/London:20260621T193000
DTEND;TZID=Europe/London:20260621T203000
DTSTAMP:20260421T044741Z
UID:6475581782066600.0achurchnearyou
CATEGORIES:
DESCRIPTION:A weekly discussion on a theme from the news and some time tog
 ether in prayer \nEach week we explore a theme or story from the news.\nWh
 atever your pint of choice\, come & share your point of view.
LOCATION:The Swan Pub
URL:https://www.achurchnearyou.com/church/13070/service-and-events/events/
 647558/
END:VEVENT
BEGIN:VEVENT
SUMMARY:Holy Communion service
DTSTART;TZID=Europe/London:20260628T103000
DTEND;TZID=Europe/London:20260628T113000
DTSTAMP:20260421T044741Z
UID:6475471782639000.0achurchnearyou
CATEGORIES:
DESCRIPTION:A service of Holy Communion in church and online
GEO:-1.510684;52.156986
LOCATION:Kineton - St. Peter
URL:https://www.facebook.com/groups/523215405286846/
END:VEVENT
BEGIN:VEVENT
SUMMARY:Pints of View - sorting the world out over your favourite drink
DTSTART;TZID=Europe/London:20260628T193000
DTEND;TZID=Europe/London:20260628T203000
DTSTAMP:20260421T044741Z
UID:6475581782671400.0achurchnearyou
CATEGORIES:
DESCRIPTION:A weekly discussion on a theme from the news and some time tog
 ether in prayer \nEach week we explore a theme or story from the news.\nWh
 atever your pint of choice\, come & share your point of view.
LOCATION:The Swan Pub
URL:https://www.achurchnearyou.com/church/13070/service-and-events/events/
 647558/
END:VEVENT
BEGIN:VEVENT
SUMMARY:Simply Celebrate
DTSTART;TZID=Europe/London:20260705T103000
DTEND;TZID=Europe/London:20260705T113000
DTSTAMP:20260421T044741Z
UID:6475401783243800.0achurchnearyou
CATEGORIES:
DESCRIPTION:Join us at 10am for breakfast together in church followed by a
  time with God for everyone\, with drama\, activities\, fun\, songs and mo
 re. Our young people help lead the service
GEO:-1.510684;52.156986
LOCATION:Kineton - St. Peter
URL:https://www.facebook.com/groups/523215405286846/
END:VEVENT
BEGIN:VEVENT
SUMMARY:Pints of View - sorting the world out over your favourite drink
DTSTART;TZID=Europe/London:20260705T193000
DTEND;TZID=Europe/London:20260705T203000
DTSTAMP:20260421T044741Z
UID:6475581783276200.0achurchnearyou
CATEGORIES:
DESCRIPTION:A weekly discussion on a theme from the news and some time tog
 ether in prayer \nEach week we explore a theme or story from the news.\nWh
 atever your pint of choice\, come & share your point of view.
LOCATION:The Swan Pub
URL:https://www.achurchnearyou.com/church/13070/service-and-events/events/
 647558/
END:VEVENT
BEGIN:VEVENT
SUMMARY:Holy Communion service
DTSTART;TZID=Europe/London:20260712T103000
DTEND;TZID=Europe/London:20260712T113000
DTSTAMP:20260421T044741Z
UID:6475441783848600.0achurchnearyou
CATEGORIES:
DESCRIPTION:A service of Holy Communion in church and online
GEO:-1.510684;52.156986
LOCATION:Kineton - St. Peter
URL:https://www.facebook.com/groups/523215405286846/
END:VEVENT
BEGIN:VEVENT
SUMMARY:Pints of View - sorting the world out over your favourite drink
DTSTART;TZID=Europe/London:20260712T193000
DTEND;TZID=Europe/London:20260712T203000
DTSTAMP:20260421T044741Z
UID:6475581783881000.0achurchnearyou
CATEGORIES:
DESCRIPTION:A weekly discussion on a theme from the news and some time tog
 ether in prayer \nEach week we explore a theme or story from the news.\nWh
 atever your pint of choice\, come & share your point of view.
LOCATION:The Swan Pub
URL:https://www.achurchnearyou.com/church/13070/service-and-events/events/
 647558/
END:VEVENT
BEGIN:VEVENT
SUMMARY:Lego Church and Lego Cafe Church
DTSTART;TZID=Europe/London:20260719T101500
DTEND;TZID=Europe/London:20260719T113000
DTSTAMP:20260421T044741Z
UID:8703641784452500.0achurchnearyou
CATEGORIES:
DESCRIPTION:Lego Church is a FREE action-packed time for children and pare
 nts with lots and lots of lego of every colour. Parents are welcome to sta
 y and play with the lego alongside their children.\nFor safeguarding reaso
 ns\, all children coming to Sunday School need to be registered in at arri
 val.
LOCATION:Kineton Primary School
URL:https://www.achurchnearyou.com/church/13070/service-and-events/events/
 870364/
END:VEVENT
BEGIN:VEVENT
SUMMARY:Morning worship
DTSTART;TZID=Europe/London:20260719T103000
DTEND;TZID=Europe/London:20260719T113000
DTSTAMP:20260421T044741Z
UID:6475451784453400.0achurchnearyou
CATEGORIES:
DESCRIPTION:A service of the word\, often using alterantive liturgies
GEO:-1.510684;52.156986
LOCATION:Kineton - St. Peter
URL:https://www.facebook.com/groups/523215405286846/
END:VEVENT
BEGIN:VEVENT
SUMMARY:Pints of View - sorting the world out over your favourite drink
DTSTART;TZID=Europe/London:20260719T193000
DTEND;TZID=Europe/London:20260719T203000
DTSTAMP:20260421T044741Z
UID:6475581784485800.0achurchnearyou
CATEGORIES:
DESCRIPTION:A weekly discussion on a theme from the news and some time tog
 ether in prayer \nEach week we explore a theme or story from the news.\nWh
 atever your pint of choice\, come & share your point of view.
LOCATION:The Swan Pub
URL:https://www.achurchnearyou.com/church/13070/service-and-events/events/
 647558/
END:VEVENT
BEGIN:VEVENT
SUMMARY:Holy Communion service
DTSTART;TZID=Europe/London:20260726T103000
DTEND;TZID=Europe/London:20260726T113000
DTSTAMP:20260421T044741Z
UID:6475471785058200.0achurchnearyou
CATEGORIES:
DESCRIPTION:A service of Holy Communion in church and online
GEO:-1.510684;52.156986
LOCATION:Kineton - St. Peter
URL:https://www.facebook.com/groups/523215405286846/
END:VEVENT
BEGIN:VEVENT
SUMMARY:Pints of View - sorting the world out over your favourite drink
DTSTART;TZID=Europe/London:20260726T193000
DTEND;TZID=Europe/London:20260726T203000
DTSTAMP:20260421T044741Z
UID:6475581785090600.0achurchnearyou
CATEGORIES:
DESCRIPTION:A weekly discussion on a theme from the news and some time tog
 ether in prayer \nEach week we explore a theme or story from the news.\nWh
 atever your pint of choice\, come & share your point of view.
LOCATION:The Swan Pub
URL:https://www.achurchnearyou.com/church/13070/service-and-events/events/
 647558/
END:VEVENT
BEGIN:VEVENT
SUMMARY:Simply Celebrate
DTSTART;TZID=Europe/London:20260802T103000
DTEND;TZID=Europe/London:20260802T113000
DTSTAMP:20260421T044741Z
UID:6475401785663000.0achurchnearyou
CATEGORIES:
DESCRIPTION:Join us at 10am for breakfast together in church followed by a
  time with God for everyone\, with drama\, activities\, fun\, songs and mo
 re. Our young people help lead the service
GEO:-1.510684;52.156986
LOCATION:Kineton - St. Peter
URL:https://www.facebook.com/groups/523215405286846/
END:VEVENT
BEGIN:VEVENT
SUMMARY:Pints of View - sorting the world out over your favourite drink
DTSTART;TZID=Europe/London:20260802T193000
DTEND;TZID=Europe/London:20260802T203000
DTSTAMP:20260421T044741Z
UID:6475581785695400.0achurchnearyou
CATEGORIES:
DESCRIPTION:A weekly discussion on a theme from the news and some time tog
 ether in prayer \nEach week we explore a theme or story from the news.\nWh
 atever your pint of choice\, come & share your point of view.
LOCATION:The Swan Pub
URL:https://www.achurchnearyou.com/church/13070/service-and-events/events/
 647558/
END:VEVENT
BEGIN:VEVENT
SUMMARY:Holy Communion service
DTSTART;TZID=Europe/London:20260809T103000
DTEND;TZID=Europe/London:20260809T113000
DTSTAMP:20260421T044741Z
UID:6475441786267800.0achurchnearyou
CATEGORIES:
DESCRIPTION:A service of Holy Communion in church and online
GEO:-1.510684;52.156986
LOCATION:Kineton - St. Peter
URL:https://www.facebook.com/groups/523215405286846/
END:VEVENT
BEGIN:VEVENT
SUMMARY:Pints of View - sorting the world out over your favourite drink
DTSTART;TZID=Europe/London:20260809T193000
DTEND;TZID=Europe/London:20260809T203000
DTSTAMP:20260421T044741Z
UID:6475581786300200.0achurchnearyou
CATEGORIES:
DESCRIPTION:A weekly discussion on a theme from the news and some time tog
 ether in prayer \nEach week we explore a theme or story from the news.\nWh
 atever your pint of choice\, come & share your point of view.
LOCATION:The Swan Pub
URL:https://www.achurchnearyou.com/church/13070/service-and-events/events/
 647558/
END:VEVENT
BEGIN:VEVENT
SUMMARY:Lego Church and Lego Cafe Church
DTSTART;TZID=Europe/London:20260816T101500
DTEND;TZID=Europe/London:20260816T113000
DTSTAMP:20260421T044741Z
UID:8703641786871700.0achurchnearyou
CATEGORIES:
DESCRIPTION:Lego Church is a FREE action-packed time for children and pare
 nts with lots and lots of lego of every colour. Parents are welcome to sta
 y and play with the lego alongside their children.\nFor safeguarding reaso
 ns\, all children coming to Sunday School need to be registered in at arri
 val.
LOCATION:Kineton Primary School
URL:https://www.achurchnearyou.com/church/13070/service-and-events/events/
 870364/
END:VEVENT
BEGIN:VEVENT
SUMMARY:Morning worship
DTSTART;TZID=Europe/London:20260816T103000
DTEND;TZID=Europe/London:20260816T113000
DTSTAMP:20260421T044741Z
UID:6475451786872600.0achurchnearyou
CATEGORIES:
DESCRIPTION:A service of the word\, often using alterantive liturgies
GEO:-1.510684;52.156986
LOCATION:Kineton - St. Peter
URL:https://www.facebook.com/groups/523215405286846/
END:VEVENT
BEGIN:VEVENT
SUMMARY:Pints of View - sorting the world out over your favourite drink
DTSTART;TZID=Europe/London:20260816T193000
DTEND;TZID=Europe/London:20260816T203000
DTSTAMP:20260421T044741Z
UID:6475581786905000.0achurchnearyou
CATEGORIES:
DESCRIPTION:A weekly discussion on a theme from the news and some time tog
 ether in prayer \nEach week we explore a theme or story from the news.\nWh
 atever your pint of choice\, come & share your point of view.
LOCATION:The Swan Pub
URL:https://www.achurchnearyou.com/church/13070/service-and-events/events/
 647558/
END:VEVENT
BEGIN:VEVENT
SUMMARY:Holy Communion service
DTSTART;TZID=Europe/London:20260823T103000
DTEND;TZID=Europe/London:20260823T113000
DTSTAMP:20260421T044741Z
UID:6475471787477400.0achurchnearyou
CATEGORIES:
DESCRIPTION:A service of Holy Communion in church and online
GEO:-1.510684;52.156986
LOCATION:Kineton - St. Peter
URL:https://www.facebook.com/groups/523215405286846/
END:VEVENT
BEGIN:VEVENT
SUMMARY:Pints of View - sorting the world out over your favourite drink
DTSTART;TZID=Europe/London:20260823T193000
DTEND;TZID=Europe/London:20260823T203000
DTSTAMP:20260421T044741Z
UID:6475581787509800.0achurchnearyou
CATEGORIES:
DESCRIPTION:A weekly discussion on a theme from the news and some time tog
 ether in prayer \nEach week we explore a theme or story from the news.\nWh
 atever your pint of choice\, come & share your point of view.
LOCATION:The Swan Pub
URL:https://www.achurchnearyou.com/church/13070/service-and-events/events/
 647558/
END:VEVENT
BEGIN:VEVENT
SUMMARY:Pints of View - sorting the world out over your favourite drink
DTSTART;TZID=Europe/London:20260830T193000
DTEND;TZID=Europe/London:20260830T203000
DTSTAMP:20260421T044741Z
UID:6475581788114600.0achurchnearyou
CATEGORIES:
DESCRIPTION:A weekly discussion on a theme from the news and some time tog
 ether in prayer \nEach week we explore a theme or story from the news.\nWh
 atever your pint of choice\, come & share your point of view.
LOCATION:The Swan Pub
URL:https://www.achurchnearyou.com/church/13070/service-and-events/events/
 647558/
END:VEVENT
BEGIN:VEVENT
SUMMARY:Simply Celebrate
DTSTART;TZID=Europe/London:20260906T103000
DTEND;TZID=Europe/London:20260906T113000
DTSTAMP:20260421T044741Z
UID:6475401788687000.0achurchnearyou
CATEGORIES:
DESCRIPTION:Join us at 10am for breakfast together in church followed by a
  time with God for everyone\, with drama\, activities\, fun\, songs and mo
 re. Our young people help lead the service
GEO:-1.510684;52.156986
LOCATION:Kineton - St. Peter
URL:https://www.facebook.com/groups/523215405286846/
END:VEVENT
BEGIN:VEVENT
SUMMARY:Pints of View - sorting the world out over your favourite drink
DTSTART;TZID=Europe/London:20260906T193000
DTEND;TZID=Europe/London:20260906T203000
DTSTAMP:20260421T044741Z
UID:6475581788719400.0achurchnearyou
CATEGORIES:
DESCRIPTION:A weekly discussion on a theme from the news and some time tog
 ether in prayer \nEach week we explore a theme or story from the news.\nWh
 atever your pint of choice\, come & share your point of view.
LOCATION:The Swan Pub
URL:https://www.achurchnearyou.com/church/13070/service-and-events/events/
 647558/
END:VEVENT
BEGIN:VEVENT
SUMMARY:Holy Communion service
DTSTART;TZID=Europe/London:20260913T103000
DTEND;TZID=Europe/London:20260913T113000
DTSTAMP:20260421T044741Z
UID:6475441789291800.0achurchnearyou
CATEGORIES:
DESCRIPTION:A service of Holy Communion in church and online
GEO:-1.510684;52.156986
LOCATION:Kineton - St. Peter
URL:https://www.facebook.com/groups/523215405286846/
END:VEVENT
BEGIN:VEVENT
SUMMARY:Pints of View - sorting the world out over your favourite drink
DTSTART;TZID=Europe/London:20260913T193000
DTEND;TZID=Europe/London:20260913T203000
DTSTAMP:20260421T044741Z
UID:6475581789324200.0achurchnearyou
CATEGORIES:
DESCRIPTION:A weekly discussion on a theme from the news and some time tog
 ether in prayer \nEach week we explore a theme or story from the news.\nWh
 atever your pint of choice\, come & share your point of view.
LOCATION:The Swan Pub
URL:https://www.achurchnearyou.com/church/13070/service-and-events/events/
 647558/
END:VEVENT
BEGIN:VEVENT
SUMMARY:Lego Church and Lego Cafe Church
DTSTART;TZID=Europe/London:20260920T101500
DTEND;TZID=Europe/London:20260920T113000
DTSTAMP:20260421T044741Z
UID:8703641789895700.0achurchnearyou
CATEGORIES:
DESCRIPTION:Lego Church is a FREE action-packed time for children and pare
 nts with lots and lots of lego of every colour. Parents are welcome to sta
 y and play with the lego alongside their children.\nFor safeguarding reaso
 ns\, all children coming to Sunday School need to be registered in at arri
 val.
LOCATION:Kineton Primary School
URL:https://www.achurchnearyou.com/church/13070/service-and-events/events/
 870364/
END:VEVENT
BEGIN:VEVENT
SUMMARY:Morning worship
DTSTART;TZID=Europe/London:20260920T103000
DTEND;TZID=Europe/London:20260920T113000
DTSTAMP:20260421T044741Z
UID:6475451789896600.0achurchnearyou
CATEGORIES:
DESCRIPTION:A service of the word\, often using alterantive liturgies
GEO:-1.510684;52.156986
LOCATION:Kineton - St. Peter
URL:https://www.facebook.com/groups/523215405286846/
END:VEVENT
BEGIN:VEVENT
SUMMARY:Pints of View - sorting the world out over your favourite drink
DTSTART;TZID=Europe/London:20260920T193000
DTEND;TZID=Europe/London:20260920T203000
DTSTAMP:20260421T044741Z
UID:6475581789929000.0achurchnearyou
CATEGORIES:
DESCRIPTION:A weekly discussion on a theme from the news and some time tog
 ether in prayer \nEach week we explore a theme or story from the news.\nWh
 atever your pint of choice\, come & share your point of view.
LOCATION:The Swan Pub
URL:https://www.achurchnearyou.com/church/13070/service-and-events/events/
 647558/
END:VEVENT
BEGIN:VEVENT
SUMMARY:Holy Communion service
DTSTART;TZID=Europe/London:20260927T103000
DTEND;TZID=Europe/London:20260927T113000
DTSTAMP:20260421T044741Z
UID:6475471790501400.0achurchnearyou
CATEGORIES:
DESCRIPTION:A service of Holy Communion in church and online
GEO:-1.510684;52.156986
LOCATION:Kineton - St. Peter
URL:https://www.facebook.com/groups/523215405286846/
END:VEVENT
BEGIN:VEVENT
SUMMARY:Pints of View - sorting the world out over your favourite drink
DTSTART;TZID=Europe/London:20260927T193000
DTEND;TZID=Europe/London:20260927T203000
DTSTAMP:20260421T044742Z
UID:6475581790533800.0achurchnearyou
CATEGORIES:
DESCRIPTION:A weekly discussion on a theme from the news and some time tog
 ether in prayer \nEach week we explore a theme or story from the news.\nWh
 atever your pint of choice\, come & share your point of view.
LOCATION:The Swan Pub
URL:https://www.achurchnearyou.com/church/13070/service-and-events/events/
 647558/
END:VEVENT
END:VCALENDAR
