BEGIN:VCALENDAR
VERSION:2.0
PRODID:-//achurchnearyou.com//eventfeed//EN
CALSCALE:GREGORIAN
METHOD:PUBLISH
X-WR-TIMEZONE:UTC
BEGIN:VEVENT
SUMMARY:CAROLS AT THE BELL
DTSTART:20251224T183000Z
DTEND:20251224T193000Z
DTSTAMP:20260419T183856Z
UID:12625702025-12-24 18:30:00+00:00achurchnearyou
CATEGORIES:
DESCRIPTION:Community Carol Singing at The Bell pub Shottery.
GEO:-1.731001;52.192872
LOCATION:Shottery - St. Andrew
URL:http://www.saintandrewsshottery.org
END:VEVENT
END:VCALENDAR
