BEGIN:VCALENDAR
VERSION:2.0
PRODID:-//achurchnearyou.com//eventfeed//EN
CALSCALE:GREGORIAN
METHOD:PUBLISH
X-WR-TIMEZONE:UTC
BEGIN:VEVENT
SUMMARY:Holy Communion
DTSTART;TZID=Europe/London:20260426T083000
DTEND;TZID=Europe/London:20260426T093000
DTSTAMP:20260421T043325Z
UID:8780012026-04-26 08:30:00+01:00achurchnearyou
CATEGORIES:
DESCRIPTION:Common Worship communion service with hymns.
GEO:-1.378076;52.106285
LOCATION:Shotteswell - St. Laurence
URL:https://www.achurchnearyou.com/church/13078/service-and-events/events/
 878001/
END:VEVENT
BEGIN:VEVENT
SUMMARY:Holy Communion
DTSTART;TZID=Europe/London:20260517T083000
DTEND;TZID=Europe/London:20260517T093000
DTSTAMP:20260421T043325Z
UID:8780012026-05-17 08:30:00+01:00achurchnearyou
CATEGORIES:
DESCRIPTION:Common Worship communion service with hymns.
GEO:-1.378076;52.106285
LOCATION:Shotteswell - St. Laurence
URL:https://www.achurchnearyou.com/church/13078/service-and-events/events/
 878001/
END:VEVENT
BEGIN:VEVENT
SUMMARY:Holy Communion
DTSTART;TZID=Europe/London:20260524T083000
DTEND;TZID=Europe/London:20260524T093000
DTSTAMP:20260421T043325Z
UID:8780012026-05-24 08:30:00+01:00achurchnearyou
CATEGORIES:
DESCRIPTION:Common Worship communion service with hymns.
GEO:-1.378076;52.106285
LOCATION:Shotteswell - St. Laurence
URL:https://www.achurchnearyou.com/church/13078/service-and-events/events/
 878001/
END:VEVENT
BEGIN:VEVENT
SUMMARY:Holy Communion
DTSTART;TZID=Europe/London:20260621T083000
DTEND;TZID=Europe/London:20260621T093000
DTSTAMP:20260421T043325Z
UID:8780012026-06-21 08:30:00+01:00achurchnearyou
CATEGORIES:
DESCRIPTION:Common Worship communion service with hymns.
GEO:-1.378076;52.106285
LOCATION:Shotteswell - St. Laurence
URL:https://www.achurchnearyou.com/church/13078/service-and-events/events/
 878001/
END:VEVENT
BEGIN:VEVENT
SUMMARY:Holy Communion
DTSTART;TZID=Europe/London:20260628T083000
DTEND;TZID=Europe/London:20260628T093000
DTSTAMP:20260421T043325Z
UID:8780012026-06-28 08:30:00+01:00achurchnearyou
CATEGORIES:
DESCRIPTION:Common Worship communion service with hymns.
GEO:-1.378076;52.106285
LOCATION:Shotteswell - St. Laurence
URL:https://www.achurchnearyou.com/church/13078/service-and-events/events/
 878001/
END:VEVENT
BEGIN:VEVENT
SUMMARY:Holy Communion
DTSTART;TZID=Europe/London:20260719T083000
DTEND;TZID=Europe/London:20260719T093000
DTSTAMP:20260421T043325Z
UID:8780012026-07-19 08:30:00+01:00achurchnearyou
CATEGORIES:
DESCRIPTION:Common Worship communion service with hymns.
GEO:-1.378076;52.106285
LOCATION:Shotteswell - St. Laurence
URL:https://www.achurchnearyou.com/church/13078/service-and-events/events/
 878001/
END:VEVENT
BEGIN:VEVENT
SUMMARY:Holy Communion
DTSTART;TZID=Europe/London:20260726T083000
DTEND;TZID=Europe/London:20260726T093000
DTSTAMP:20260421T043325Z
UID:8780012026-07-26 08:30:00+01:00achurchnearyou
CATEGORIES:
DESCRIPTION:Common Worship communion service with hymns.
GEO:-1.378076;52.106285
LOCATION:Shotteswell - St. Laurence
URL:https://www.achurchnearyou.com/church/13078/service-and-events/events/
 878001/
END:VEVENT
BEGIN:VEVENT
SUMMARY:Holy Communion
DTSTART;TZID=Europe/London:20260816T083000
DTEND;TZID=Europe/London:20260816T093000
DTSTAMP:20260421T043325Z
UID:8780012026-08-16 08:30:00+01:00achurchnearyou
CATEGORIES:
DESCRIPTION:Common Worship communion service with hymns.
GEO:-1.378076;52.106285
LOCATION:Shotteswell - St. Laurence
URL:https://www.achurchnearyou.com/church/13078/service-and-events/events/
 878001/
END:VEVENT
BEGIN:VEVENT
SUMMARY:Holy Communion
DTSTART;TZID=Europe/London:20260823T083000
DTEND;TZID=Europe/London:20260823T093000
DTSTAMP:20260421T043325Z
UID:8780012026-08-23 08:30:00+01:00achurchnearyou
CATEGORIES:
DESCRIPTION:Common Worship communion service with hymns.
GEO:-1.378076;52.106285
LOCATION:Shotteswell - St. Laurence
URL:https://www.achurchnearyou.com/church/13078/service-and-events/events/
 878001/
END:VEVENT
BEGIN:VEVENT
SUMMARY:Holy Communion
DTSTART;TZID=Europe/London:20260920T083000
DTEND;TZID=Europe/London:20260920T093000
DTSTAMP:20260421T043325Z
UID:8780012026-09-20 08:30:00+01:00achurchnearyou
CATEGORIES:
DESCRIPTION:Common Worship communion service with hymns.
GEO:-1.378076;52.106285
LOCATION:Shotteswell - St. Laurence
URL:https://www.achurchnearyou.com/church/13078/service-and-events/events/
 878001/
END:VEVENT
BEGIN:VEVENT
SUMMARY:Holy Communion
DTSTART;TZID=Europe/London:20260927T083000
DTEND;TZID=Europe/London:20260927T093000
DTSTAMP:20260421T043325Z
UID:8780012026-09-27 08:30:00+01:00achurchnearyou
CATEGORIES:
DESCRIPTION:Common Worship communion service with hymns.
GEO:-1.378076;52.106285
LOCATION:Shotteswell - St. Laurence
URL:https://www.achurchnearyou.com/church/13078/service-and-events/events/
 878001/
END:VEVENT
BEGIN:VEVENT
SUMMARY:Holy Communion
DTSTART;TZID=Europe/London:20261018T083000
DTEND;TZID=Europe/London:20261018T093000
DTSTAMP:20260421T043325Z
UID:8780012026-10-18 08:30:00+01:00achurchnearyou
CATEGORIES:
DESCRIPTION:Common Worship communion service with hymns.
GEO:-1.378076;52.106285
LOCATION:Shotteswell - St. Laurence
URL:https://www.achurchnearyou.com/church/13078/service-and-events/events/
 878001/
END:VEVENT
BEGIN:VEVENT
SUMMARY:Holy Communion
DTSTART;TZID=Europe/London:20261025T083000
DTEND;TZID=Europe/London:20261025T093000
DTSTAMP:20260421T043325Z
UID:8780012026-10-25 08:30:00+00:00achurchnearyou
CATEGORIES:
DESCRIPTION:Common Worship communion service with hymns.
GEO:-1.378076;52.106285
LOCATION:Shotteswell - St. Laurence
URL:https://www.achurchnearyou.com/church/13078/service-and-events/events/
 878001/
END:VEVENT
BEGIN:VEVENT
SUMMARY:Holy Communion
DTSTART;TZID=Europe/London:20261115T083000
DTEND;TZID=Europe/London:20261115T093000
DTSTAMP:20260421T043325Z
UID:8780012026-11-15 08:30:00+00:00achurchnearyou
CATEGORIES:
DESCRIPTION:Common Worship communion service with hymns.
GEO:-1.378076;52.106285
LOCATION:Shotteswell - St. Laurence
URL:https://www.achurchnearyou.com/church/13078/service-and-events/events/
 878001/
END:VEVENT
BEGIN:VEVENT
SUMMARY:Holy Communion
DTSTART;TZID=Europe/London:20261122T083000
DTEND;TZID=Europe/London:20261122T093000
DTSTAMP:20260421T043325Z
UID:8780012026-11-22 08:30:00+00:00achurchnearyou
CATEGORIES:
DESCRIPTION:Common Worship communion service with hymns.
GEO:-1.378076;52.106285
LOCATION:Shotteswell - St. Laurence
URL:https://www.achurchnearyou.com/church/13078/service-and-events/events/
 878001/
END:VEVENT
BEGIN:VEVENT
SUMMARY:Holy Communion
DTSTART;TZID=Europe/London:20261220T083000
DTEND;TZID=Europe/London:20261220T093000
DTSTAMP:20260421T043325Z
UID:8780012026-12-20 08:30:00+00:00achurchnearyou
CATEGORIES:
DESCRIPTION:Common Worship communion service with hymns.
GEO:-1.378076;52.106285
LOCATION:Shotteswell - St. Laurence
URL:https://www.achurchnearyou.com/church/13078/service-and-events/events/
 878001/
END:VEVENT
BEGIN:VEVENT
SUMMARY:Holy Communion
DTSTART;TZID=Europe/London:20261227T083000
DTEND;TZID=Europe/London:20261227T093000
DTSTAMP:20260421T043325Z
UID:8780012026-12-27 08:30:00+00:00achurchnearyou
CATEGORIES:
DESCRIPTION:Common Worship communion service with hymns.
GEO:-1.378076;52.106285
LOCATION:Shotteswell - St. Laurence
URL:https://www.achurchnearyou.com/church/13078/service-and-events/events/
 878001/
END:VEVENT
BEGIN:VEVENT
SUMMARY:Holy Communion
DTSTART;TZID=Europe/London:20270117T083000
DTEND;TZID=Europe/London:20270117T093000
DTSTAMP:20260421T043325Z
UID:8780012027-01-17 08:30:00+00:00achurchnearyou
CATEGORIES:
DESCRIPTION:Common Worship communion service with hymns.
GEO:-1.378076;52.106285
LOCATION:Shotteswell - St. Laurence
URL:https://www.achurchnearyou.com/church/13078/service-and-events/events/
 878001/
END:VEVENT
BEGIN:VEVENT
SUMMARY:Holy Communion
DTSTART;TZID=Europe/London:20270124T083000
DTEND;TZID=Europe/London:20270124T093000
DTSTAMP:20260421T043325Z
UID:8780012027-01-24 08:30:00+00:00achurchnearyou
CATEGORIES:
DESCRIPTION:Common Worship communion service with hymns.
GEO:-1.378076;52.106285
LOCATION:Shotteswell - St. Laurence
URL:https://www.achurchnearyou.com/church/13078/service-and-events/events/
 878001/
END:VEVENT
BEGIN:VEVENT
SUMMARY:Holy Communion
DTSTART;TZID=Europe/London:20270221T083000
DTEND;TZID=Europe/London:20270221T093000
DTSTAMP:20260421T043325Z
UID:8780012027-02-21 08:30:00+00:00achurchnearyou
CATEGORIES:
DESCRIPTION:Common Worship communion service with hymns.
GEO:-1.378076;52.106285
LOCATION:Shotteswell - St. Laurence
URL:https://www.achurchnearyou.com/church/13078/service-and-events/events/
 878001/
END:VEVENT
BEGIN:VEVENT
SUMMARY:Holy Communion
DTSTART;TZID=Europe/London:20270228T083000
DTEND;TZID=Europe/London:20270228T093000
DTSTAMP:20260421T043325Z
UID:8780012027-02-28 08:30:00+00:00achurchnearyou
CATEGORIES:
DESCRIPTION:Common Worship communion service with hymns.
GEO:-1.378076;52.106285
LOCATION:Shotteswell - St. Laurence
URL:https://www.achurchnearyou.com/church/13078/service-and-events/events/
 878001/
END:VEVENT
BEGIN:VEVENT
SUMMARY:Holy Communion
DTSTART;TZID=Europe/London:20270321T083000
DTEND;TZID=Europe/London:20270321T093000
DTSTAMP:20260421T043325Z
UID:8780012027-03-21 08:30:00+00:00achurchnearyou
CATEGORIES:
DESCRIPTION:Common Worship communion service with hymns.
GEO:-1.378076;52.106285
LOCATION:Shotteswell - St. Laurence
URL:https://www.achurchnearyou.com/church/13078/service-and-events/events/
 878001/
END:VEVENT
BEGIN:VEVENT
SUMMARY:Holy Communion
DTSTART;TZID=Europe/London:20270328T083000
DTEND;TZID=Europe/London:20270328T093000
DTSTAMP:20260421T043325Z
UID:8780012027-03-28 08:30:00+01:00achurchnearyou
CATEGORIES:
DESCRIPTION:Common Worship communion service with hymns.
GEO:-1.378076;52.106285
LOCATION:Shotteswell - St. Laurence
URL:https://www.achurchnearyou.com/church/13078/service-and-events/events/
 878001/
END:VEVENT
BEGIN:VEVENT
SUMMARY:Holy Communion
DTSTART;TZID=Europe/London:20270418T083000
DTEND;TZID=Europe/London:20270418T093000
DTSTAMP:20260421T043325Z
UID:8780012027-04-18 08:30:00+01:00achurchnearyou
CATEGORIES:
DESCRIPTION:Common Worship communion service with hymns.
GEO:-1.378076;52.106285
LOCATION:Shotteswell - St. Laurence
URL:https://www.achurchnearyou.com/church/13078/service-and-events/events/
 878001/
END:VEVENT
END:VCALENDAR
