BEGIN:VCALENDAR
VERSION:2.0
PRODID:-//achurchnearyou.com//eventfeed//EN
CALSCALE:GREGORIAN
METHOD:PUBLISH
X-WR-TIMEZONE:UTC
BEGIN:VEVENT
SUMMARY:Holy Communion
DTSTART;TZID=Europe/London:20260405T083000
DTEND;TZID=Europe/London:20260405T093000
DTSTAMP:20260421T075720Z
UID:8779781775374200.0achurchnearyou
CATEGORIES:
DESCRIPTION:communion service with hymns.
GEO:-1.378076;52.106285
LOCATION:Shotteswell - St. Laurence
URL:https://www.achurchnearyou.com/church/13078/service-and-events/events/
 877978/
END:VEVENT
BEGIN:VEVENT
SUMMARY:Holy Communion
DTSTART;TZID=Europe/London:20260419T083000
DTEND;TZID=Europe/London:20260419T093000
DTSTAMP:20260421T075720Z
UID:8780011776583800.0achurchnearyou
CATEGORIES:
DESCRIPTION:Common Worship communion service with hymns.
GEO:-1.378076;52.106285
LOCATION:Shotteswell - St. Laurence
URL:https://www.achurchnearyou.com/church/13078/service-and-events/events/
 878001/
END:VEVENT
BEGIN:VEVENT
SUMMARY:Holy Communion
DTSTART;TZID=Europe/London:20260426T083000
DTEND;TZID=Europe/London:20260426T093000
DTSTAMP:20260421T075720Z
UID:8780011777188600.0achurchnearyou
CATEGORIES:
DESCRIPTION:Common Worship communion service with hymns.
GEO:-1.378076;52.106285
LOCATION:Shotteswell - St. Laurence
URL:https://www.achurchnearyou.com/church/13078/service-and-events/events/
 878001/
END:VEVENT
BEGIN:VEVENT
SUMMARY:Holy Communion
DTSTART;TZID=Europe/London:20260503T083000
DTEND;TZID=Europe/London:20260503T093000
DTSTAMP:20260421T075720Z
UID:8779781777793400.0achurchnearyou
CATEGORIES:
DESCRIPTION:communion service with hymns.
GEO:-1.378076;52.106285
LOCATION:Shotteswell - St. Laurence
URL:https://www.achurchnearyou.com/church/13078/service-and-events/events/
 877978/
END:VEVENT
BEGIN:VEVENT
SUMMARY:Holy Communion
DTSTART;TZID=Europe/London:20260517T083000
DTEND;TZID=Europe/London:20260517T093000
DTSTAMP:20260421T075720Z
UID:8780011779003000.0achurchnearyou
CATEGORIES:
DESCRIPTION:Common Worship communion service with hymns.
GEO:-1.378076;52.106285
LOCATION:Shotteswell - St. Laurence
URL:https://www.achurchnearyou.com/church/13078/service-and-events/events/
 878001/
END:VEVENT
BEGIN:VEVENT
SUMMARY:Holy Communion
DTSTART;TZID=Europe/London:20260524T083000
DTEND;TZID=Europe/London:20260524T093000
DTSTAMP:20260421T075720Z
UID:8780011779607800.0achurchnearyou
CATEGORIES:
DESCRIPTION:Common Worship communion service with hymns.
GEO:-1.378076;52.106285
LOCATION:Shotteswell - St. Laurence
URL:https://www.achurchnearyou.com/church/13078/service-and-events/events/
 878001/
END:VEVENT
BEGIN:VEVENT
SUMMARY:Holy Communion
DTSTART;TZID=Europe/London:20260607T083000
DTEND;TZID=Europe/London:20260607T093000
DTSTAMP:20260421T075720Z
UID:8779781780817400.0achurchnearyou
CATEGORIES:
DESCRIPTION:communion service with hymns.
GEO:-1.378076;52.106285
LOCATION:Shotteswell - St. Laurence
URL:https://www.achurchnearyou.com/church/13078/service-and-events/events/
 877978/
END:VEVENT
BEGIN:VEVENT
SUMMARY:Holy Communion
DTSTART;TZID=Europe/London:20260621T083000
DTEND;TZID=Europe/London:20260621T093000
DTSTAMP:20260421T075720Z
UID:8780011782027000.0achurchnearyou
CATEGORIES:
DESCRIPTION:Common Worship communion service with hymns.
GEO:-1.378076;52.106285
LOCATION:Shotteswell - St. Laurence
URL:https://www.achurchnearyou.com/church/13078/service-and-events/events/
 878001/
END:VEVENT
BEGIN:VEVENT
SUMMARY:Holy Communion
DTSTART;TZID=Europe/London:20260628T083000
DTEND;TZID=Europe/London:20260628T093000
DTSTAMP:20260421T075720Z
UID:8780011782631800.0achurchnearyou
CATEGORIES:
DESCRIPTION:Common Worship communion service with hymns.
GEO:-1.378076;52.106285
LOCATION:Shotteswell - St. Laurence
URL:https://www.achurchnearyou.com/church/13078/service-and-events/events/
 878001/
END:VEVENT
BEGIN:VEVENT
SUMMARY:Holy Communion
DTSTART;TZID=Europe/London:20260705T083000
DTEND;TZID=Europe/London:20260705T093000
DTSTAMP:20260421T075720Z
UID:8779781783236600.0achurchnearyou
CATEGORIES:
DESCRIPTION:communion service with hymns.
GEO:-1.378076;52.106285
LOCATION:Shotteswell - St. Laurence
URL:https://www.achurchnearyou.com/church/13078/service-and-events/events/
 877978/
END:VEVENT
BEGIN:VEVENT
SUMMARY:Holy Communion
DTSTART;TZID=Europe/London:20260719T083000
DTEND;TZID=Europe/London:20260719T093000
DTSTAMP:20260421T075720Z
UID:8780011784446200.0achurchnearyou
CATEGORIES:
DESCRIPTION:Common Worship communion service with hymns.
GEO:-1.378076;52.106285
LOCATION:Shotteswell - St. Laurence
URL:https://www.achurchnearyou.com/church/13078/service-and-events/events/
 878001/
END:VEVENT
BEGIN:VEVENT
SUMMARY:Holy Communion
DTSTART;TZID=Europe/London:20260726T083000
DTEND;TZID=Europe/London:20260726T093000
DTSTAMP:20260421T075720Z
UID:8780011785051000.0achurchnearyou
CATEGORIES:
DESCRIPTION:Common Worship communion service with hymns.
GEO:-1.378076;52.106285
LOCATION:Shotteswell - St. Laurence
URL:https://www.achurchnearyou.com/church/13078/service-and-events/events/
 878001/
END:VEVENT
BEGIN:VEVENT
SUMMARY:Holy Communion
DTSTART;TZID=Europe/London:20260802T083000
DTEND;TZID=Europe/London:20260802T093000
DTSTAMP:20260421T075720Z
UID:8779781785655800.0achurchnearyou
CATEGORIES:
DESCRIPTION:communion service with hymns.
GEO:-1.378076;52.106285
LOCATION:Shotteswell - St. Laurence
URL:https://www.achurchnearyou.com/church/13078/service-and-events/events/
 877978/
END:VEVENT
BEGIN:VEVENT
SUMMARY:Holy Communion
DTSTART;TZID=Europe/London:20260816T083000
DTEND;TZID=Europe/London:20260816T093000
DTSTAMP:20260421T075720Z
UID:8780011786865400.0achurchnearyou
CATEGORIES:
DESCRIPTION:Common Worship communion service with hymns.
GEO:-1.378076;52.106285
LOCATION:Shotteswell - St. Laurence
URL:https://www.achurchnearyou.com/church/13078/service-and-events/events/
 878001/
END:VEVENT
BEGIN:VEVENT
SUMMARY:Holy Communion
DTSTART;TZID=Europe/London:20260823T083000
DTEND;TZID=Europe/London:20260823T093000
DTSTAMP:20260421T075720Z
UID:8780011787470200.0achurchnearyou
CATEGORIES:
DESCRIPTION:Common Worship communion service with hymns.
GEO:-1.378076;52.106285
LOCATION:Shotteswell - St. Laurence
URL:https://www.achurchnearyou.com/church/13078/service-and-events/events/
 878001/
END:VEVENT
BEGIN:VEVENT
SUMMARY:Holy Communion
DTSTART;TZID=Europe/London:20260906T083000
DTEND;TZID=Europe/London:20260906T093000
DTSTAMP:20260421T075720Z
UID:8779781788679800.0achurchnearyou
CATEGORIES:
DESCRIPTION:communion service with hymns.
GEO:-1.378076;52.106285
LOCATION:Shotteswell - St. Laurence
URL:https://www.achurchnearyou.com/church/13078/service-and-events/events/
 877978/
END:VEVENT
BEGIN:VEVENT
SUMMARY:Holy Communion
DTSTART;TZID=Europe/London:20260920T083000
DTEND;TZID=Europe/London:20260920T093000
DTSTAMP:20260421T075720Z
UID:8780011789889400.0achurchnearyou
CATEGORIES:
DESCRIPTION:Common Worship communion service with hymns.
GEO:-1.378076;52.106285
LOCATION:Shotteswell - St. Laurence
URL:https://www.achurchnearyou.com/church/13078/service-and-events/events/
 878001/
END:VEVENT
BEGIN:VEVENT
SUMMARY:Holy Communion
DTSTART;TZID=Europe/London:20260927T083000
DTEND;TZID=Europe/London:20260927T093000
DTSTAMP:20260421T075720Z
UID:8780011790494200.0achurchnearyou
CATEGORIES:
DESCRIPTION:Common Worship communion service with hymns.
GEO:-1.378076;52.106285
LOCATION:Shotteswell - St. Laurence
URL:https://www.achurchnearyou.com/church/13078/service-and-events/events/
 878001/
END:VEVENT
END:VCALENDAR
