BEGIN:VCALENDAR
VERSION:2.0
PRODID:-//achurchnearyou.com//eventfeed//EN
CALSCALE:GREGORIAN
METHOD:PUBLISH
X-WR-TIMEZONE:UTC
BEGIN:VEVENT
SUMMARY:Evensong BCP
DTSTART:20250511T170000Z
DTEND:20250511T180000Z
DTSTAMP:20260424T191502Z
UID:11948192025-05-11 17:00:00+00:00achurchnearyou
CATEGORIES:
DESCRIPTION:Service led by Rev. Ben Dyson
GEO:-1.582747;51.994992
LOCATION:St. Peter & St. Paul\, Long Compton
URL:https://www.southwarwickshirechurches.co.uk/
END:VEVENT
END:VCALENDAR
