BEGIN:VCALENDAR
VERSION:2.0
PRODID:-//achurchnearyou.com//eventfeed//EN
CALSCALE:GREGORIAN
METHOD:PUBLISH
X-WR-TIMEZONE:UTC
BEGIN:VEVENT
SUMMARY:Confirmation Service
DTSTART:20250525T093000Z
DTEND:20250525T103000Z
DTSTAMP:20260424T125206Z
UID:11948212025-05-25 09:30:00+00:00achurchnearyou
CATEGORIES:
DESCRIPTION:Service led by Rev. Ben Dyson & Bishop Jonathan Meyrick
GEO:-1.582747;51.994992
LOCATION:St. Peter & St. Paul\, Long Compton
URL:https://www.southwarwickshirechurches.co.uk/
END:VEVENT
END:VCALENDAR
