BEGIN:VCALENDAR
VERSION:2.0
PRODID:-//achurchnearyou.com//eventfeed//EN
CALSCALE:GREGORIAN
METHOD:PUBLISH
X-WR-TIMEZONE:UTC
BEGIN:VEVENT
SUMMARY:Harvest Service CW
DTSTART:20250928T100000Z
DTEND:20250928T110000Z
DTSTAMP:20260423T231954Z
UID:12192262025-09-28 10:00:00+00:00achurchnearyou
CATEGORIES:
DESCRIPTION:Service led by Rev. Ben Dyson
GEO:-1.582747;51.994992
LOCATION:St. Peter & St. Paul\, Long Compton
URL:https://www.southwarwickshirechurches.co.uk/
END:VEVENT
END:VCALENDAR
