BEGIN:VCALENDAR
VERSION:2.0
PRODID:-//achurchnearyou.com//eventfeed//EN
CALSCALE:GREGORIAN
METHOD:PUBLISH
X-WR-TIMEZONE:UTC
BEGIN:VEVENT
SUMMARY:All Age Christmas Holy Communion
DTSTART:20251225T110000Z
DTEND:20251225T120000Z
DTSTAMP:20260423T170653Z
UID:12543812025-12-25 11:00:00+00:00achurchnearyou
CATEGORIES:
DESCRIPTION:Service led by Rev. Ben Dyson
GEO:-1.582747;51.994992
LOCATION:St. Peter & St. Paul\, Long Compton
URL:https://www.southwarwickshirechurches.co.uk/
END:VEVENT
END:VCALENDAR
