BEGIN:VCALENDAR
VERSION:2.0
PRODID:-//achurchnearyou.com//eventfeed//EN
CALSCALE:GREGORIAN
METHOD:PUBLISH
X-WR-TIMEZONE:UTC
BEGIN:VEVENT
SUMMARY:Easter Sunday Service
DTSTART:20260405T093000Z
DTEND:20260405T103000Z
DTSTAMP:20260420T145026Z
UID:13192482026-04-05 09:30:00+00:00achurchnearyou
CATEGORIES:
DESCRIPTION:A Service for Everyone with Words and Music to Celebrate the R
 esurrection
GEO:-1.285282;52.214494
LOCATION:St. Leonard's Priors Marston
URL:https://www.achurchnearyou.com/church/13125/service-and-events/events/
 1319248/
END:VEVENT
END:VCALENDAR
