BEGIN:VCALENDAR
VERSION:2.0
PRODID:-//achurchnearyou.com//eventfeed//EN
CALSCALE:GREGORIAN
METHOD:PUBLISH
X-WR-TIMEZONE:UTC
BEGIN:VEVENT
SUMMARY:Easter sunrise Service
DTSTART:20260405T053000Z
DTEND:20260405T063000Z
DTSTAMP:20260426T014723Z
UID:13064282026-04-05 05:30:00+00:00achurchnearyou
CATEGORIES:
DESCRIPTION:Sunrise Service on Campion Hill
GEO:-1.528566;52.293864
LOCATION:St Paul's\, Leamington Spa
URL:https://www.achurchnearyou.com/church/13139/service-and-events/events/
 1306428/
END:VEVENT
END:VCALENDAR
