BEGIN:VCALENDAR
VERSION:2.0
PRODID:-//achurchnearyou.com//eventfeed//EN
CALSCALE:GREGORIAN
METHOD:PUBLISH
X-WR-TIMEZONE:UTC
BEGIN:VEVENT
SUMMARY:Worship Together Holy Communion
DTSTART:20241229T100000Z
DTEND:20241229T110000Z
DTSTAMP:20260425T122833Z
UID:11201802024-12-29 10:00:00+00:00achurchnearyou
CATEGORIES:
DESCRIPTION:Benefice service with Grindleford and Bamford
GEO:-1.649195;53.332991
LOCATION:St Michael and All Angels\, Hathersage
URL:https://www.achurchnearyou.com/church/13179/service-and-events/events/
 1120180/
END:VEVENT
END:VCALENDAR
