BEGIN:VCALENDAR
VERSION:2.0
PRODID:-//achurchnearyou.com//eventfeed//EN
CALSCALE:GREGORIAN
METHOD:PUBLISH
X-WR-TIMEZONE:UTC
BEGIN:VEVENT
SUMMARY:Messy Church
DTSTART:20250601T150000Z
DTEND:20250601T170000Z
DTSTAMP:20260425T011048Z
UID:11907862025-06-01 15:00:00+00:00achurchnearyou
CATEGORIES:
DESCRIPTION:Messy church with activities for everyone at Hathersage Method
 ist Church
GEO:-1.649195;53.332991
LOCATION:St Michael and All Angels\, Hathersage
URL:https://www.achurchnearyou.com/church/13179/service-and-events/events/
 1190786/
END:VEVENT
END:VCALENDAR
